BEGIN:VCALENDAR
VERSION:2.0
PRODID:-//Maison des Sciences Humaines et sociales Paris Nord - ECPv6.8.2.1//NONSGML v1.0//EN
CALSCALE:GREGORIAN
METHOD:PUBLISH
X-ORIGINAL-URL:https://www.mshparisnord.fr
X-WR-CALDESC:Évènements pour Maison des Sciences Humaines et sociales Paris Nord
REFRESH-INTERVAL;VALUE=DURATION:PT1H
X-Robots-Tag:noindex
X-PUBLISHED-TTL:PT1H
BEGIN:VTIMEZONE
TZID:Europe/Paris
BEGIN:DAYLIGHT
TZOFFSETFROM:+0100
TZOFFSETTO:+0200
TZNAME:CEST
DTSTART:20170326T010000
END:DAYLIGHT
BEGIN:STANDARD
TZOFFSETFROM:+0200
TZOFFSETTO:+0100
TZNAME:CET
DTSTART:20171029T010000
END:STANDARD
END:VTIMEZONE
BEGIN:VEVENT
DTSTART;TZID=Europe/Paris:20171113T090000
DTEND;TZID=Europe/Paris:20171113T150000
DTSTAMP:20260421T112303
CREATED:20171124T134149Z
LAST-MODIFIED:20171124T142051Z
UID:10006468-1510563600-1510585200@www.mshparisnord.fr
SUMMARY:Résistances en jeu
DESCRIPTION:Manifestation à la MSH Paris Nord   Lundi 13 Novembre 2017\, de 9:00 à 13:00\,  Amphithéâtre   [ Matinée d’étude ] \nDans le cadre du projet «Migrations de savoirs scéniques entre l’Amérique latine et l’Europe à l’époque des dictatures militaires\, et héritages contemporains»\n\n\n\n\n\n\nResponsable(s) scientifique(s)\nArianna B. De Sanctis\n\n\n\n\nLieu(x)\nMSH Paris Nord\n20 av George Sand\n93210 St-Denis la Plaine\ntél : 01 55 93 93 00Métro ligne 12 : « Front populaire »\nRER B : « La Plaine – Stade de France »Accessible aux personnes à mobilité réduite\n\n\n\n\n\n\n\n\n\n\n programme-resistance-en-jeu-13nov17.pdf\n\n\n\n\n\n\n• Entre 1960 et 1990\, plusieurs pays d’Amérique latine ont connu et subi des dictatures qui ont conditionné politiquement\, socialement\, économiquement et esthétiquement la vie des citoyens locaux. Pendant cette période\, en guise de lutte et de résistance\, plusieurs artistes\, performers et groupes de théâtre ont tissu un véritable réseau international aussi bien sur le continent qu’avec des collègues venant d’Europe. Ces échanges ont été conséquents à plusieurs niveaux et ont eu un impact unique sur l’histoire du théâtre locale et internationale. Cependant\, ceux-ci ont été très peu analysés\, probablement en raison de leur complexité et à cause de leur appartenance à une histoire récente encore mal connue et peu étudiée. Nous nous proposons d’inviter quelques performeurs argentins et chiliens le temps d’une matinée afin de réfléchir par le corps et par la parole sur ce phénomène et sa resonance sur le territoire latino-américain et européen\, aussi bien durant les dictatures qu’aujourd’hui\, trente ans plus tard.\nGrâce aux interventions de témoins ou d’héritiers des réseaux théâtraux tissus entre l’Amérique latine et l’Europe\, nous pourrions mieux comprendre\, dans toutes leurs nuances\, les dynamiques esthétiques et politiques qui se sont développées pendant la deuxième moitié du XXe siècle. \n>> Inscription à l’adresse : ab.desanctis@gmail.com
URL:https://www.mshparisnord.fr/event/resistances-en-jeu/
LOCATION:Métro ligne 12 : « Front populaire »\, accessible aux personnes à mobilité réduite
CATEGORIES:Actualités,Manifestations scientifiques
END:VEVENT
END:VCALENDAR