BEGIN:VCALENDAR
VERSION:2.0
PRODID:-//Maison des Sciences Humaines et sociales Paris Nord - ECPv6.8.2.1//NONSGML v1.0//EN
CALSCALE:GREGORIAN
METHOD:PUBLISH
X-WR-CALNAME:Maison des Sciences Humaines et sociales Paris Nord
X-ORIGINAL-URL:https://www.mshparisnord.fr
X-WR-CALDESC:Évènements pour Maison des Sciences Humaines et sociales Paris Nord
REFRESH-INTERVAL;VALUE=DURATION:PT1H
X-Robots-Tag:noindex
X-PUBLISHED-TTL:PT1H
BEGIN:VTIMEZONE
TZID:Europe/Paris
BEGIN:DAYLIGHT
TZOFFSETFROM:+0100
TZOFFSETTO:+0200
TZNAME:CEST
DTSTART:20210328T010000
END:DAYLIGHT
BEGIN:STANDARD
TZOFFSETFROM:+0200
TZOFFSETTO:+0100
TZNAME:CET
DTSTART:20211031T010000
END:STANDARD
END:VTIMEZONE
BEGIN:VEVENT
DTSTART;TZID=Europe/Paris:20210409T140000
DTEND;TZID=Europe/Paris:20210409T160000
DTSTAMP:20260420T054533
CREATED:20210301T152852Z
LAST-MODIFIED:20210402T151644Z
UID:10006438-1617976800-1617984000@www.mshparisnord.fr
SUMMARY:Séminaire GESTES\, Comprendre le processus de conception d’un système de travail dans l’indivisibilité du temps (visio)
DESCRIPTION:Le GIS Gestes (groupe d’études sur le travail et la santé au travail) présente le séminaire : Le travail en transformation ? \nLors de cette 7e séance Marie Chizallet (LaPEA\, université de Paris et université Gustave Eiffel)\, lauréate du prix de thèse du Gestes évoquera sa thèse en ergonomie intitulée Comprendre le processus de conception d’un système de travail dans l’indivisibilité du temps : le cas d’agriculteurs en transition agroécologique\, discutée par Marc Moraine\, ingénieur de recherche en agronomie (UMR INNOVATION\, INRAE). \n\nRésumé de la thèse\n\n\nCette thèse porte sur la compréhension de processus de conception de systèmes de travail d’agriculteurs engagés dans une transition agroécologique. Elle s’appuie sur la mise en œuvre d’une méthode : la Chronique du Changement. En proposant aux agriculteurs de construire des récits de conception\, elle révèle le processus de conception global dans lequel ils sont engagés. Ce processus est analysé à partir d’un modèle dialogique de la conception (e.g. Béguin\, 2010) qui met en tension les pôles du virtuel et du réel\, auxquels nous ajoutons un pôle du concevable pour donner à voir les mouvements entre passé – présent – futur en jeu dans le processus. Ces récits rendent visible l’objet en cours de conception : le système de travail composé de sous-systèmes.L’expérience que fait l’agriculteur de ces sous-systèmes participe à la progression du processus de conception et à la construction par l’agriculteur d’une approche systémique de son objet.En perspective\, cette thèse ouvre sur le rôle de la narration pour l’élaboration de l’expérience d’un processus de conception et sur la notion de conception de systèmes de travail durables. \n\n\ninformations pratiques\nEn raison de la situation sanitaire\, cette séance se tiendra en visio. \n>> inscription sur le lien : \nhttps://framaforms.org/seminaire-du-gis-gestes-marie-chizallet-9-avril-2021-1615892784 \n>> consulter la thèse\, version gratuite et intégrale \n>> consulter les portraits des trois lauréates du prix de thèse 2020 du GIS Gestes \n>> consulter la présentation du GIS GESTES\nhttps://www.mshparisnord.fr/gis/gis-gestes/ \nProchaines séances\n25 mai 2021\nPrésentation de l’ouvrage Cent ans de sous-reconnaissance des maladies professionnelles par les quatre co-directeurs de l’ouvrage\, Catherine Cavalin (IRISSO\, Université Paris Dauphine)\, Emmanuel Henry (IRISSO\, Université Paris Dauphine)\, Jean-Noël Jouzel (CSO\, Sciences Po) et Jérôme Pélisse (CSO\, Sciences Po). Leurs interventions seront discutées par Anne-Sophie Bruno (CHS\, Université Paris 1) et Jorge Muñoz (LABERS\, Université Bretagne Occidentale)\nhttps://www.mshparisnord.fr/event/seminaire-gestes-cent-ans-de-sous-reconnaissance-des-maladies-professionnelles/ \n11 juin 2021\nLéna Masson (LUMEN\, IAE de Lille)\, lauréate du prix de thèse du Gestes pour sa thèse en sciences de gestion intitulée Le mode de gestion d’une industrie à risques\, ses évolutions et ses effets : le cas de la maintenance sous-traitée des centres nucléaires de production d’électricité d’EDF\nhttps://www.mshparisnord.fr/event/seminaire-gestes-le-mode-de-gestion-dune-industrie-a-risques-ses-evolutions-et-ses-effets/ \n7 juillet 2021\nPrésentation de l’ouvrage Les dépossédés de l’open space. Une critique écologique du travail par son autrice\, Fanny Lederlin (EA Rationalités contemporaines\, université de Paris)\nCette présentation sera discutée par Thomas Coutrot (DARES – Ministère du Travail).\nLa séance sera animée par Gregor Bouville (DRM\, Université Paris Dauphine).\nhttps://www.mshparisnord.fr/event/seminaire-gestes-les-depossedes-de-lopen-space/ \nSeptembre-octobre 2021\nCyrine Gardes (CERTOP\, Université Toulouse 2)\, lauréate du prix de thèse du Gestes pour sa thèse de sociologie intitulée Un salariat à bas coût. Le travail dans une enseigne low-cost de bricolage
URL:https://www.mshparisnord.fr/event/seminaire-gestes-comprendre-le-processus-de-conception-dun-systeme-de-travail-dans-lindivisibilite-du-temps/
LOCATION:visio-conférence
CATEGORIES:Manifestations scientifiques
ATTACH;FMTTYPE=image/jpeg:https://www.mshparisnord.fr/wp-content/uploads/2021/03/seminaire-GESTES.jpg
END:VEVENT
END:VCALENDAR