BEGIN:VCALENDAR
VERSION:2.0
PRODID:-//Maison des Sciences Humaines et sociales Paris Nord - ECPv6.8.2.1//NONSGML v1.0//EN
CALSCALE:GREGORIAN
METHOD:PUBLISH
X-WR-CALNAME:Maison des Sciences Humaines et sociales Paris Nord
X-ORIGINAL-URL:https://www.mshparisnord.fr
X-WR-CALDESC:Évènements pour Maison des Sciences Humaines et sociales Paris Nord
REFRESH-INTERVAL;VALUE=DURATION:PT1H
X-Robots-Tag:noindex
X-PUBLISHED-TTL:PT1H
BEGIN:VTIMEZONE
TZID:Europe/Paris
BEGIN:DAYLIGHT
TZOFFSETFROM:+0100
TZOFFSETTO:+0200
TZNAME:CEST
DTSTART:20210328T010000
END:DAYLIGHT
BEGIN:STANDARD
TZOFFSETFROM:+0200
TZOFFSETTO:+0100
TZNAME:CET
DTSTART:20211031T010000
END:STANDARD
END:VTIMEZONE
BEGIN:VEVENT
DTSTART;TZID=Europe/Paris:20211213T090000
DTEND;TZID=Europe/Paris:20211213T170000
DTSTAMP:20260420T001836
CREATED:20200622T085941Z
LAST-MODIFIED:20211214T144132Z
UID:10006916-1639386000-1639414800@www.mshparisnord.fr
SUMMARY:Exposition\, Narra : la face cachée des textes littéraires
DESCRIPTION:Installations artistiques et vidéo par Claude-CLd (Claude Patricia Tardif)\nLes créations visuelles de Narra donnent à voir le rythme des textes littéraires en fonction de la longueur de leurs paragraphes. Elles ont été réalisées avec différents algorithmes\, dont le logiciel Narra 2.0 développé afin de mesurer les séquences textuelles (paragraphes alinéaires et chapitres). \nLes œuvres de Narra montrent qu’un texte littéraire n’est pas qu’un message ; il est aussi un enchaînement de séquences de longueurs et de durées variables qui lui donne sa morphologie. \nLes textes littéraires sont les cocréateurs des œuvres de Narra. Selon la longueur de leurs paragraphes\, ils déterminent les formes et les couleurs à partir d’une palette prédéfinie suivante : du rouge pour un paragraphe court\, passant par un jaune-vert pour un paragraphe de moyenne longueur\, jusqu’au bleu pour un paragraphe long. \nDe façon inédite\, les œuvres de Narra dévoilent une facette des textes littéraires : leur morphologie et leur rythme\, constitutifs de leur identité. C’est tout l’enjeu de cette recherche-création dont les œuvres exposées font partie : rendre visible une autre réalité des textes littéraires\, visuelle et temporelle\, au moyen d’un langage visuel. Dans cette exposition aux médiums variés – vidéo\, art numérique\, peinture\, lumière et électronique – les œuvres ne relèvent ni du registre de l’expression de l’artiste\, ni d’une vision du monde à travers son prisme\, ni du sensible\, elles sont un moyen de découverte et de connaissances en opérant comme un révélateur d’une propriété du texte littéraire qui les a en partie produites. \n>> télécharger la présentation en image de Narra (pdf) \nInformations pratiques\nExposition sur 4 niveaux ouverte du 15 septembre au 15 décembre 2021\nde 9h à 17h du lundi au vendredi.\nEntrée libre et gratuite\, merci de respecter les consignes sanitaires en cours. \n\nVisite commentée et rencontre avec l’artiste lundi 29 novembre 2021 de 17h à 19h suivi d’un cocktail.\nOuvert à tous et gratuit.\nProfitez des journées européennes du patrimoine\, le samedi 18 septembre 2021 à la MSH Paris Nord pour visiter l’exposition commentée par Claude Tardif (sur réservation).\n>> consulter le programme des journées européennes du patrimoine à la MSH Paris Nord et réserver sur\nhttps://www.mshparisnord.fr/event/journees-europeennes-du-patrimoine-a-la-msh-paris-nord-2021/\n\nNarra est un projet de recherche-création qui bénéficie du soutien de la MSH Paris Nord dans le cadre de son appel à projets.
URL:https://www.mshparisnord.fr/event/exposition-narra/2021-12-13/
LOCATION:MSH Paris Nord\, 20\, avenue George Sand\, La Plaine Saint-Denis\, Métro ligne 12 : « Front populaire »\, accessible aux personnes à mobilité réduite\, 93210\, France
CATEGORIES:Manifestations scientifiques
ATTACH;FMTTYPE=image/jpeg:https://www.mshparisnord.fr/wp-content/uploads/2020/06/narra2021-250px.jpg
END:VEVENT
BEGIN:VEVENT
DTSTART;TZID=Europe/Paris:20211213T150000
DTEND;TZID=Europe/Paris:20211213T180000
DTSTAMP:20260420T001836
CREATED:20211117T154039Z
LAST-MODIFIED:20211213T110138Z
UID:10007036-1639407600-1639418400@www.mshparisnord.fr
SUMMARY:Correspondances : des liens qui font lieux (annulé)
DESCRIPTION:Attention\, annulé pour cause de COVID au sein de l’équipe\, report prochainement. \nUn projet de recherche-création avec les résidentes d’un centre d’accueil Aurore \nAu centre d’hébergement d’urgence Maison Marceau\, géré par l’association Aurore\, résident cinquante-cinq femmes en situations de précarité. Le projet consiste à retracer les parcours de vie des résidentes\, qui passent d’un centre à un autre. Dans une démarche de recherche-action\, notre intention est de mener\, avec les travailleurs sociaux\, une double réflexion sur les problèmes structurels et les solutions temporaires que les hébergements d’urgence essaient d’apporter. C’est une invitation à réfléchir sur les formes d’hospitalité que la ville peut proposer et sur les interrelations entre les hébergées lors d’une vie éphémère dans le centre. Les résidentes seront activement engagées dans le projet qui comprend une étape d’entretiens\, d’ateliers d’expression et d’écriture collectives\, et une deuxième phase autour du rapport à l’espace et à la ville dans une dynamique de recherche-création. \nIntervenants\n\n\nFlorian BULOU FEZARD — Anciennement veilleur de nuit au CHU Maison Marceau Aurore\, architecte\, doctorant en esthétique\, HAR EA 4414\, Université Paris Nanterre\nCamilla CARDIA – Cadreuse\nMaxime GENY – Architecte\, doctorant en architecture\, LAA – UMR 7218 LAVUE CNRS\nMarion MORVAN — Comédienne\, artiste-intervenante\nJoffrey PAILLARD — Designer\, doctorant en architecture\, LAA – UMR 7218 LAVUE CNRS\nMina SAIDI-SHAROUZ – Architecte\, documentariste\, LAA – UMR 7218 LAVUE CNRS\n\ninformations pratiques\nAnnulation COVID\n \n13 décembre 2021 de 15h à 18h\nMSH Paris Nord\, salle 410\, 4e étage\n \nUn projet de recherche qui bénéficie du soutien de la MSH Paris Nord dans le cadre de son appel à projets.
URL:https://www.mshparisnord.fr/event/correspondances-des-liens-qui-font-lieux/
LOCATION:MSH Paris Nord\, 20\, avenue George Sand\, La Plaine Saint-Denis\, Métro ligne 12 : « Front populaire »\, accessible aux personnes à mobilité réduite\, 93210\, France
CATEGORIES:Manifestations scientifiques
ATTACH;FMTTYPE=image/jpeg:https://www.mshparisnord.fr/wp-content/uploads/2021/11/Correspondances_dec21-250px.jpg
END:VEVENT
BEGIN:VEVENT
DTSTART;TZID=Europe/Paris:20211213T170000
DTEND;TZID=Europe/Paris:20211213T190000
DTSTAMP:20260420T001836
CREATED:20211201T141830Z
LAST-MODIFIED:20211202T093539Z
UID:10007038-1639414800-1639422000@www.mshparisnord.fr
SUMMARY:Au croisement du théâtre et de la sociologie
DESCRIPTION:Au croisement du théâtre et de la sociologie\, retours sur deux expériences de recherche-création\nRencontres professionnelles ouvertes autour de deux projets faisant converger théâtre et sociologie dans l’approche d’un même territoire \nLe “Plateau de recherche-création”\, mené par des artistes-chercheur.se.s de diverses disciplines (danse\, sociologie\, mise en scène\, scénographie). Une recherche-création à plusieurs visages qui a donné lieu à un film expérimental réalisé sur le Campus Condorcet Il faut toujours un témoin (projet subventionné EUR-ArTeC). \nLes Théâtres de quartier – Rencontres à la Plaine\, mené par deux artistes-chercheur.se.s de l’IHEAL et de l’université Paris 8 qui ont invité des artistes de théâtres communautaires latino-américain.e.s et espagnols à venir travailler avec les habitant.e.s\, étudiant.e.s et usager.e.s du quartier de la Plaine (projet subventionné MSH Paris Nord – Campus Condorcet – IHEAL\, Sorbonne Nouvelle). \n>> voir la présentation des Théâtres de quartier – Rencontres à la Plaine\nhttps://www.mshparisnord.fr/event/theatres-de-quartier-edition2/2021-10-22/ \nDe ces deux expériences dont nous souhaitons partager les résultats\, émergent plusieurs questions : \n\ncomment raconter un lieu ?\nquelles méthodologies efficientes pour croiser théâtre et sociologie ?\nquelles implications des habitant.e.s dans les projets culturels de territoire ?\n\nProgramme\n\nprojection du film “Il faut toujours un témoin” et retour d’expérience\nprojection du film des restitutions des ateliers “théâtres de quartier” et retour d’expérience\ndiscussion\n\n>> télécharger le flyer (pdf) \nCoordination\nFlorencia Dansilio\, Louise Roux et Baptiste Mongis \nAvec la participation\nde Carolina E. Santo\, Victoria Colona\, Celidja Pornon\, Shezenia Hanover Valda\, Mariana Brodiano\, Néstor López\, Virginia Martínez\, Sebastián Ramírez\, Anaïs Ruales et Maxence Vassilyevitch. \nProjets soutenus par EUR-ArTeC\, la MSH Paris Nord\, le Campus Condorcet\, le laboratoire EA 1573 de l’université Paris 8 et l’IHEAL\, en collaboration avec Hoc Momento et le LandyKadi\, et en partenariat avec La Maison de quartier de la Plaine et le théâtre de la Belle Étoile. \nInformations pratiques\nlundi 13 décembre de 17h à 19h \nMaison des Sciences de l’Homme Paris Nord – Amphithéâtre\n20 Av. George Sand\, 93210 Saint-Denis\nMétro ligne 12 – Front Populaire
URL:https://www.mshparisnord.fr/event/au-croisement-du-theatre-et-de-la-sociologie/
LOCATION:MSH Paris Nord\, 20\, avenue George Sand\, La Plaine Saint-Denis\, Métro ligne 12 : « Front populaire »\, accessible aux personnes à mobilité réduite\, 93210\, France
CATEGORIES:Manifestations scientifiques
ATTACH;FMTTYPE=image/jpeg:https://www.mshparisnord.fr/wp-content/uploads/2021/12/croisement-theatre-socio-13dec21-250px.jpg
END:VEVENT
END:VCALENDAR