BEGIN:VCALENDAR
VERSION:2.0
PRODID:-//Maison des Sciences Humaines et sociales Paris Nord - ECPv6.8.2.1//NONSGML v1.0//EN
CALSCALE:GREGORIAN
METHOD:PUBLISH
X-ORIGINAL-URL:https://www.mshparisnord.fr
X-WR-CALDESC:Évènements pour Maison des Sciences Humaines et sociales Paris Nord
REFRESH-INTERVAL;VALUE=DURATION:PT1H
X-Robots-Tag:noindex
X-PUBLISHED-TTL:PT1H
BEGIN:VTIMEZONE
TZID:Europe/Paris
BEGIN:DAYLIGHT
TZOFFSETFROM:+0100
TZOFFSETTO:+0200
TZNAME:CEST
DTSTART:20220327T010000
END:DAYLIGHT
BEGIN:STANDARD
TZOFFSETFROM:+0200
TZOFFSETTO:+0100
TZNAME:CET
DTSTART:20221030T010000
END:STANDARD
END:VTIMEZONE
BEGIN:VEVENT
DTSTART;VALUE=DATE:20221121
DTEND;VALUE=DATE:20221123
DTSTAMP:20260423T082248
CREATED:20220307T143817Z
LAST-MODIFIED:20221114T133832Z
UID:10007222-1668988800-1669161599@www.mshparisnord.fr
SUMMARY:Colloque\, Inégalités socio-territoriales de prise en charge des patient.e.s atteint.e.s de cancer en France
DESCRIPTION:Colloque sur les inégalités socio-territoriales de prise en charge des patient.e.s atteint.e.s de cancer en France (métropole/Outre-mer) \nA l’occasion de la clôture de l’étude collective CORSAC (2011-2022) centrée sur les parcours de soins comparés de 150 patient.e.s atteint.e.s de cancer en métropole\, à la Réunion et à Mayotte\, nous organisons en partenariat avec le CENS (UMR 6025\, Université de Nantes) et le SOPHIAPOL (EA3932\, Université Paris-Nanterre) un colloque international qui se déroulera sur le site de la MSH Paris Nord\, les 21 et 22 novembre 2022. Il s’agira d’élargir la focale de cette étude afin de comprendre comment ses résultats entrent en résonance avec d’autres travaux portant sur le cancer\, mais aussi sur d’autres pathologies chroniques et d’autres terrains métropolitains et ultra-marins – concernant les inégalités sociales et géographiques de santé. \nprogramme\nLundi 21 novembre 2022\nIntroduction aux deux journées du colloque (Anne Vega)\nLe terrain des Outre-mer : perspective comparative et politique \nMatinée 09h30-12h30\nDes difficultés rencontrées par les soignés aux recherches-actions\nModération : Nicolas Roinsard & Anne Vega \nParcours de soins comparés en métropole\, à la Réunion et à Mayotte : principaux résultats de l’étude socio-anthropologique CORSAC\nAnne Vega – université de Nanterre\, Ibtissem Ben Dridi – EHESP\,\nNorbert Amsellem – CESP/Inserm \nObstacles à l’accès aux droits et aux soins à Mayotte : présentation de l’étude socio-anthropologique de Médecins du Monde\nJuan-Diego Poveda – référent sciences Ssociales à Médecins du Monde\,\nRozenn Kalvar et Delphine Chauvier – Médecins du Monde \nContexte socio-culturel et géographie complexe dans le cadre d’inégalités d’accès aux soins en Guyane française : enjeux pour une formation d’infirmières en pratiques avancées\nBlandine Solignat\, IFSI et Université de Guyane \nPoster\, De la consultation d’annonce à la première hospitalisation : l’infirmier\, pilier du parcours de soins des patients atteints de cancer ?\nStéphanie Federbe et Ketty Vigne\, CHU de la Réunion \nDiscussion transversale des communications de la 1ère session \nAprès-midi 14h-17h\nMobilités thérapeutiques\, migrations et évacuations sanitaires\nModération : Benjamin Derbez & Ibtissem Ben Dridi \nAux frontières politiques du soin. Trajectoires thérapeutiques et prises en charge des personnes atteintes de cancer entre l’Union des Comores\, Mayotte et La Réunion\, Étude CORSAC 3\nIbtissem Ben Dridi – École des Hautes Études en Santé Publique\,\nAnne Vega – Université de Nanterre \nLes inégalités face aux savoir-être et savoir-faire des évacuations sanitaires chez les patients atteints de cancer en Polynésie française\nAlice Servy – Université de Strasbourg \nExpertise Oncologique en territoire isolé d’Outre-Mer : retour d’expérience d’un CRLCC dans la prise en compte inégalités sociales\, culturelles et d’accès aux soins sur les territoires de Wallis et Futuna et Saint Pierre et Miquelon\nMarc Pracht – Oncologue au CLCC Eugène Marquis à Rennes et coopérateur médical pour les établissements partenaires d’Outre-Mer\,\nRobin Morcet-Delattre – interne au CLCC de Rennes\,\nNadia Leboulanger – infirmière au CLCC de Rennes et infirmière coordinatrice pour les établissements partenaires d’Outre-Mer \nDiscussion transversale des communications de la 2ème session \nMardi 22 novembre 2022\nLes enquêtes qualitatives et quantitatives en métropole \nMatinée 10h-12h30\nInégalités territoriales\, politiques publiques et réseaux\nModération : Rosane Braud & Norbert Amsellem \nMobilités thérapeutiques et accès aux soins pour cancers du sein en France : quels vécus pour les femmes originaires d’Afrique subsaharienne ? Projet SENOVIE\nLouise Ludet – EHESP\, Clémence Schantz – IRD \nÉvaluer l’impact différencié de la métropolisation des soins de cancer en France sur la qualité de vie des patients. Premiers résultats de l’étude Centravie\nYohan Fayet – Département Sciences Humaines et Sociales du CLCC Léon Bérard à Lyon\,\nVéronique Lucas-Gabriell – IRDES\, Amélie Anota – CLCC de Lyon\,\nAlice Gauchet – CLCC de Lyon\,\nEmilie Charton – CLCC de Lyon\,\nGuillaume Piessen – CHRU de Lille\,\nVéronique Christophe – CLCC de Lyon \nLes effets des configurations territoriales sur les parcours de soins en cancérologie hématologique : l’exemple du Centre de Lutte Contre le Cancer Léon Bérard à Lyon\nMilhan Chaze\, Laurent Meriade et Corinne Rochette – Université Clermont Auvergne\, Anne-Sophie Michalet – CLCC de Lyon \nDiscussion transversale des communications de la 3e session \nAprès-midi 14h-17h\nLa « démocratie sanitaire » en question\nModération : Sylvie Morel \nQuand les inégalités territoriales d’accès aux soins influent sur la trajectoire des personnes atteintes de cancer : enquête exploratoire multi-sites\nZoé Maïmouna Dramé\, Université de Nantes \nUne enquête sur l’engagement de patients bénévoles et salariés dans la lutte contre le cancer en France : début de problématisation\nEstelle Rousseau\, future doctorante en sociologie \nAvoir des troubles psychiques et un cancer : les obstacles rencontrés dans le parcours de soin\, Projet CANOPÉE\nCoralie Gandré – IRDES\,\nDelphine Moreau – EHESP\,\nIbtissem Ben Dridi – EHESP\,\nAnna-Veera Seppanen – IRDES\, Magali Coldefy – IRDES \nDiscussion d’ensemble des communications de la 4e session \n>>télécharger le programme (pdf) \nComité d’organisation\nAnne Vega\, Norbert Amsellem et Ibtissem Ben Dridi \nComité scientifique\nNorbert Amsellem\, Rosane Braud\, Ibtissem Ben Dridi\, Benjamin Derbez\, Aurore Loretti\, Sylvie Morel\, Anne Paillet\, Laure Pitti\, Nicolas Roinsard et Anne Vega \nAppel  à communication\nAppel ouvert jusqu’au 15 juin 2022 (nouvelle date)\, à consulter sur cette page\nhttps://www.mshparisnord.fr/appels-a-communications/inegalites-socio-territoriales-de-prise-en-charge-des-patient-e-s-a-tteint-e-s-de-cancer-en-france/ \nInformations pratiques\n21 et 22 novembre 2022\nColloque en hybride \n\nà la MSH Paris Nord\, salle panoramique 4e étage\nen distanciel via la modalité webinaire de Zoom\nhttp://univ-nantes-fr.zoom.us/j/91997313963‌\n\nL’accès au colloque est gratuit\, mais l’inscription est obligatoire colloquemshpn@gmail.com \nPhoto : Transport sanitaire\, Mayotte de Anne Vega \nUn projet de recherche qui bénéficie du soutien de la MSH Paris Nord dans le cadre de son appel à projets.
URL:https://www.mshparisnord.fr/event/colloque-inegalites-socio-territoriales-de-prise-en-charge-des-patient-e-s-atteint-e-s-de-cancer-en-france-2/
LOCATION:MSH Paris Nord\, 20\, avenue George Sand\, La Plaine Saint-Denis\, Métro ligne 12 : « Front populaire »\, accessible aux personnes à mobilité réduite\, 93210\, France
CATEGORIES:Manifestations scientifiques
ATTACH;FMTTYPE=image/jpeg:https://www.mshparisnord.fr/wp-content/uploads/2022/03/inegalite-socio-territoriales-250.jpg
END:VEVENT
BEGIN:VEVENT
DTSTART;TZID=Europe/Paris:20221122T083000
DTEND;TZID=Europe/Paris:20221122T173000
DTSTAMP:20260423T082248
CREATED:20220608T080413Z
LAST-MODIFIED:20221102T091639Z
UID:10007438-1669105800-1669138200@www.mshparisnord.fr
SUMMARY:Exposition\, In the Banlieues: Oakland/Saint-Denis
DESCRIPTION:In the Banlieues: Oakland / Saint-Denisécrire la ville collectivement\nSérie d’expositions internationales autour des banlieues en France et aux États-Unis\, In the Banlieues: Oakland/Saint-Denis est présentée simultanément à Paris\, à Saint-Denis notamment à la MSH Paris Nord\, à San Francisco et à Oakland. \nQuelle que soit la manière de les nommer – banlieues\, périphéries\, suburbs\, franges urbaines… cette exposition met en lumière le retournement symbolique du centre à la périphérie. Mouvements artistiques\, luttes sociales\, innovations urbaines : les banlieues d’Oakland en Californie et de Saint-Denis imposent aujourd’hui leur influence et inventent des solutions aux enjeux de pauvreté et de développement urbain accéléré auxquels les métropoles font face. \n“Rassemblant un corpus hybride d’images d’archives\, maquettes\, tableaux\, installations artistiques\, objets\, vidéos\, cette exposition explore les pratiques culturelles et habitantes en urbanisme. Des lieux\, des personnes\, des histoires les constituent\, dessinant\, loin des clichés\, des portraits de banlieues composites. Il y a urgence à reconnaître celles et ceux qui y vivent au jour le jour\, celles et ceux qui y travaillent et qui y créent.” June Grant et Laure Gayet\, co-commissaires de l’exposition. \nDates\n\n\nà Saint-Denis\n\nExposition à la Maison des Sciences de l’Homme Paris Nord du 17 septembre au 15 mars 2023 (prolongation)(attention\, la visite du 4e étage est possible seulement de 12h30 à 14h\, merci de votre compréhension)Vernissage festif et visites guidées lors des journées européennes du patrimoine\, le samedi 17 septembre 2022informations sur la page https://www.mshparisnord.fr/event/journees-europeennes-du-patrimoine-a-la-msh-paris-nord-2022/\ndans des espaces publics de Saint-Denis à partir de septembre 2022\nPerformances Spaces 25\, 29\, 30 juin et 1\, 2\, 6\, 7\, 9 juillet 2022 entre la Halle du Marché et la Basilique de Saint-Denis\n\n\nà San Francisco et à Oakland : de juillet à décembre 2022\nen ligne : City/Cité – le cycle de conférences invite plusieurs villes du monde à partager leurs innovations culturelles et urbaines à partir de septembre (dates à confirmer)\nà Paris\, au Pavillon de l’Arsenal du 15 juin à fin août 2022\n\n\n>> site du programme de coopération https://www.oaklandsaintdenis.org \nUn projet de recherche qui bénéficie du soutien de la MSH Paris Nord et de Plaine Commune dans le cadre de leur appel à projets commun. \nL’exposition est coproduite par le Pavillon de l’Arsenal\, la Villa Albertine San Francisco et California Humanities ; en partenariat avec SPUR San Francisco\, la Maison des Sciences de l’Homme Paris Nord ; avec le soutien de la fondation 836M\, l’Institut Français\, la Fondation Art Explora ; en collaboration avec les villes d’Oakland et de Saint-Denis\, Périféeries et avec la complicité d’Arte.
URL:https://www.mshparisnord.fr/event/exposition-in-the-banlieues-oakland-saint-denis/2022-11-22/
LOCATION:MSH Paris Nord\, 20\, avenue George Sand\, La Plaine Saint-Denis\, Métro ligne 12 : « Front populaire »\, accessible aux personnes à mobilité réduite\, 93210\, France
CATEGORIES:Manifestations scientifiques
ATTACH;FMTTYPE=image/jpeg:https://www.mshparisnord.fr/wp-content/uploads/2022/06/oaklandsaintdenis-2022-250px.jpg
END:VEVENT
BEGIN:VEVENT
DTSTART;TZID=Europe/Paris:20221122T140000
DTEND;TZID=Europe/Paris:20221122T170000
DTSTAMP:20260423T082248
CREATED:20220209T142326Z
LAST-MODIFIED:20231204T134819Z
UID:10006524-1669125600-1669136400@www.mshparisnord.fr
SUMMARY:Séminaire | Savoirs et formation des travailleurs et travailleuses en Seine-St-Denis (XIXe-XXIe)
DESCRIPTION:Recherche et valorisation des sources\nLe projet vise à mettre au jour et à rassembler les sources (archives de diverses natures) permettant de documenter les actions éducatives – au sens large\, incluant différentes initiatives dans les domaines culturel\, socio-politique\, linguistique\, professionnel… – conduites sur le territoire de la Seine-Saint-Denis depuis le XIXe s. Ces actions ont touché les adultes des couches populaires (population ouvrières\, employé·es…) qui se sont installées en vagues migratoires successives sur ce territoire et ont accompagné le développement des villes du département. \nProgramme\nSéance 01 – 28 mars 2022\nDes fondations du Grand Paris à l’avènement de la Seine-Saint-Denis\nUn territoire populaire en mutation\, laboratoire des cultures et des politiques urbaines (XIXe-XXIe siècles) \nEmmanuel Bellanger\ndirecteur de recherche au CNRS\, Centre d’histoire sociale des mondes contemporains\n \n>> télécharger le flyer de présentation du projet de recherche (pdf) \n\nSéance 02 – 7 juin 2022\nLes universités populaires d’aujourd’hui et d’hier en Seine-Saint-Denis : émergences\, filiations\, regains\nJean-Louis Le Grand et Christian Verrier\, U2p8\, université populaire de l’université Paris 8\nHugues Lenoir\, La dionyversité \n\nSéance 03 – 28 septembre 2022\nLes cours d’adultes au XIXe siècle en France et sur l’actuel territoire de la Seine-Saint-Denis\nCarole Christen\, professeure d’histoire contemporaine\, université Le Havre-Normandie et\nFrançois Mathou\, doctorant contractuel en histoire\, université de Lille \nEn seconde partie du séminaire : Étude de sources sur les cours du soir tirées de différents fonds d’archives du 93 \n\nSéance 04 – 22 novembre 2022\nLes implantations universitaires en Seine-Saint-Denis et la formation permanente\nMarc Giovaninetti\, historien\, chercheur associé à Pléiade (USPN) et au CHS (Paris 1)\, secrétaire de l’association Histoire et Mémoire ouvrières de Seine-Saint-Denis \nLa Seine-Saint-Denis détient sur son territoire les sites et campus de deux universités parisiennes : USPN à Villetaneuse\, et l’université Paris 8 Vincennes – Saint-Denis. Leurs implantations respectives ont donné lieu à bien des obstacles et controverses\, d’autant que l’une comme l’autre ciblaient\, du moins à leur origine\, des publics assez nouveaux et spécifiques : populations modestes majoritairement ouvrières pour la première\, bacheliers et non-bacheliers marqués par l’esprit soixante-huitard pour la deuxième ; le déménagement de celle-ci de Vincennes à Saint-Denis\, dans un environnement communiste hostile au gauchisme\, se compliquait d’un contexte politique très particulier. \nEn seconde partie du séminaire : Étude de sources tirées de différents fonds d’archives du 93 \n\nSéance 05 – 15 juin 2023\nCinéma militant et d’éducation populaire\nTangui Perron\, historien du cinéma\, université Paris 1 Panthéon-Sorbonne\net Vivien Soldé\, attaché d’enseignement et de recherche\, université Paris 8 Vincennes Saint-Denis \nEn seconde partie du séminaire : Vers une exposition\, valorisation des sources tirées de différents fonds d’archives du 93 \n\nSéance 06 – 11 octobre 2023\nLes formations pour les femmes et les hommes immigré·es en Seine-Saint-Denis des années 1950 à nos jours\nAnna Cattan\, doctorante en sciences de l’éducation\, université Paris 8\nFranziska Seitz\, doctorante en histoire contemporaine\, université Paris Est-Créteil \nEn seconde partie du séminaire :  préparation de l’exposition de sources tirées de différents fonds d’archives du 93 \n\nSéance 07 – 5 décembre 2023\n\nÉducations militantes en Seine-Saint-Denis\nStéphane Bonnery\, professeur de sciences de l’éducation et de la formation\, université Paris 8 Vincennes Saint-Denis :\nAu PCF : une formation militante à caractère scolaire\, causes\, pratiques et évolutions (1920-2010) \nPauline Clech\, post-doctorante à l’Institut national d’études démographiques\nLes politiques culturelles en banlieue rouge (années 1960-2010) : effets d’une formation militante \n\nInformations pratiques\n\nSéance 1\, le lundi 28 mars 2022\, de 10h à 13h\nsur le Campus Condorcet\nsalle 3.023 bâtiment de recherche sud\nSéance 2\, le mardi 7 juin 2022\, de 14 à 17h\nà la MSH Paris Nord\, salle panoramique\, 4e étage\net en visio\, même si la primeur est donnée au présentiel\, il sera possible de suivre ce séminaire à distance\nhttps://univ-paris8.zoom.us/j/97997225028?pwd=VjcrUGkrWVhmZnVram90cE1lV2JnQT09\nID de réunion : 979 9722 5028 – Code secret : 824797\nSéance 3\, le mercredi 28 septembre 2022\, de 14 à 17h\nà la MSH Paris Nord\, salle panoramique\, 4e étage\nIl sera possible de suivre ce séminaire à distance sur\nhttps://univ-paris8.zoom.us/j/95647371668?pwd=eVhrT1B6czFyMW50ZDdISVplL1hEQT09\nSéance 4\, le mardi 22 novembre 2022\, de 14h à 17h\nsur le Campus Condorcet\nSalle 2.001\, 2e étage du bâtiment recherche nord\net en visio sur le lien :\nhttps://univ-paris8.zoom.us/j/97915584508?pwd=VTdydzBERklWdDMvMU9ZMUFDeFNhUT09\nSéance 5\, jeudi 15 juin 2023\, de 14h à 17h\nsur le Campus Condorcet\nSalle 0.033\, rez-de-chaussée du bâtiment recherche sud\net en visio sur le lien :\nhttps://univ-paris8.zoom.us/j/91592880197?pwd=TjB2eUxuOXNZMUdSR0E2TkFMUzE0UT09\nSéance 6\, le mercredi 11 octobre 2023\, de 14h à 17h\nsur le Campus Condorcet\nsalle 1.003\n1er étage du bâtiment recherche Nord\net en visio sur le lien :\nhttps://univ-paris8.zoom.us/j/94455879540?pwd=SnZNTFJENStkSXpjZTV2YkhWN1ZhQT09\nSéance 7\, le mardi 5 décembre 2023\, de 14h à 17h\nsur le Campus Condorcet\nsalle 2.001\, (2e étage du bâtiment recherche Nord)\net en visio sur le lien :\nhttps://univ-paris8.zoom.us/j/94455879540?pwd=SnZNTFJENStkSXpjZTV2YkhWN1ZhQT09\n\nCoordination et contact Françoise F. Laot francoise.laot@univ-paris8.fr \n>> consulter la présentation de la journée d’étude du 20 janvier 2023\, Rechercher sur l’histoire des savoirs et de la formation des travailleurs et travailleuses de Seine-Saint-Denis\nhttps://www.mshparisnord.fr/event/journee-detude-rechercher-sur-lhistoire-des-savoirs-et-de-la-formation-des-travailleurs-et-travailleuses-de-seine-saint-denis/ \nProjet soutenu par la MSH Paris Nord et le Campus Condorcet dans le cadre de leur appel à projets commun “Campus universitaires et territoires”
URL:https://www.mshparisnord.fr/event/seminaire-savoirs-et-formation-des-travailleur%c2%b7euse%c2%b7s-st-denis/2022-11-22/
LOCATION:MSH Paris Nord\, 20\, avenue George Sand\, La Plaine Saint-Denis\, Métro ligne 12 : « Front populaire »\, accessible aux personnes à mobilité réduite\, 93210\, France
CATEGORIES:Manifestations scientifiques
ATTACH;FMTTYPE=image/jpeg:https://www.mshparisnord.fr/wp-content/uploads/2022/02/savoir-formation-travailleurs-stdenis-250px.jpg
END:VEVENT
END:VCALENDAR