BEGIN:VCALENDAR
VERSION:2.0
PRODID:-//Maison des Sciences Humaines et sociales Paris Nord - ECPv6.8.2.1//NONSGML v1.0//EN
CALSCALE:GREGORIAN
METHOD:PUBLISH
X-ORIGINAL-URL:https://www.mshparisnord.fr
X-WR-CALDESC:Évènements pour Maison des Sciences Humaines et sociales Paris Nord
REFRESH-INTERVAL;VALUE=DURATION:PT1H
X-Robots-Tag:noindex
X-PUBLISHED-TTL:PT1H
BEGIN:VTIMEZONE
TZID:Europe/Paris
BEGIN:DAYLIGHT
TZOFFSETFROM:+0100
TZOFFSETTO:+0200
TZNAME:CEST
DTSTART:20230326T010000
END:DAYLIGHT
BEGIN:STANDARD
TZOFFSETFROM:+0200
TZOFFSETTO:+0100
TZNAME:CET
DTSTART:20231029T010000
END:STANDARD
END:VTIMEZONE
BEGIN:VEVENT
DTSTART;TZID=Europe/Paris:20230916T140000
DTEND;TZID=Europe/Paris:20230916T173000
DTSTAMP:20260422T070303
CREATED:20230626T074958Z
LAST-MODIFIED:20230904T143102Z
UID:10006770-1694872800-1694885400@www.mshparisnord.fr
SUMMARY:Journées européennes du patrimoine 2023
DESCRIPTION:La 40e édition des Journées Européennes du Patrimoine est placée sous les thèmes : Patrimoine vivant et Patrimoine du sport. La MSH Paris Nord vous propose de partir à la découverte de ses activités de recherche\, à travers des visites\, atelier pour enfants\, vernissage… \nLe temps d’une après-midi\, la MSH Paris Nord vous ouvre son patrimoine vivant.\nOuvert à tous·tes\, gratuit \n>> télécharger le programme complet (pdf) \n  \n  \n  \nProgramme\nDe 14h à 15h – visites du bâtiment et du jardin de la MSH Paris Nord\n \n \n◦ La MSH Paris Nord vous dévoile son beau bâtiment d’architecte\, du 4e étage avec sa vue panoramique\, à son jardin\, lieu de biodiversité\, en passant par son grand auditorium de 300 places équipé d’un dispositif de son spatialisé ! \n◦ Diane Schuh\, musicienne et paysagiste expérimentale\, doctorante du département de musique de l’université Paris 8\, vous emmènera en balade d’observation dans le jardin qui s’inspire du concept de jardin en mouvement du paysagiste Gilles Clément. Les espèces plantées y sont laissées libres à la reconquête\, simplement guidées par quelques fauches annuelles. Nous nous questionnerons : comment porter attention à la multiplicité du vivant ? Comment se rendre attentif à la polyphonie du milieu ? À travers observations et écoutes\, nous pratiquerons l’art de l’attention. \n◦ Durée 1h\nOuvert à tous·tes\, inscription recommandée\n>> inscription sur :\n– Visite de la MSH Paris Nord | Plaine Commune\nou\n– Visite de la MSH Paris Nord | Explore Paris \n>> voir la présentation du jardin \n\nDe 14h à 15h – balade urbaine du quartier \n \n◦ La balade urbaine proposée par Jean-Jacques Clément de l’association Mémoire vivante de la plaine\, débutera à la MSH Paris Nord pour suivre la rue des fillettes et longer le Campus Condorcet et son Humathèque\, observer les derniers vestiges du monde industriel. Nous nous rendrons ensuite devant l’église St-Paul de la Plaine pour admirer son architecture très singulière\, sans manquer de faire un détour par les immenses studios de cinéma. Avec cette balade du quartier de la Plaine Saint-Denis\, nous observerons et prendrons la mesure de la métropolisation en train de se faire !\n◦ Durée 1h\nDépart à 14h devant l’entrée de la MSH Paris Nord (venir à 13h45)\nOuvert à tous·tes sur inscription\n>> inscription sur :\n– Balade urbaine | Plaine Commune\nou\n– Balade urbaine | Explore Paris \n\nDe 15h30 à 16h30 – atelier jardin pour enfants 6 à 12 ans\n \n◦ Proposez à vos enfants de découvrir les plantes du jardin de la MSH Paris Nord\, les relations qu’elles entretiennent entre elles et avec les animaux. On les observera au moyen d’une loupe\, on les décrira\, les dessinera et les coloriera. On écoutera aussi les bruits du jardin en partageant nos expériences car chacun n’entend pas forcément la même chose. Enfin au moyen d’un gros micro plein de poils relié à un enregistreur\, on expérimentera un type particulier d’écoute guidée par l’outil. L’écoute est multiforme ; elle s’apprend !\n◦ Atelier animé par Diane Schuh\, musicienne et paysagiste expérimentale\n◦ Durée 1h\nGroupe de 10 enfants de 6 à 12 ans (sans leurs parents)\, uniquement sur inscription \n>> inscription sur :\n– Atelier jardin pour enfants | Plaine Commune\nou\n– Atelier jardin pour enfants | Explore Paris \nLes parents pourront suivre les autres activités proposées à la MSH Paris Nord durant l’atelier. \n\nde 15h30 à 16h – présentation de l’ouvrage L’Entre deux barres d’Olivier Boucheron et Maria Anita Palumbo \n \n◦ Une yourte installée au pied d’un grand ensemble\, un mur d’immeuble entièrement refaïencé sans autorisation\, des pots de fleurs installées en enfilade\, des remaniements d’appartement : comment les habitants des grands ensembles à travers le monde s’adaptent\, réaménagent\, s’approprient\, reprennent en main les lieux où ils vivent ? Peut-on parler de résistance au projet moderne qu’incarne les grands ensembles ? Si c’est le cas\, pourquoi ? Plusieurs recherches ont été menées à Dakar\, à Shangaï\, à Oulan Bator\, à Zanzibar\, à Stasbourg\, à Moscou…\nMaria Anita Palumbo et Olivier Boucheron qui ont dirigé la publication de l’ouvrage L’Entre deux barres Une ethnographie de la transformation des ensembles de logements collectifs par leurs habitants viendront le présenter et dialoguer avec vous. Ils exposeront également de magnifiques photos de ce tour d’horizon planétaire des grands ensembles.\n◦ Dialogue avec les auteurs et exposition sur le parvis devant la MSH Paris Nord.\nOuvert à tous·tes\, sans réservation\n>> voir la présentation de l’ouvrage \n\nde 16h à 16h30 – vernissage de l’exposition Réformer sensiblement l’enquête publique. Expérimenter le LAB-DeuxièmeGroupe à Malakoff\, Pully et Aubervilliers\nEma Drouin\, Carolina Espírito Santo\, Pauline Guinard et Anne Volvey \n \n◦ Visite guidée de l’exposition issue d’expérimentations en recherche-création sur la sensibilité des habitants aux transformations urbaines\, menées à Malakoff\, Grand Paris (2017-2019)\, à Pully\, agglomération de Lausanne en Suisse (2021-2022) et à l’automne à Aubervilliers\, Grand Paris (2023). L’art peut-il prétendre mener une enquête véritablement publique sur la ville qui se (dé)fait ?\n◦ Ouvert à tous·tes sans réservation\n>> voir la présentation de l’exposition \n\nDe 16h30 à 17h30 \n◦ Clôture de la journée par un goûter\nouvert à tous·tes \n\nInformations pratiques\nsamedi 16 septembre 2023\nde 14h à 17h30\ngratuit pour tous·tes \n20 avenue George Sand\n93210 La Plaine St-Denis\nmétro 12\, Front Populaire\,\nsortie 3 Maison des Sciences de l’Homme Paris Nord \nRéservations des visites et de l’atelier enfants à réaliser sur un seul lien\, en fonction des places disponibles.\n \n>> consulter les JEP du campus Condorcet
URL:https://www.mshparisnord.fr/event/journees-europeennes-du-patrimoine-2023/
LOCATION:MSH Paris Nord\, 20\, avenue George Sand\, La Plaine Saint-Denis\, Métro ligne 12 : « Front populaire »\, accessible aux personnes à mobilité réduite\, 93210\, France
CATEGORIES:Manifestations scientifiques
ATTACH;FMTTYPE=image/png:https://www.mshparisnord.fr/wp-content/uploads/2023/06/jep-16sept2023-250px.png
END:VEVENT
END:VCALENDAR