BEGIN:VCALENDAR
VERSION:2.0
PRODID:-//Maison des Sciences Humaines et sociales Paris Nord - ECPv6.8.2.1//NONSGML v1.0//EN
CALSCALE:GREGORIAN
METHOD:PUBLISH
X-WR-CALNAME:Maison des Sciences Humaines et sociales Paris Nord
X-ORIGINAL-URL:https://www.mshparisnord.fr
X-WR-CALDESC:Évènements pour Maison des Sciences Humaines et sociales Paris Nord
REFRESH-INTERVAL;VALUE=DURATION:PT1H
X-Robots-Tag:noindex
X-PUBLISHED-TTL:PT1H
BEGIN:VTIMEZONE
TZID:Europe/Paris
BEGIN:DAYLIGHT
TZOFFSETFROM:+0100
TZOFFSETTO:+0200
TZNAME:CEST
DTSTART:20240331T010000
END:DAYLIGHT
BEGIN:STANDARD
TZOFFSETFROM:+0200
TZOFFSETTO:+0100
TZNAME:CET
DTSTART:20241027T010000
END:STANDARD
END:VTIMEZONE
BEGIN:VEVENT
DTSTART;TZID=Europe/Paris:20240329T083000
DTEND;TZID=Europe/Paris:20240329T180000
DTSTAMP:20260426T013828
CREATED:20231206T105537Z
LAST-MODIFIED:20240613T092812Z
UID:10007640-1711701000-1711735200@www.mshparisnord.fr
SUMMARY:Exposition podcasts | Patrimoine vivant en ethnoscénologie
DESCRIPTION:Exposition prolongée jusqu’au 27 juin\nCette exposition propose de revenir en images sur les séances d’enregistrement du séminaire hybride intitulé Patrimoine vivant en ethnoscénologie\, présenté sous forme de podcasts. L’objectif de ce chantier est de constituer sur le long terme un fonds d’archives sonores donnant à entendre des voix de chercheurs\, chercheuses et artistes-chercheur·euses ayant contribué à façonner la perspective transdisciplinaire de l’ethnoscénologie. \nLors du colloque international de mai 1995\, tenu au siège parisien de l’UNESCO et à la Maison des Cultures du Monde\, Jean Duvignaud\, Françoise Gründ\, Chérif Khaznadar et Jean-Marie Pradier\, appelaient à l’importance de structurer une perspective interdisciplinaire de l’esthétique des incarnations de l’imaginaire\, afin de sortir de l’ethnocentrisme à l’œuvre dans le champ d’études des pratiques spectaculaires et performatives humaines. Dans cette lancée\, le manifeste du 9 février 1995\, publié dans le n°13 de la revue Théâtre/Public\, soulignait l’importance de comprendre la diversité des pratiques spectaculaires humaines et de développer de nouveaux outils d’investigation. \nDepuis cette dynamique et sous la direction de Jean-Marie Pradier\, le réseau des doctorants en ethnoscénologie a joué un rôle central à la Maison des Sciences de l’Homme Paris Nord\, favorisant alors des rencontres professionnelles\, des journées d’études internationales aux côtés de chercheurs en sciences humaines et sociales. De Maurice Godelier à François Laplantine\, Jean-François Dusigne\, Nathalie Gauthard\, Armindo Bião\, Pierre Philippe-Meden\, Arianna De Sanctis\, éleonore Martin\, Kitsou Dubois\, Khaki Mohammed Raza\, Jin-Hwan Ra\, Rolf Abderhalden Cortes\, Lee Hyunjoo\, et bien d’autres acteur·rices\, une réévaluation d’une histoire transnationale des corps spectaculaires se mit à l’œuvre\, replaçant les pratiques spectaculaires de l’ailleurs comme celles du proche dans leur contexte culturel\, historique et sociologique. Ces différents chercheurs et chercheuses nourrissaient alors la préoccupation conjointe de prendre en compte le point de vue des performeurs\, des observateurs et/ou des témoins\, mais aussi d’appréhender l’évolution historique des sciences humaines\, le rapport des disciplines entre elles\, et en particulier l’apport des sciences de la vie. \nPresque 30 ans après le colloque fondateur\, nous avons voulu faire entendre les récits de parcours de chercheurs et chercheuses qui ancrent leurs travaux « en ethnoscénologie » parce que la recherche est avant tout incarnée\, portée par des corps dont les trajectoires singulières aiguisent une perception située sur le monde. L’enjeu est de donner à voir l’émergence et le développement de cette démarche de recherche depuis ses facettes kaléidoscopiques. \nLes enregistrements de cette première édition ont été réalisés au sein de la Maison des cultures du Monde – Vitré et la MSH Paris Nord\, entre juin et novembre 2022. \nLes photographies de Jessica Rozycka et Yohann Teyssier-Verger ont été traitées artistiquement par Yohann Teyssier-Verger pour y apporter des éléments historiques et/ou de contexte. \nLien vers les six podcasts : \n\nPodcast 1 : Introduction par Carolane Sanchez\, MCF université Franche-Comté\, responsable scientifique du projet\nPodcast 2 : Rencontre avec Jean-Marie Pradier\, Pr. émérite univ. Paris 8\, Chérif Khaznadar et Françoise Gründ\, cofondateurs de la Maison des cultures du monde – Centre français du patrimoine culturel immatériel\nPodcast 3 : Rencontre avec Arianna Bérénice De Sanctis\, MCF université Côte d’Azur et Pierre Philippe-Meden\, MCF université Paul Valéry – Montpellier\nPodcast 4 : Rencontre avec Nathalie Gauthard\, Pr. Université d’Artois\nPodcast 5 : Rencontre avec Jean-François Dusigne\, Pr. université Paris 8 et Guy Freixe\, Pr. émérite université Franche-Comté\nPodcast 6 : Témoignage de Jean-François Dusigne\, Pr. université Paris 8\n\nPorteuse de projet et responsabilité scientifique : Carolane Sanchez\nEn collaboration avec Florence Hinard\nMontage podcast : Christina Firmino\nArrangement sonore : Sylvain Robine\nPhotographies : Jessica Rozycka\, Yohann Teyssier-Verger\nTraitement artistique des photographies et archives : Yohann Teyssier-Verger \nInformations pratiques\n\nvisite guidée et lancement des podcasts\n22 janvier 2024 à 17h\nà la MSH Paris Nord\, en salle panoramique\nouvert à tous·tes sans réservation\nexposition du lundi 22 janvier au vendredi 29 mars 2024 au jeudi 27 juin 2024\ndu lundi au vendredi\nde 8h30 à 18h\nouvert à tous·tes\n\nUn projet de recherche qui bénéficie du soutien de la MSH Paris Nord dans le cadre de son appel à projets. \nCe projet de recherche a reçu un financement de la Maison des Sciences de l’Homme Paris Nord (« Créations\, pratiques\, public » – axe 1 thème D)\, du Laboratoire ELLIADD et de l’ED LECLA (université de Franche-Comté)\, de l’ED EDESTA\, du Laboratoire Scène du monde/Unité Ethnoscénologie de l’Université Paris 8-Vincennes Saint-Denis\, et il est réalisé en partenariat avec la Maison des Cultures du Monde – Vitré.
URL:https://www.mshparisnord.fr/event/seminaire-patrimoine-vivant-en-ethnoscenologie/2024-03-29/
LOCATION:MSH Paris Nord\, 20\, avenue George Sand\, La Plaine Saint-Denis\, Métro ligne 12 : « Front populaire »\, accessible aux personnes à mobilité réduite\, 93210\, France
CATEGORIES:Manifestations scientifiques
ATTACH;FMTTYPE=image/png:https://www.mshparisnord.fr/wp-content/uploads/2023/12/Affiche-Patrimoine-Vivant-en-ethnoscenologie-250.png
END:VEVENT
END:VCALENDAR