

BEGIN:VCALENDAR
VERSION:2.0
PRODID:-//Maison des Sciences Humaines et sociales Paris Nord - ECPv6.8.2.1//NONSGML v1.0//EN
CALSCALE:GREGORIAN
METHOD:PUBLISH
X-WR-CALNAME:Maison des Sciences Humaines et sociales Paris Nord
X-ORIGINAL-URL:https://www.mshparisnord.fr
X-WR-CALDESC:Évènements pour Maison des Sciences Humaines et sociales Paris Nord
REFRESH-INTERVAL;VALUE=DURATION:PT1H
X-Robots-Tag:noindex
X-PUBLISHED-TTL:PT1H
BEGIN:VTIMEZONE
TZID:Europe/Paris
BEGIN:DAYLIGHT
TZOFFSETFROM:+0100
TZOFFSETTO:+0200
TZNAME:CEST
DTSTART:20250330T010000
END:DAYLIGHT
BEGIN:STANDARD
TZOFFSETFROM:+0200
TZOFFSETTO:+0100
TZNAME:CET
DTSTART:20251026T010000
END:STANDARD
END:VTIMEZONE
BEGIN:VEVENT
DTSTART;TZID=Europe/Paris:20250322T140000
DTEND;TZID=Europe/Paris:20250322T153000
DTSTAMP:20260423T190855
CREATED:20250227T145814Z
LAST-MODIFIED:20251201T101306Z
UID:10008184-1742652000-1742657400@www.mshparisnord.fr
SUMMARY:Recherche-création | L’épopée taboue
DESCRIPTION:Printemps des Humanités\nÀ partir de la récolte de récits auprès de femmes\, d’hommes et de soignant·es\, Louise Roux et Isabelle Guidon s’emparent des métaphores constitutives d’un imaginaire commun\, les mettent en scène et en musique afin de répondre à cette question : comment traduire cet héroïsme banal de la naissance ? Peut-on créer une épopée de l’accouchement qui aide les familles à vivre cette expérience d’une façon plus apaisée ? \nDans le cadre du Printemps des Humanités\, elles présentent la toute première maquette de ce spectacle\, associée à une expérience sonore concoctée avec la musicienne et performeuse T.I.E. à partir de témoignages de parturiantes. Les histoires sont tissées entre elles pour devenir une longue conversation collective\, l’inscription de l’intime dans l’universel. Le rêve d’une femme qui accouche et qui\, s’endormant sous l’effet de la péridurale\, songe à toutes celles qui ont donné naissance avant elle… \nInformations pratiques\n\nsamedi 22 mars 2025\, de 14h à 15h30\nau Campus Condorcet\, auditorium 150\, Centre des colloques\nouvert à tous·tes\, inscription recommandée à cette adresse\n\n>> accéder à la table ronde Le phénomène festif\, un universel ?\, proposée par la MSH Paris Nord pour le Printemps des Humanités 2025 \n>> accéder à la table ronde La raison\, un “universel” à conjuguer “au pluriel” ?\, proposée par les responsables de l’axe Corps\, santé et société de la MSH Paris Nord pour le Printemps des Humanités 2025 \n>> accéder au séminaire et à la restitution Imaginaires de la naissance \nUn projet de recherche qui bénéficie du soutien de la MSH Paris Nord dans le cadre de son appel à projets annuel.\nCe projet a reçu un soutien financier de l’ANR (Agence Nationale de Recherche) dans le cadre des “Investissements pour le futur” du programme ANR-17-EURE-0008.
URL:https://www.mshparisnord.fr/event/printemps-humanites-epopee-taboue/
LOCATION:Campus Condorcet\, Place du Front Populaire\, Aubervilliers\, 93322
CATEGORIES:Manifestations scientifiques
ATTACH;FMTTYPE=image/jpeg:https://www.mshparisnord.fr/wp-content/uploads/2025/02/image-3evts.jpg
END:VEVENT
END:VCALENDAR