



BEGIN:VCALENDAR
VERSION:2.0
PRODID:-//Maison des Sciences Humaines et sociales Paris Nord - ECPv6.8.2.1//NONSGML v1.0//EN
CALSCALE:GREGORIAN
METHOD:PUBLISH
X-ORIGINAL-URL:https://www.mshparisnord.fr
X-WR-CALDESC:Évènements pour Maison des Sciences Humaines et sociales Paris Nord
REFRESH-INTERVAL;VALUE=DURATION:PT1H
X-Robots-Tag:noindex
X-PUBLISHED-TTL:PT1H
BEGIN:VTIMEZONE
TZID:Europe/Paris
BEGIN:DAYLIGHT
TZOFFSETFROM:+0100
TZOFFSETTO:+0200
TZNAME:CEST
DTSTART:20260329T010000
END:DAYLIGHT
BEGIN:STANDARD
TZOFFSETFROM:+0200
TZOFFSETTO:+0100
TZNAME:CET
DTSTART:20261025T010000
END:STANDARD
END:VTIMEZONE
BEGIN:VEVENT
DTSTART;TZID=Europe/Paris:20260618T133000
DTEND;TZID=Europe/Paris:20260618T163000
DTSTAMP:20260422T234717
CREATED:20251209T171021Z
LAST-MODIFIED:20260121T124546Z
UID:10008352-1781789400-1781800200@www.mshparisnord.fr
SUMMARY:Séminaire | DécARiS. Décloisonner l’analyse des risques sur la santé
DESCRIPTION:Travail\, environnement\, génétique\nCe séminaire vise à promouvoir une perspective pluridisciplinaire des recherches en santé appréhendant conjointement les différents types de risques sur la santé : professionnels\, environnementaux\, et biomédicaux – iatrogènes\, mais aussi génétiques. Animé par trois sociologues de la santé\, un politiste et un historien\, il entend explorer la question des risques sur la santé en croisant l’analyse de différents facteurs pour une même condition médicale ou en proposant des thèmes transversaux comme leur (in)visibilisation\, les logiques de construction des causes et des représentations de la maladie dans le champ de la santé ou la manière dont le droit et les institutions s’en saisissent. L’objectif est de contribuer à une meilleure compréhension des risques sur la santé\, pour nourrir les réflexions quant à leur prévention et à leur prise en charge\, mais aussi de mieux saisir les mécanismes de leur reconnaissance et leurs effets combinés sur les trajectoires collectives et individuelles. \nProgramme\n\n22 janvier 2026 : Santé au travail\, santé environnementale : le droit en pratiques\n\nPrésentations de Delphine Serre (PU\, Université Paris Cité\, Cerlis) et Rémy Ponge (MCF\, Aix-Marseille Université\, LEST) discutées par Juliette Froger-Lefebvre (postdoctorante\, Gemass\, associée au Cermes3) \n\n19 février 2026 : Des risques (in)dicibles\n\nPrésentations de Capucine Mouroux (doctorante Université Toulouse Jean Jaurès\, CERTOP) et Valentin Thomas (CR CNRS\, Cermes3) discutées par Anne-Lise Dall’Agnola (docteure\, Cresppa-CSU) \n\n19 mars 2026 : Travail invisible\, risques invisibles\n\nPrésentations d’Anne Marchand (IR\, Université Sorbonne Paris Nord) et Agossè Nadège Degbelo (postdoctorante\, Inrae\, LISIS et chercheuse associée à l’UR Ettis\, Inrae) discutées par Maud Simonet (DR CNRS\, IDHES) \n\n16 avril 2026 : (Épi)génétique: prévention et prise en charge des femmes procréatrices\n\nPrésentations de Carine Vassy (MCF HDR Université Paris 13\, Iris) et Julie Jarty (MCF Université Toulouse Jean Jaurès\, CERTOP) discutées par Luc Berlivet (CR\, CNRS\, Cermes3) \n\n21 mai 2026 : Mobilisations/émergence du risque\n\nPrésentations de Grettel Navas (profesora asistente\, Universidad de Chile) et Marie Ghis Malfilatre (CR CNRS\, Pacte) discutées par Nicolas Simonpoli (MCF Université Paris Nanterre\, ISP) \n\n18 juin 2026 : Médicalisation / pharmaceuticalisation/ risques iatrogènes\n\nPrésentations d’Auréline Cardoso-Khoury (postdoctorante\, Université de Strasbourg)\, Pauline Kaergall (économiste ; CNAM\, Lyon et Montpellier) et de Paul Boulland (IR CNRS\, CHS) discutées par Marie Mathieu (postdoctorante\, Cermes3) \nInformations pratiques\n\nle 3e jeudi du mois\, de 13h30 à 16h30\, les 22 janvier\, 19 février\, 19 mars\, 16 avril\, 21 mai et 18 juin 2026\nà la MSH Paris Nord\, salle 413\nouvert à tous·tes\, pour toute information écrire à annelise.dallagnola@gmail.com\nCoordination scientifique : Anne-Lise Dall’Agnola (Cresppa-CSU)\, Marie Mathieu (Cermes3)\, Juliette Froger-Lefebvre (Gemass)\, Nicolas Simonpoli (ISP) et Paul Boulland (CHS)\n\nUn projet de recherche qui bénéficie du soutien de la MSH Paris Nord dans le cadre de son appel à projets annuel.
URL:https://www.mshparisnord.fr/event/decaris/2026-06-18/
LOCATION:MSH Paris Nord\, 20\, avenue George Sand\, La Plaine Saint-Denis\, Métro ligne 12 : « Front populaire »\, accessible aux personnes à mobilité réduite\, 93210\, France
CATEGORIES:Manifestations scientifiques
ATTACH;FMTTYPE=image/jpeg:https://www.mshparisnord.fr/wp-content/uploads/2025/12/A3-decaris-2025-1.jpg
END:VEVENT
BEGIN:VEVENT
DTSTART;TZID=Europe/Paris:20260618T160000
DTEND;TZID=Europe/Paris:20260618T180000
DTSTAMP:20260422T234717
CREATED:20260316T162317Z
LAST-MODIFIED:20260316T162531Z
UID:10008423-1781798400-1781805600@www.mshparisnord.fr
SUMMARY:Séminaire | Girls' Studies 2026
DESCRIPTION:Le séminaire « It’s so confusing sometimes to be a girl : cultures et subjectivités des filles » est un évènement bimensuel organisé par des doctorantes en sciences de l’information et de la communication du Laboratoire des sciences de l’information et de la communication (LabSIC) et de l’école doctorale Erasme (USPN) travaillant sur des objets variés\, du quotidien\, de l’éducation et de la pop culture. Ce séminaire se veut un espace de dialogue visant à mettre en lumière les travaux de recherche portant sur les cultures pop girly\, et les pratiques culturelles des filles. \nProgramme\n>> télécharger le programme complet (pdf) \n19 mars 2026 – Objets iconiques de filles : Dico et Encyclo des Filles \n\nLe Dico et l’Encyclo des Filles. Des préceptes pour devenir une femme respectable.\nVictoria Brun (LISIS\, INRAE) et Joana Michel Costa (CEMS\, EHESS)\n\nCommunication suivie d’un atelier de réécriture collective du Dico des Filles. \n\n26 mars 2026 – (Ne pas) se défendre : expériences et rapports à la violence des filles \n\nLes petites filles apprennent-elles à ne pas se défendre ? Rapport à la violence et socialisation de genre.\nNinon Alaux (IRIS\, EHESS)\nL’autodéfense féminine pour négocier sa place en ville. Des mobilités féminines rassurantes à Paris et à Londres.\nCharlotte Briend (Géographie-cités\, université Paris 1 Panthéon-Sorbonne)\n\n\n9 avril 2026 – Culture matérielle et consommation féminines : de la poupée à l’après-midi shopping \n\nPenser le féminisme matérialiste à partir de la consommation.\nComité Girls’ Studies (LabSIC\, université Sorbonne Paris Nord)\nDe l’aiguille au miroir. Apprendre à consommer au féminin dans la France d’après-guerre\nBéatrice Guillier (LAP\, EHESS)\n\n\n23 avril 2026 – Séance croisée avec Cultures et Images Lesbiennes (CIL) \n\nDans la chambre de CIL.\nCamille Senoble et Louise Toth (CIL) ; Kahina At Amrouche (artiste-chercheuse) ; Emma Duquet (Plurielles\, université Bordeaux-Montaigne)\n\nCommunications suivies d’une projection (18h – 20h30) \n\n7 mai 2026 – “Toujours antifascistes jamais antifashion” : parcours et pratiques militantes de filles \n\nLa fabrique des militantes : l’émotion politique des filles à l’ère numérique.\nCanberra Herininahary (indépendante)\nSe battre comme une fille\, appropriation des idées politiques par les lycéennes.\nOscar Taupas (CITERES\, université de Tours)\n\n\n21 mai 2026 – “À toutes les filles” : penser le continuum du travail du sexe adolescent \n\nRépertoire d’actions collectives des entrepreneuses du travail du sexe.\nAlicia Plesse-Colucci (LASA\, université Marie et Louis Pasteur)\nAmi·e\, petit-copain\, proxénète\, loverboy\, agresseur… La pluralité des relations intimes et sexuelles dans les parcours prostitutionnels adolescents.\nLéa Guichard (LEST\, Aix-Marseille université)\n\n\n4 juin 2026 – Terrains de lutte : pratiques et représentations des sportives \n\nLes médaillées olympiques françaises face aux normes de genre : entre assimilation et transgression.\nEmma Joli (ACP\, université Gustave Eiffel)\nLutter en équipe : positionnements et modes d’actions féministes dans le sport de haut niveau.\nAlison Hernandez (L-Vis\, IDHES\, université Lyon 1\, ENS Paris-Saclay)\n\n\n18 juin 2026 – 25 ans après “Des ‘Beurettes’ aux descendantes d’immigrés nords-africains” : au-delà du « choix déchirant entre le voile et la minijupe » ? \n\nBeurettes : un destin\, un stéréotype\, plus ou moins.\nNacira Guénif (LEGS\, université Paris 8)\n\n\nInformations pratiques\n\nles jeudis 19 mars\, 26 mars\, 9 avril\, 23 avril\, 7 mai\, 21 mai\, 4 juin et 18 juin 2026\, de 16h à 18h\nau Bâtiment Recherche Sud du Campus Condorcet\nouvert à tous·tes\, en présentiel ou en visio sur inscription gratuite mais obligatoire à ce lien\n>> accéder à la page Calenda du séminaire
URL:https://www.mshparisnord.fr/event/girls-studies-2026/2026-06-18/
LOCATION:Campus Condorcet\, Place du Front Populaire\, Aubervilliers\, 93322
CATEGORIES:Manifestations scientifiques
ATTACH;FMTTYPE=image/jpeg:https://www.mshparisnord.fr/wp-content/uploads/2026/03/Seminaire-girls-studies-2026.jpg
END:VEVENT
END:VCALENDAR