BEGIN:VCALENDAR
VERSION:2.0
PRODID:-//Maison des Sciences Humaines et sociales Paris Nord - ECPv6.8.2.1//NONSGML v1.0//EN
CALSCALE:GREGORIAN
METHOD:PUBLISH
X-ORIGINAL-URL:https://www.mshparisnord.fr
X-WR-CALDESC:Évènements pour Maison des Sciences Humaines et sociales Paris Nord
REFRESH-INTERVAL;VALUE=DURATION:PT1H
X-Robots-Tag:noindex
X-PUBLISHED-TTL:PT1H
BEGIN:VTIMEZONE
TZID:Europe/Paris
BEGIN:DAYLIGHT
TZOFFSETFROM:+0100
TZOFFSETTO:+0200
TZNAME:CEST
DTSTART:20230326T010000
END:DAYLIGHT
BEGIN:STANDARD
TZOFFSETFROM:+0200
TZOFFSETTO:+0100
TZNAME:CET
DTSTART:20231029T010000
END:STANDARD
END:VTIMEZONE
BEGIN:VEVENT
DTSTART;TZID=Europe/Paris:20230906T090000
DTEND;TZID=Europe/Paris:20230906T180000
DTSTAMP:20260422T092628
CREATED:20230831T094930Z
LAST-MODIFIED:20230831T150212Z
UID:10007595-1693990800-1694023200@www.mshparisnord.fr
SUMMARY:La rentrée 2023 du Gis Démocratie et Participation
DESCRIPTION:Cette journée vise à mettre en discussion des travaux récemment publiés sur la démocratie\, les expérimentations démocratiques et la participation politique et sociale. Elle s’inscrit dans le nouveau programme scientifique 2023-2027 du Gis Démocratie et Participation\, constitué de six axes de recherche\, comme autant de pistes de réflexion et d’échanges : \n\nInstitution(s) et pouvoir citoyen\nÉcologiser la démocratie\, démocratiser l’écologie\nProduire démocratiquement des savoirs\nDémocratiser l’économie et le travail\nLa participation\, entre démocratie et autoritarisme\nLes technologies médiatiques et médias\n\n>> consulter le programme complet (PDF) \nCette journée du Gis Démocratie et Participation est organisée par Marion Carrel (Ceries/Université de Lille) et Julien Talpin (CERAPS/CNRS)\, co-directeur·ices du GIS. \nL’inscription est gratuite mais obligatoire en complétant le formulaire accessible par le lien suivant : https://framaforms.org/journee-publications-democratie-et-participation-msh-paris-nord-6-septembre-2023-1686578583 \nInformations pratiques\n6 septembre 2023\, de 9h à 18h\nà la MSH Paris Nord\, salle panoramique (4e étage) \n>> consulter la page du Gis démocratie et participation\n>> consulter le site du Gis démocratie et participation
URL:https://www.mshparisnord.fr/event/la-rentree-2023-du-gis-democratie-et-participation/
LOCATION:MSH Paris Nord\, 20\, avenue George Sand\, La Plaine Saint-Denis\, Métro ligne 12 : « Front populaire »\, accessible aux personnes à mobilité réduite\, 93210\, France
CATEGORIES:Manifestations scientifiques
ATTACH;FMTTYPE=image/png:https://www.mshparisnord.fr/wp-content/uploads/2023/08/rentree2023_gisdémopart_250px.png
END:VEVENT
BEGIN:VEVENT
DTSTART;TZID=Europe/Paris:20230916T140000
DTEND;TZID=Europe/Paris:20230916T173000
DTSTAMP:20260422T092628
CREATED:20230626T074958Z
LAST-MODIFIED:20230904T143102Z
UID:10006770-1694872800-1694885400@www.mshparisnord.fr
SUMMARY:Journées européennes du patrimoine 2023
DESCRIPTION:La 40e édition des Journées Européennes du Patrimoine est placée sous les thèmes : Patrimoine vivant et Patrimoine du sport. La MSH Paris Nord vous propose de partir à la découverte de ses activités de recherche\, à travers des visites\, atelier pour enfants\, vernissage… \nLe temps d’une après-midi\, la MSH Paris Nord vous ouvre son patrimoine vivant.\nOuvert à tous·tes\, gratuit \n>> télécharger le programme complet (pdf) \n  \n  \n  \nProgramme\nDe 14h à 15h – visites du bâtiment et du jardin de la MSH Paris Nord\n \n \n◦ La MSH Paris Nord vous dévoile son beau bâtiment d’architecte\, du 4e étage avec sa vue panoramique\, à son jardin\, lieu de biodiversité\, en passant par son grand auditorium de 300 places équipé d’un dispositif de son spatialisé ! \n◦ Diane Schuh\, musicienne et paysagiste expérimentale\, doctorante du département de musique de l’université Paris 8\, vous emmènera en balade d’observation dans le jardin qui s’inspire du concept de jardin en mouvement du paysagiste Gilles Clément. Les espèces plantées y sont laissées libres à la reconquête\, simplement guidées par quelques fauches annuelles. Nous nous questionnerons : comment porter attention à la multiplicité du vivant ? Comment se rendre attentif à la polyphonie du milieu ? À travers observations et écoutes\, nous pratiquerons l’art de l’attention. \n◦ Durée 1h\nOuvert à tous·tes\, inscription recommandée\n>> inscription sur :\n– Visite de la MSH Paris Nord | Plaine Commune\nou\n– Visite de la MSH Paris Nord | Explore Paris \n>> voir la présentation du jardin \n\nDe 14h à 15h – balade urbaine du quartier \n \n◦ La balade urbaine proposée par Jean-Jacques Clément de l’association Mémoire vivante de la plaine\, débutera à la MSH Paris Nord pour suivre la rue des fillettes et longer le Campus Condorcet et son Humathèque\, observer les derniers vestiges du monde industriel. Nous nous rendrons ensuite devant l’église St-Paul de la Plaine pour admirer son architecture très singulière\, sans manquer de faire un détour par les immenses studios de cinéma. Avec cette balade du quartier de la Plaine Saint-Denis\, nous observerons et prendrons la mesure de la métropolisation en train de se faire !\n◦ Durée 1h\nDépart à 14h devant l’entrée de la MSH Paris Nord (venir à 13h45)\nOuvert à tous·tes sur inscription\n>> inscription sur :\n– Balade urbaine | Plaine Commune\nou\n– Balade urbaine | Explore Paris \n\nDe 15h30 à 16h30 – atelier jardin pour enfants 6 à 12 ans\n \n◦ Proposez à vos enfants de découvrir les plantes du jardin de la MSH Paris Nord\, les relations qu’elles entretiennent entre elles et avec les animaux. On les observera au moyen d’une loupe\, on les décrira\, les dessinera et les coloriera. On écoutera aussi les bruits du jardin en partageant nos expériences car chacun n’entend pas forcément la même chose. Enfin au moyen d’un gros micro plein de poils relié à un enregistreur\, on expérimentera un type particulier d’écoute guidée par l’outil. L’écoute est multiforme ; elle s’apprend !\n◦ Atelier animé par Diane Schuh\, musicienne et paysagiste expérimentale\n◦ Durée 1h\nGroupe de 10 enfants de 6 à 12 ans (sans leurs parents)\, uniquement sur inscription \n>> inscription sur :\n– Atelier jardin pour enfants | Plaine Commune\nou\n– Atelier jardin pour enfants | Explore Paris \nLes parents pourront suivre les autres activités proposées à la MSH Paris Nord durant l’atelier. \n\nde 15h30 à 16h – présentation de l’ouvrage L’Entre deux barres d’Olivier Boucheron et Maria Anita Palumbo \n \n◦ Une yourte installée au pied d’un grand ensemble\, un mur d’immeuble entièrement refaïencé sans autorisation\, des pots de fleurs installées en enfilade\, des remaniements d’appartement : comment les habitants des grands ensembles à travers le monde s’adaptent\, réaménagent\, s’approprient\, reprennent en main les lieux où ils vivent ? Peut-on parler de résistance au projet moderne qu’incarne les grands ensembles ? Si c’est le cas\, pourquoi ? Plusieurs recherches ont été menées à Dakar\, à Shangaï\, à Oulan Bator\, à Zanzibar\, à Stasbourg\, à Moscou…\nMaria Anita Palumbo et Olivier Boucheron qui ont dirigé la publication de l’ouvrage L’Entre deux barres Une ethnographie de la transformation des ensembles de logements collectifs par leurs habitants viendront le présenter et dialoguer avec vous. Ils exposeront également de magnifiques photos de ce tour d’horizon planétaire des grands ensembles.\n◦ Dialogue avec les auteurs et exposition sur le parvis devant la MSH Paris Nord.\nOuvert à tous·tes\, sans réservation\n>> voir la présentation de l’ouvrage \n\nde 16h à 16h30 – vernissage de l’exposition Réformer sensiblement l’enquête publique. Expérimenter le LAB-DeuxièmeGroupe à Malakoff\, Pully et Aubervilliers\nEma Drouin\, Carolina Espírito Santo\, Pauline Guinard et Anne Volvey \n \n◦ Visite guidée de l’exposition issue d’expérimentations en recherche-création sur la sensibilité des habitants aux transformations urbaines\, menées à Malakoff\, Grand Paris (2017-2019)\, à Pully\, agglomération de Lausanne en Suisse (2021-2022) et à l’automne à Aubervilliers\, Grand Paris (2023). L’art peut-il prétendre mener une enquête véritablement publique sur la ville qui se (dé)fait ?\n◦ Ouvert à tous·tes sans réservation\n>> voir la présentation de l’exposition \n\nDe 16h30 à 17h30 \n◦ Clôture de la journée par un goûter\nouvert à tous·tes \n\nInformations pratiques\nsamedi 16 septembre 2023\nde 14h à 17h30\ngratuit pour tous·tes \n20 avenue George Sand\n93210 La Plaine St-Denis\nmétro 12\, Front Populaire\,\nsortie 3 Maison des Sciences de l’Homme Paris Nord \nRéservations des visites et de l’atelier enfants à réaliser sur un seul lien\, en fonction des places disponibles.\n \n>> consulter les JEP du campus Condorcet
URL:https://www.mshparisnord.fr/event/journees-europeennes-du-patrimoine-2023/
LOCATION:MSH Paris Nord\, 20\, avenue George Sand\, La Plaine Saint-Denis\, Métro ligne 12 : « Front populaire »\, accessible aux personnes à mobilité réduite\, 93210\, France
CATEGORIES:Manifestations scientifiques
ATTACH;FMTTYPE=image/png:https://www.mshparisnord.fr/wp-content/uploads/2023/06/jep-16sept2023-250px.png
END:VEVENT
BEGIN:VEVENT
DTSTART;TZID=Europe/Paris:20230925T170000
DTEND;TZID=Europe/Paris:20230925T190000
DTSTAMP:20260422T092628
CREATED:20230906T150936Z
LAST-MODIFIED:20240305T103805Z
UID:10007597-1695661200-1695668400@www.mshparisnord.fr
SUMMARY:Séminaire | Art\, culture et création dans la fabrique des territoires
DESCRIPTION:La science\, l’art\, la culture\, le patrimoine\, sont des marqueurs incontestables du territoire de Plaine Commune au sein duquel la Maison des Sciences de l’Homme Paris Nord compte comme actrice et institution de savoir partagé. \nPour la troisième année consécutive\, la MSH Paris Nord et Plaine Commune proposent ensemble un cycle de séminaires réunissant chercheur·es et acteur·rices du territoire pour réfléchir à la manière dont les projets culturels et les projets urbains sont dorénavant étroitement liés\, ici et ailleurs. \nCes séminaires ont pour ambition d’être un rendez-vous régulier (les deuxièmes mardis tous les 2 mois alternativement à la MSH Paris Nord et à Plaine Commune) qui permettra de créer un réseau pour de nouvelles pistes de réflexion et de collaboration entre toutes celles et tous ceux qui s’intéressent à ces questions et enjeux de territoire aujourd’hui. \nLe cycle est animé par Emmanuelle Lallement\, professeure d’anthropologie à l’université Paris 8 et responsable de l’axe 4 de la MSH Paris Nord. \n>> consulter la présentation générale du séminaire 2023-2024 \n>> télécharger le programme des séances (pdf) \nprogramme des séances\nPremière séance\nLundi 25 septembre 2023\nà 17h \n\nà la MSH Paris Nord\, salle panoramique\, 4e étage\nen visioconférence\n\nL’art public dans le projet olympique de transformation urbaine\n\nSoutenu dans le cadre de l’appel à projet commun Fabriquer la ville avec l’art et la culture ? le projet de recherche Olympic cities and culture propose d’interroger la façon dont se construisent les programmes culturels\, d’aménagement et de valorisation patrimoniale qui accompagnent ces grands évènements\, ainsi que d’apprécier la nature et l’héritage des transformations qu’ils impriment sur un territoire urbain. Cette séance partenariale traitera particulièrement des programmes d’art public. Quel rôle jouent-ils dans le projet olympique de transformation urbaine ? Quelle comparaison possible entre les commandes d’art de Londres 2012 et de Paris 2024 ? \nIntervenant·es : \nAlberto Duman (artiste et universitaire)\nLéa Marie (chargée de mission démarche artistique et partenariats territoriaux à la Solidéo)\nMarina Gaget (directrice de la stratégie culturelle\, du patrimoine et du tourisme à Plaine Commune) \nOrganisée et animée par Charlotte Gould et Emmanuelle Lallement \n\nDeuxième séance\nMardi 28 novembre 2023\nà 17h30 \n\nà la MSH Paris Nord\, salle panoramique\, 4e étage\nen visioconférence\n\nL’art et la culture dans la ville en transition \nLa manière dont la question écologique est abordée par la création artistique en milieu urbain constitue une voie d’entrée pour penser les enjeux de la ville dite durable. Comment la création artistique en milieu urbain participe-t-elle de la transition écologique ? Comment ces enjeux impactent-ils leur création dans et pour la ville ? Cette séance de séminaire interrogera l’art et la culture comme manière non seulement d’interroger la crise écologique mais aussi comme vecteurs de la transition dans la ville. \nIntervenantes : \nLucie Marinier (professeure du Conservatoire national des Arts et Métiers et titulaire de la Chaire d’ingénierie de la culture et de la création)\nLauranne Germond (directrice artistique de l’association COAL)\nSophie Lanoote (directrice associée de Galatea Conseil)\nNathalie Moine (Fondation de Florès) \nAnimation : Emmanuelle Lallement\, professeur d’anthropologie à l’université Paris 8 et responsable de l’axe Penser la ville contemporaine à la MSH Paris Nord \n\nTroisième séance\nMardi 16 janvier 2024\nà 17h30 \n\nà la MSH Paris Nord\, salle panoramique\, 4e étage\nen visioconférence (https://univ-paris8.zoom.us/ ID de réunion : 987 0381 4925 / Code: 829313)\n\nLa culture et les territoires : données\, métriques\, « découvrabilité »\nPenser l’art et la culture dans la fabrique des territoires implique aussi de penser les enjeux soulevés par les « données » dans les institutions et projets artistiques et culturels urbains. Tel sera l’objectif central de cette séance. \nLes productions artistiques\, les institutions et les territoires sont de façon croissante décrits et hiérarchisés selon des métriques qui deviennent des indicateurs quantitatifs de leur attractivité. L’essor de la thématique de la « découvrabilité » est à la fois un indicateur et un vecteur de ces mouvements. \nDe quels outils disposent aujourd’hui les institutions et les territoires pour encadrer leurs actions ? Comment produire et exploiter des données et métadonnées pertinentes ? Quel mode d’évaluation permettent-elles ? Quelles stratégies et politiques les institutions et les collectivités conduisent-elles en lien avec les orientations prises sur le plan international (notamment au niveau de la Commission européenne) et national ? \nIntervenants : \nEmmanuel Blum\, directeur général de l’office de Tourisme intercommunal Plaine Commune \nEudes Peyre\, chargé de mission ressources et développement numérique\, Réunion des Opéras de France \nIntroduction et animation : Philippe Bouquillion\, professeur de sciences de l’information et de la communication à l’université Sorbonne Paris Nord et responsable de l’axe Art\, industries de la culture\, création à la MSH Paris Nord \n\nQuatrième séance\nMardi 19 mars 2024\nà 17h30 \n\nà Plaine Commune\, en salle du bureau\nen visioconférence\n\nRéformer sensiblement l’enquête publique\nCette séance s’appuiera sur un projet de création-recherche : le LAB-Deuxième-Groupe\, élaboré à partir de Malakoff-Sud par l’artiste Ema Drouin\, puis mis en œuvre à Pully (Suisse) et Aubervilliers en collaboration avec les géographes Pauline Guinard et Anne Volvey ainsi que l’artiste Carolina E. Santo\, pour saisir la dimension vécue des transformations urbaines. \nÀ partir de ce projet lauréat 2023 de l’appel à projets commun responsable Fabriquer la ville avec l’art et la culture ?\, il s’agira de s’interroger sur la manière de conduire une enquête véritablement publique\, visant à faire émerger\, résonner et valoriser des savoirs sensibles urbains\, aﬁn de faciliter leur prise en considération et leur requaliﬁcation au sein des processus de production de la ville. \nAvec Emmanuelle Lallement\, l’équipe du projet\, Foulques Renard\, responsable de la mission démocratie locale à Plaine Commune\, un·e commissaire enquêteur·rice (sous réserve). \nUne exposition est visible à la MSH Paris Nord du 18 septembre au 21 décembre 2023\n>> consulter la présentation de l’exposition \n\nInformations pratiques\n\nLundi 25 septembre 2023 à 17h\, à la MSH Paris Nord\, salle panoramique\, 4e étage\nMardi 28 novembre 2023 à 17h30\, à la MSH Paris Nord\, salle panoramique\, 4e étage\n\nMardi 16 janvier 2024 à 17h30\, à la MSH Paris Nord\, salle panoramique\, 4e étage\nMardi 19 mars 2024 à 17h30\, à Plaine Commune\, salle du bureau\n\nDans la mesure du possible les séminaires sont privilégiés en présentiel. Cependant\, chaque séance pourra être suivie en visioconférence à partir du lien suivant :\nhttps://univ-paris8.zoom.us/j/98703814925?pwd=Vis3RFNTRSttZDZWTU1SMnZOZlBqQT09\nID de réunion : 987 0381 4925\nCode secret : 829313 \nUne initiative portée par Plaine Commune et la Maison des Sciences de l’Homme Paris Nord.
URL:https://www.mshparisnord.fr/event/seminaire-art-culture-et-creation-dans-la-fabrique-des-territoires-2/2023-09-25/
LOCATION:MSH Paris Nord\, 20\, avenue George Sand\, La Plaine Saint-Denis\, Métro ligne 12 : « Front populaire »\, accessible aux personnes à mobilité réduite\, 93210\, France
CATEGORIES:Manifestations scientifiques
ATTACH;FMTTYPE=image/png:https://www.mshparisnord.fr/wp-content/uploads/2023/09/art-culture-creation-2023-24-250px.png
END:VEVENT
BEGIN:VEVENT
DTSTART;TZID=Europe/Paris:20230929T140000
DTEND;TZID=Europe/Paris:20230929T170000
DTSTAMP:20260422T092628
CREATED:20230524T093245Z
LAST-MODIFIED:20240206T140458Z
UID:10006763-1695996000-1696006800@www.mshparisnord.fr
SUMMARY:Journée d'étude | Capitalisme sanitaire
DESCRIPTION:De nombreuses études ont été menées dans le secteur de la santé pour étudier les transformations connues par ce dernier (marchandisation\, privatisation\, industrialisation ou encore financiarisation). Des études sectorielles sujets (comme l’industrie pharmaceutique) questionnent quant à elles l’investissement du capitalisme. Néanmoins\, peu inscrivent leur analyse dans une étude plus globale du capitalisme en santé. La notion de « capitalisme sanitaire » sera ainsi le fil conducteur des Ateliers Pluridisciplinaires sur le Capitalisme Sanitaire (APLUCS). \nLa santé fait en effet l’objet d’un large spectre d’investissements capitalistes\, à l’hôpital comme sur le terrain de la couverture santé. C’est l’un des ingrédients d’un capitalisme mondialisé et financiarisé\, un secteur offrant des débouchés prometteurs à un régime de croissance dominé par la financiarisation à l’échelle globale. \nIl s’agit d’interroger la présence du capitalisme dans les différents secteurs de la santé (assurance\, industrie pharmaceutique\, hôpital etc.)\, ses particularités\, les formes dans lesquelles ce dernier s’incarne et ses conséquences sur la santé\, mais aussi de questionner l’encastrement des systèmes de santé dans un univers capitaliste. \n\nQu’est-ce que la santé fait au capitalisme contemporain ?\nLa santé est-elle devenue l’un des rouages essentiels d’un capitalisme dont la dynamique d’accumulation s’essouffle ?\nLe capitalisme sanitaire est-il l’expression d’une nouvelle dynamique du capitalisme contemporain ?\n\nUne approche pluridisciplinaire sera mise en place\, en faisant se rencontrer des chercheurs et chercheuses critiques des différents champs des sciences sociales : économie\, science politique\, sociologie\, histoire etc. \nJournées d’études interdisciplinaires sur le capitalisme en santé\nOrganisées par l’IRIS et le CEPN (Université Sorbonne Paris Nord)\nAvec le soutien de la Maison des Sciences de l’Homme de Paris Nord \nProgramme des séances\nSéance 1 | 16 juin 2023\, de 9h à 17h\n \nà la MSH Paris Nord\, salle 409 \nL’accès aux soins : enjeux autour de la production\, de la fourniture et du financement du soin\n \n\n9h30 – 10h40 Pauline Londeix Observatoire de la transparence dans les politiques du médicament – OTMeds\n Les enjeux d’une production locale de médicaments pour améliorer l’accès en France.\n11h – 12h15 Gaëlle Krikorian sociologue/consultante en santé\nTransformer l’économie politique des médicaments pour produire des communs pharmaceutiques.\n\n\n13h45 – 15h Paul Mayens Centre d’histoire sociale des mondes contemporains\nLes formes de Protection sociale et l’accès aux soins dans l’espace africain dans la seconde moitié du XXe siècle\n15h – 16h15 Laure Pitti Centre de recherches sociologiques et politiques de Paris- CRESPPA\n\n\nSéance 2 | 29 septembre 2023\, de 14h à 17h\n \nau Campus Condorcet \nSanté sociale : une alternative au capitalisme sanitaire ?\n \n\n14h-15h15 Benoit Carini-Belloni IRIS-GISCOP/Université Sorbonne Paris Nord\nLa protection du droit à la santé dans les centres de santé municipaux et mutualistes en France au XXe siècle\n15h30-16h45 Nadège Vézinat CRESPPA-GTM/université Paris 8\nLa santé sociale\, réactivation d’une approche collective de la santé\n\n\nSéance 3 | 7 décembre 2023\, de 9h à 17h \nau Campus Condorcet \nSanté et travail \n\n9h30 – 10h45 Cyrine Gardes CSO – Sciences Po Paris\nTravailleuses et travailleurs de la deuxième ligne à l’épreuve de la crise sanitaire. Des conditions de travail et de vie bouleversées\n11h – 12h15 Anne Marchand GISCOP93 – IRIS\nLe travail : un déterminant minoré des inégalités sociales de santé. L’exemple du cancer\n14h – 15h15 Emilie Counil INED\nQuand la profession échappe à la statistique publique sur les causes médicales de décès : enquête sur une disparition\n15h30 – 16h45 Nader Nefzi et Malo Mofakhami CEPN – Université Sorbonne Paris Nord\nProblèmes de santé au travail\, quels effets sur l’employabilité en Europe ? Une analyse sectorielle\n\n\nSéance 4 | 8 février 2024\, de 9h à 17h \nau Campus Condorcet \nLa santé dans l’évolution de la protection sociale \n\n9h30 – 10h45 Pierre-Louis Bras PR associé à l’Université Paris Cité et IGAS\nLes enjeux du système dual d’assurance maladie\n11h – 12h15 Michaël Zemmour TRIANGLE\, Lyon 2\nLe rôle de l’État dans la privatisation partielle de la couverture santé\n14h – 15h15 Cécile Vasseur CLERSE\, Lille\nLes usages du principe de solidarité dans les mutuelles de santé : entre pratique d’assurance et pratique d’assistance\n15h30 – 16h45 Secteur Mines FNME-CHT et Victor Duchesne CEPN\, Université Sorbonne Paris Nord\nSécurité Sociale et offre de santé\, l’exemple du régime des mines : enjeux et perspectives\n\n\nInformations pratiques\n\n16 juin 2023 de 9h à 17h\nà la MSH Paris Nord\, salle 409 et en visio via la plateforme Zoom :\nhttps://cnrs.zoom.us/j/91414572412?pwd=SVB2OEp1WTE2MjM0QkZFSjRNcDVTdz09\n29 septembre 2023 de 14h à 17h\nau Campus Condorcet salle 0.007 du bâtiment de recherche nord\n7 décembre 2023 de 9h à 17h\,\nau Campus Condorcet salle 4.023 du bâtiment de recherche sud\nhttps://cnrs.zoom.us/j/95323928783?pwd=YStXN0F1TDRTaWJEcGpxU0MrRUFLQT09\nID de réunion : 953 2392 8783\nCode secret : m6YuP6\n8 février 2024 de 9h à 17h\nau Campus Condorcet\, espace Françoise Héritier (matin) et bâtiment sud (après-midi)\net en visio via la plateforme Zoom :\nhttps://cnrs.zoom.us/j/99358226939?pwd=M0JJdlNHVGc3QUswTGZOaHM0SThiQT09\nID de réunion : 993 5822 6939\nCode secret : SgVm9e\n\nLaura Alles laura.alles01@gmail.com\nPhilippe Batifoulier philippe.batifoulier@univ-paris13.fr\nSamira Guennif samira@guennif.com \nUn projet de recherche qui bénéficie du soutien de la MSH Paris Nord dans le cadre de son appel à projets.
URL:https://www.mshparisnord.fr/event/journee-detude-capitalisme-sanitaire/2023-09-29/
LOCATION:MSH Paris Nord\, 20\, avenue George Sand\, La Plaine Saint-Denis\, Métro ligne 12 : « Front populaire »\, accessible aux personnes à mobilité réduite\, 93210\, France
CATEGORIES:Manifestations scientifiques
ATTACH;FMTTYPE=image/png:https://www.mshparisnord.fr/wp-content/uploads/2023/05/Affiche-generique-capitalisme-sanitaire-1.png
END:VEVENT
END:VCALENDAR