BEGIN:VCALENDAR
VERSION:2.0
PRODID:-//Maison des Sciences Humaines et sociales Paris Nord - ECPv6.8.2.1//NONSGML v1.0//EN
CALSCALE:GREGORIAN
METHOD:PUBLISH
X-WR-CALNAME:Maison des Sciences Humaines et sociales Paris Nord
X-ORIGINAL-URL:https://www.mshparisnord.fr
X-WR-CALDESC:Évènements pour Maison des Sciences Humaines et sociales Paris Nord
REFRESH-INTERVAL;VALUE=DURATION:PT1H
X-Robots-Tag:noindex
X-PUBLISHED-TTL:PT1H
BEGIN:VTIMEZONE
TZID:Europe/Paris
BEGIN:DAYLIGHT
TZOFFSETFROM:+0100
TZOFFSETTO:+0200
TZNAME:CEST
DTSTART:20180325T010000
END:DAYLIGHT
BEGIN:STANDARD
TZOFFSETFROM:+0200
TZOFFSETTO:+0100
TZNAME:CET
DTSTART:20181028T010000
END:STANDARD
END:VTIMEZONE
BEGIN:VEVENT
DTSTART;TZID=Europe/Paris:20180208T180000
DTEND;TZID=Europe/Paris:20180208T200000
DTSTAMP:20260424T064216
CREATED:20180123T105430Z
LAST-MODIFIED:20180123T154825Z
UID:10006302-1518112800-1518120000@www.mshparisnord.fr
SUMMARY:Electorat(s) du FN : un conglomérat socio-économique insaisissable ?
DESCRIPTION:Premiers retours sur l’enquête Focale \nJournée présentée dans le cadre du séminaire “L’emboîtement des crises : politique\, économique\, écologique” sous la direction de Jean-Numa Ducange et Razmig Keucheyan à la MSH Paris Nord. \nL’élection présidentielle de 2017 a engendré une recomposition radicale du champ politique. Elle a également vu le Front National franchir un palier supplémentaire dans sa progression électorale. Le niveau très élevé du vote FN dans les catégories populaires cache toutefois de fortes disparités qui complexifient la structure de cet électorat. Si le contexte de crise économique latente et ses conséquences sociales semblent à l’évidence jouer un rôle central dans la politisation des classes populaires ; les liens entre le vote\, la précarité économique et les difficultés d’emploi restent très largement une énigme. \nLe projet Focale (FOndements de la Crise des Aternatives éLEctorales) qui sera présenté lors de cette séance tente de montrer les apports d’une approche quantitative de ce problème. Il s’agit d’une enquête collective basée sur la passation de questionnaires au sortir des bureaux de vote réalisée lors du premier tour de l’élection présidentielle. L’un de ses objectifs est d’étudier l’articulation du vote des classes populaires en faveur du FN avec le contexte socioéconomique post-crise. Après une présentation du dispositif d’enquête\, nous mettrons en dialogue les premiers résultats de l’enquête avec la littérature en insistant sur l’importance des variables liées au statut au travail des votants (niveau de précarité\, expérience du chômage\, solidarités au travail\, dévalorisation professionnelle …). \nIntervenant.e.s : Collectif Focale \nLieu : MSH Paris Nord – salle 414
URL:https://www.mshparisnord.fr/event/electorats-fn-conglomerat-socio-economique-insaisissable/
LOCATION:MSH Paris Nord\, 20\, avenue George Sand\, La Plaine Saint-Denis\, Métro ligne 12 : « Front populaire »\, accessible aux personnes à mobilité réduite\, 93210\, France
CATEGORIES:Manifestations scientifiques
END:VEVENT
END:VCALENDAR