BEGIN:VCALENDAR
VERSION:2.0
PRODID:-//Maison des Sciences Humaines et sociales Paris Nord - ECPv6.8.2.1//NONSGML v1.0//EN
CALSCALE:GREGORIAN
METHOD:PUBLISH
X-ORIGINAL-URL:https://www.mshparisnord.fr
X-WR-CALDESC:Évènements pour Maison des Sciences Humaines et sociales Paris Nord
REFRESH-INTERVAL;VALUE=DURATION:PT1H
X-Robots-Tag:noindex
X-PUBLISHED-TTL:PT1H
BEGIN:VTIMEZONE
TZID:Europe/Paris
BEGIN:DAYLIGHT
TZOFFSETFROM:+0100
TZOFFSETTO:+0200
TZNAME:CEST
DTSTART:20180325T010000
END:DAYLIGHT
BEGIN:STANDARD
TZOFFSETFROM:+0200
TZOFFSETTO:+0100
TZNAME:CET
DTSTART:20181028T010000
END:STANDARD
END:VTIMEZONE
BEGIN:VEVENT
DTSTART;TZID=Europe/Paris:20180222T140000
DTEND;TZID=Europe/Paris:20180222T160000
DTSTAMP:20260424T064508
CREATED:20171219T080617Z
LAST-MODIFIED:20171219T081044Z
UID:10006517-1519308000-1519315200@www.mshparisnord.fr
SUMMARY:Séminaire du GIS GESTES
DESCRIPTION:Acteurs et actions en santé au travail \nSéance 1: Syndicalisme et santé au travail\nAutour de l’ouvrage collectif Syndicalisme et santé au travail\, sous la direction de Lucie Goussard et Guillaume Tiffon\, Éditions du Cro-quant\, 2017 \n• Présentation de l’ouvrage par :\n– Lucie Goussard (Centre Pierre Naville\, université Evry Val d’Essonne)\n– Guillaume Tiffon (Centre Pierre Naville\, université Evry Val d’Essonne) \n• Mise en discussion et en perspective par :\n– Judith Rainhorn (Centre d’Histoire sociale du XXe siècle\, université Paris 1)\n– François Daniellou (Fondation pour une culture de sécurité)
URL:https://www.mshparisnord.fr/event/seminaire-gis-gestes/
LOCATION:MSH Paris Nord\, 20\, avenue George Sand\, La Plaine Saint-Denis\, Métro ligne 12 : « Front populaire »\, accessible aux personnes à mobilité réduite\, 93210\, France
CATEGORIES:Actualités,Manifestations scientifiques
ORGANIZER;CN="GIS GESTES":MAILTO:gestes@mshparisnord.fr
END:VEVENT
END:VCALENDAR