BEGIN:VCALENDAR
VERSION:2.0
PRODID:-//Maison des Sciences Humaines et sociales Paris Nord - ECPv6.8.2.1//NONSGML v1.0//EN
CALSCALE:GREGORIAN
METHOD:PUBLISH
X-WR-CALNAME:Maison des Sciences Humaines et sociales Paris Nord
X-ORIGINAL-URL:https://www.mshparisnord.fr
X-WR-CALDESC:Évènements pour Maison des Sciences Humaines et sociales Paris Nord
REFRESH-INTERVAL;VALUE=DURATION:PT1H
X-Robots-Tag:noindex
X-PUBLISHED-TTL:PT1H
BEGIN:VTIMEZONE
TZID:Europe/Paris
BEGIN:DAYLIGHT
TZOFFSETFROM:+0100
TZOFFSETTO:+0200
TZNAME:CEST
DTSTART:20180325T010000
END:DAYLIGHT
BEGIN:STANDARD
TZOFFSETFROM:+0200
TZOFFSETTO:+0100
TZNAME:CET
DTSTART:20181028T010000
END:STANDARD
END:VTIMEZONE
BEGIN:VEVENT
DTSTART;TZID=Europe/Paris:20180306T090000
DTEND;TZID=Europe/Paris:20180306T180000
DTSTAMP:20260424T015022
CREATED:20180216T092914Z
LAST-MODIFIED:20180301T112924Z
UID:10006305-1520326800-1520359200@www.mshparisnord.fr
SUMMARY:Aux sources de l'histoire sociale
DESCRIPTION:Cette journée d’études propose de revenir sur l’histoire parallèle de la mise en archives de papiers issus du monde social et du déploiement de l’histoire sociale comme objet et sujet de recherche. La perspective est à la fois épistémologique et archivistique. \nSi ce travail sur les origines souhaite repérer les pratiques communes et leurs mutations\, il n’entend pas masquer les difficultés pratiques et les conflits qui ont pu opposer les institutions dans un contexte d’éparpillement et d’éclatement des sources. \nComité d’organisation\nMarie-Cécile Bouju (Paris 8/HPSS)\, Pascale Goetschel (Paris 1\, CHS XXe siècle)\, Yann Potin (Archives nationales / Paris 13)\, Rossana Vaccaro (Paris 1\, CHS XXe siècle) et Jean-Numa Ducange (Rouen\, GRHIS\, MSH Paris Nord) \nSoutenu par\nla MSH Paris Nord\, le Campus Condorcet\, les archives nationales\, universités Paris 1-Panthéon Sorbonne et Paris 8-Vincennes-Saint-Denis\, CNRS \n  \nTéléchargez la plaquette \n 
URL:https://www.mshparisnord.fr/event/aux-sources-de-lhistoire-sociale/
LOCATION:MSH Paris Nord\, 20\, avenue George Sand\, La Plaine Saint-Denis\, Métro ligne 12 : « Front populaire »\, accessible aux personnes à mobilité réduite\, 93210\, France
CATEGORIES:Manifestations scientifiques
END:VEVENT
END:VCALENDAR