BEGIN:VCALENDAR
VERSION:2.0
PRODID:-//Maison des Sciences Humaines et sociales Paris Nord - ECPv6.8.2.1//NONSGML v1.0//EN
CALSCALE:GREGORIAN
METHOD:PUBLISH
X-ORIGINAL-URL:https://www.mshparisnord.fr
X-WR-CALDESC:Évènements pour Maison des Sciences Humaines et sociales Paris Nord
REFRESH-INTERVAL;VALUE=DURATION:PT1H
X-Robots-Tag:noindex
X-PUBLISHED-TTL:PT1H
BEGIN:VTIMEZONE
TZID:Europe/Paris
BEGIN:DAYLIGHT
TZOFFSETFROM:+0100
TZOFFSETTO:+0200
TZNAME:CEST
DTSTART:20180325T010000
END:DAYLIGHT
BEGIN:STANDARD
TZOFFSETFROM:+0200
TZOFFSETTO:+0100
TZNAME:CET
DTSTART:20181028T010000
END:STANDARD
END:VTIMEZONE
BEGIN:VEVENT
DTSTART;TZID=Europe/Paris:20180412T183000
DTEND;TZID=Europe/Paris:20180412T200000
DTSTAMP:20260423T002010
CREATED:20180309T113414Z
LAST-MODIFIED:20180409T091505Z
UID:10006536-1523557800-1523563200@www.mshparisnord.fr
SUMMARY:Concert musique mixte pour guitare
DESCRIPTION:Caroline Delume & Amélia Mazarico\, guitares\nVolodia Lambert\, guitare électrique \nProgramme\nNicolas Brochec > EXPR (2018)\nMario Lorenzo > Figures sur la corde (2017)\nAlain Bonardi > Fil de Soi 1 et 2 (2017-2018)\nHitomi Kaneko > Gustation & Olfaction (2016)\nOrganisé par\nCICM / EA MUSIDANSE – Université Paris 8\, Maison des Sciences de l’Homme Paris Nord \nInformations pratiques\n– entrée libre\n– lieu : grand auditorium de la Maison des Sciences de l’Homme Paris Nord\n20 avenue Georges Sand\, 93210 St-Denis la Plaine\n– transports : métro ligne 12 “Front Populaire” et bus 153\n>> évènement facebook à partager\nhttps://www.facebook.com/events/426894067746837/  \n>> télécharger l’affiche (pdf)
URL:https://www.mshparisnord.fr/event/concert-musique-mixte-guitare/
LOCATION:MSH Paris Nord\, 20\, avenue George Sand\, La Plaine Saint-Denis\, Métro ligne 12 : « Front populaire »\, accessible aux personnes à mobilité réduite\, 93210\, France
CATEGORIES:Manifestations scientifiques
END:VEVENT
END:VCALENDAR