BEGIN:VCALENDAR
VERSION:2.0
PRODID:-//Maison des Sciences Humaines et sociales Paris Nord - ECPv6.8.2.1//NONSGML v1.0//EN
CALSCALE:GREGORIAN
METHOD:PUBLISH
X-ORIGINAL-URL:https://www.mshparisnord.fr
X-WR-CALDESC:Évènements pour Maison des Sciences Humaines et sociales Paris Nord
REFRESH-INTERVAL;VALUE=DURATION:PT1H
X-Robots-Tag:noindex
X-PUBLISHED-TTL:PT1H
BEGIN:VTIMEZONE
TZID:Europe/Paris
BEGIN:DAYLIGHT
TZOFFSETFROM:+0100
TZOFFSETTO:+0200
TZNAME:CEST
DTSTART:20180325T010000
END:DAYLIGHT
BEGIN:STANDARD
TZOFFSETFROM:+0200
TZOFFSETTO:+0100
TZNAME:CET
DTSTART:20181028T010000
END:STANDARD
END:VTIMEZONE
BEGIN:VEVENT
DTSTART;TZID=Europe/Paris:20180504T100000
DTEND;TZID=Europe/Paris:20180504T130000
DTSTAMP:20260420T055528
CREATED:20171124T131832Z
LAST-MODIFIED:20180430T092848Z
UID:10006501-1525428000-1525438800@www.mshparisnord.fr
SUMMARY:« Corps » et sciences sociales
DESCRIPTION:Séminaire 2017 – 2018 « Corps » et sciences sociales\nPrésentation critique d’ouvrages en présence de leurs auteurs  \nVendredi 10 novembre 2017\, de 10h à 13h\,  FMSH Paris\nVendredi 08 décembre 2017\, de 10h à 13h\,  FMSH Paris\nVendredi 12 janvier 2018\, de 10h à 13h\,  FMSH Paris\nVendredi 02 février 2018\, de 10h à 13h\,  FMSH Paris\nVendredi 09 mars 2018\, de 10h à 13h\,  FMSH Paris\nVendredi 06 avril 2018\, de 10h à 13h\,  FMSH Paris\nVendredi 04 mai 2018\, de 10h à 13h\,  FMSH Paris\nVendredi 01 juin 2018\, de 10h à 13h\,  FMSH Paris \n\n\n\n• Ce séminaire vise à rendre raison de la floraison saisissante depuis le milieu des années 90 en histoire\, sociologie\, anthropologie\, science politique\, d’ouvrages consacrés aux questions du corps\, de la santé\, de l’administration du vivant. Elle incite à inventorier\, par delà singularités apparentes et spécificités disciplinaires\, les pensés et impensés communs à cette humeur du temps si soucieuse du destin du corps et du biologique. Ce séminaire se tient sous l’égide conjointe de la MSH-Paris Nord et de la Fondation MSH Paris\,  et a été intégré dans deux masters de l’EHESS. \nA.- Un « emotional turn » à la française ? \n(1). 13 octobre 2017 : Emotions et histoire contemporaine \n(2). 10 novembre 2017 : Emotions\, sensibilités et  et sciences sociales \n(3). 8 décembre 2017 : Sensibilités animales \nB.- Le corps\, un destin ? \n(4). 12 janvier 2018 : Race et histoire \n(5). 2 février 2018 : Appropriations sociales des savoirs biologiques \n(6). 9 mars 2018 : Penser le cerveau \n(7). 6 avril 2018 : Le corps « augmenté » \nC.- Histoire (s) de la santé \n(8). 4 mai 2018 : Histoire de la médecine \n(9). 1er juin 2018 : Santé mentale et construction des vulnérables \n>> télécharger le programme (pdf)
URL:https://www.mshparisnord.fr/event/corps-et-sciences-sociales-2/
LOCATION:Fondation Maison des Sciences de l’Homme Paris\, 54 bd Raspail\, Paris\, 75006\, France
CATEGORIES:Actualités,Manifestations scientifiques
END:VEVENT
END:VCALENDAR