BEGIN:VCALENDAR
VERSION:2.0
PRODID:-//Maison des Sciences Humaines et sociales Paris Nord - ECPv6.8.2.1//NONSGML v1.0//EN
CALSCALE:GREGORIAN
METHOD:PUBLISH
X-ORIGINAL-URL:https://www.mshparisnord.fr
X-WR-CALDESC:Évènements pour Maison des Sciences Humaines et sociales Paris Nord
REFRESH-INTERVAL;VALUE=DURATION:PT1H
X-Robots-Tag:noindex
X-PUBLISHED-TTL:PT1H
BEGIN:VTIMEZONE
TZID:Europe/Paris
BEGIN:DAYLIGHT
TZOFFSETFROM:+0100
TZOFFSETTO:+0200
TZNAME:CEST
DTSTART:20180325T010000
END:DAYLIGHT
BEGIN:STANDARD
TZOFFSETFROM:+0200
TZOFFSETTO:+0100
TZNAME:CET
DTSTART:20181028T010000
END:STANDARD
END:VTIMEZONE
BEGIN:VEVENT
DTSTART;VALUE=DATE:20180514
DTEND;VALUE=DATE:20180609
DTSTAMP:20260422T032450
CREATED:20180514T124421Z
LAST-MODIFIED:20180514T124527Z
UID:10006315-1526256000-1528502399@www.mshparisnord.fr
SUMMARY:Exposition de photographies de Pascal Garret
DESCRIPTION:Les petites mains du recyclage marocain\, Casablanca\, janvier 2015.\nUne exposition de Pascal Garret\, Bénédicte Florin\, géographe. \nhttp://www.bab-el-louk.org \nInformations pratiques\ndu 14 mai au 8 juin 2018\ndu lundi au vendredi\, de 8h30 à 17h\nMaison des Sciences de l’Homme Paris Nord\n20\, avenue George Sand\n93210 Saint-Denis la Plaine\nMétro Front Populaire
URL:https://www.mshparisnord.fr/event/exposition-de-photographies-de-pascal-garret/
LOCATION:Métro ligne 12 : « Front populaire »\, accessible aux personnes à mobilité réduite
CATEGORIES:Manifestations scientifiques
END:VEVENT
BEGIN:VEVENT
DTSTART;VALUE=DATE:20180531
DTEND;VALUE=DATE:20180602
DTSTAMP:20260422T032451
CREATED:20180504T074543Z
LAST-MODIFIED:20180507T133639Z
UID:10006312-1527724800-1527897599@www.mshparisnord.fr
SUMMARY:Le malade dans la Cité.  Biographisation\, entourage et normes de vie
DESCRIPTION:Collège International de Recherche Biographique en Éducation \nLes Chantiers du CIRBE 4\navec les images de l’exposition photographique « Immanences » du l’axe 6 du CIRBE \nLa recherche biographique en éducation : quels savoirs ?\nPerspectives épistémologiques et critiques II\n31 mai-1er juin 2018 (8h30-17h) \nà l’UPEC (Université Paris Est Créteil)\nMail des Mêches (Maison des Langues et des Relations Internationales)\nSalle 207\, Métro Créteil Université (Ligne 8) \n>> Inscription gratuite auprès de Anne Dizerbo dizerboanne@lesujetdanslacite.com \n>> présentation et programme (doc)
URL:https://www.mshparisnord.fr/event/le-malade-dans-la-cite-biographisation-entourage-et-normes-de-vie/
LOCATION:Métro ligne 12 : « Front populaire »\, accessible aux personnes à mobilité réduite
CATEGORIES:Manifestations scientifiques
END:VEVENT
BEGIN:VEVENT
DTSTART;TZID=Europe/Paris:20180531T083000
DTEND;TZID=Europe/Paris:20180601T180000
DTSTAMP:20260422T032451
CREATED:20180326T115641Z
LAST-MODIFIED:20180716T124832Z
UID:10006545-1527755400-1527876000@www.mshparisnord.fr
SUMMARY:Le phototexte engagé
DESCRIPTION:Colloque international\, Le phototexte engagé. Du militantisme aux luttes de visibilité\navec Shawn Michelle Smith (Visual Studies\, SAIC Chicago) et Andy Stafford (French Studies\, U. Leeds)\nMagali Nachtergael\, Charlotte Foucher-Zarmanian et Marie Anne Paveau \nSoutenu par les laboratoires Pléiade / LEGS et la MSH Paris Nord \nL’histoire du militantisme est ponctuée de slogans\, affiches\, tracts\, pamphlets\, interventions urbaines ou physiques\, occupations\, séquestrations\, grèves\, manifestations. Toutes ces démonstrations – au sens de visibilité et de rhétorique – ont leur force\, leur langage\, leur culture et leur histoire visuelle. \nLa mémoire des luttes et du militantisme passe par l’archive bien sûr\, mais aussi par une reconfiguration créative articulant le texte et l’image\, relevant de l’artivisme autant que de la rhétorique politique. Texte et photographie\, s’ils ont œuvré de pair à faire passer des messages politiques\, documentent aussi dans une autre temporalité les moments d’engagement parfois sous la forme d’un livre\, d’un journal intime\, d’une publication sur le web quand ils ne font pas office de rappel dans la rue. Au début du 20e siècle\, le photomontage a été plébiscité par les artistes comme outil d’affichage politique et de dénonciation. Il s’est imposé dans le contexte des luttes de classe\, des guerres\, de la censure et en particulier pour contrer le discours fasciste. Le couple texte-image a ainsi inauguré une nouvelle didactique de la lutte\, pour éclairer\, expliquer\, montrer et convaincre face aux aberrations des politiques sociales et culturelles. Il est également devenu\, dans la seconde moitié du 20e siècle\, un médium de prédilection au service des luttes féministes et LGBTQIA+\, de la conquête des droits civiques africains-américains et des mouvements antiracistes\, permettant une meilleure visibilité dans l’espace public et social. \nMais que devient\, à l’heure des médias numériques\, cette agentivité de l’image dans l’espace social telle que le 20e siècle l’a connue (« poids des mots\, chocs des photos ») ? Les modalités d’apparition du discours militant par l’image évoluent avec les réseaux sociaux\, amenant aussi à interroger des urgences contemporaines liées non plus seulement à des groupes mais également plus largement à des écologies discursives et visuelles. \nCe colloque pluridisciplinaire entend dresser un panorama de cent ans de luttes par la photographie et le texte\, depuis le photomontage militant jusqu’aux stratégies de visibilité sur les réseaux sociaux. Jeunes chercheur.e.s et chercheur.e.s confirmé.e.s présenteront des travaux inédits sur des aspects peu étudiés du couple texte et image\, que ce soit en histoire de l’art\, en littérature ou en analyse du discours. \nDeux conférencier.e.s ont été invité.e.s pour poser les enjeux de la politique de l’image et du texte et introduire un nouveau regard\, culturel et politique\, sur l’approche de la photolittérature en France. Andy Stafford (Leeds) dressera le premier jour du colloque un panorama historique de l’engagement phototextuel. Le lendemain\, Shawn Michelle Smith (Chicago) présentera à partir de l’œuvre de l’artiste afrodescendante Lorna Simpson les enjeux de race et de visibilité dans le contexte américain. \n> télécharger l’affiche (pdf) \nEn partenariat média avec : Artpress
URL:https://www.mshparisnord.fr/event/le-phototexte-engage/
LOCATION:MSH Paris Nord\, 20\, avenue George Sand\, La Plaine Saint-Denis\, Métro ligne 12 : « Front populaire »\, accessible aux personnes à mobilité réduite\, 93210\, France
CATEGORIES:Manifestations scientifiques
END:VEVENT
BEGIN:VEVENT
DTSTART;TZID=Europe/Paris:20180531T093000
DTEND;TZID=Europe/Paris:20180531T170000
DTSTAMP:20260422T032451
CREATED:20180518T094832Z
LAST-MODIFIED:20180611T124200Z
UID:10006553-1527759000-1527786000@www.mshparisnord.fr
SUMMARY:Les modèles économiques dans la production de savoirs et les transformations sociales par la recherche-action
DESCRIPTION:Atelier du Laboratoire d’Innovation Sociale par la Recherche-Action\, en partenariat avec la Maison des Sciences de l’Homme Paris Nord\, dans le cadre du programme 174B1 sur les espaces d’émancipation collective\, d’économie populaire et d’innovation sociale \nEn recherche-action\, il n’existe pas d’un côté des chercheurs-acteurs précaires et de l’autre des recherches avec\nles populations en situation de précarité. L’analyse critique des chercheurs et la capacité d’agir des acteurs sont\nliées. Il s’agit d’un même continuum renvoyant à la question de l’autonomie économique dans les formes de\nproduction de savoir et de transformation sociale. Durant la matinée\, nous aborderons les modèles économiques\ndes associations de recherche. L’après-midi\, nous aborderons les pratiques d’économie populaire. \nMatinée 9h30-12h30\nLes modèles économiques des associations de recherche \nAprès-midi 14h-17h\nPratiques de l’économie populaire \ninformations pratiques\nJeudi 31 mai 2018\nMSH Paris Nord\, 20 avenue George Sand\, 93210 Saint-Denis\nSalle 413\, 4e étage\nMétro 12 : Front populaire (sortie n°3 Maison des Sciences de l’Homme)\nRER B : La Plaine – Stade de France puis bus 139 ou 239 (arrêt Métallurgie) ou 15-20 minutes à pieds depuis le RER B \nNombre de places limitées\, inscription obligatoire sur :\nhttp://recherche-action.fr/emancipation-transformation/inscription/ \n>> télécharger le programme (pdf)
URL:https://www.mshparisnord.fr/event/les-modeles-econimiques-dans-la-production-de-savoirs-et-les-transformations-sociales-par-la-recherche-action/
LOCATION:Métro ligne 12 : « Front populaire »\, accessible aux personnes à mobilité réduite
CATEGORIES:Manifestations scientifiques
END:VEVENT
END:VCALENDAR