BEGIN:VCALENDAR
VERSION:2.0
PRODID:-//Maison des Sciences Humaines et sociales Paris Nord - ECPv6.8.2.1//NONSGML v1.0//EN
CALSCALE:GREGORIAN
METHOD:PUBLISH
X-WR-CALNAME:Maison des Sciences Humaines et sociales Paris Nord
X-ORIGINAL-URL:https://www.mshparisnord.fr
X-WR-CALDESC:Évènements pour Maison des Sciences Humaines et sociales Paris Nord
REFRESH-INTERVAL;VALUE=DURATION:PT1H
X-Robots-Tag:noindex
X-PUBLISHED-TTL:PT1H
BEGIN:VTIMEZONE
TZID:Europe/Paris
BEGIN:DAYLIGHT
TZOFFSETFROM:+0100
TZOFFSETTO:+0200
TZNAME:CEST
DTSTART:20210328T010000
END:DAYLIGHT
BEGIN:STANDARD
TZOFFSETFROM:+0200
TZOFFSETTO:+0100
TZNAME:CET
DTSTART:20211031T010000
END:STANDARD
END:VTIMEZONE
BEGIN:VEVENT
DTSTART;TZID=Europe/Paris:20210525T140000
DTEND;TZID=Europe/Paris:20210525T160000
DTSTAMP:20260423T034208
CREATED:20210301T154815Z
LAST-MODIFIED:20210402T151604Z
UID:10006441-1621951200-1621958400@www.mshparisnord.fr
SUMMARY:Séminaire GESTES\, Cent ans de sous-reconnaissance des maladies professionnelles (visio)
DESCRIPTION:Le GIS Gestes (groupe d’études sur le travail et la santé au travail) présente le séminaire : Le travail en transformation ? \nLors de cette séance les quatre co-directeurs présenteront leur ouvrage Cent ans de sous-reconnaissance des maladies professionnelles\, Catherine Cavalin (IRISSO\, Université Paris Dauphine)\, Emmanuel Henry (IRISSO\, Université Paris Dauphine)\, Jean-Noël Jouzel (CSO\, Sciences Po) et Jérôme Pélisse (CSO\, Sciences Po). Leurs interventions seront discutées par Anne-Sophie Bruno (CHS\, Université Paris 1) et Jorge Muñoz (LABERS\, Université Bretagne Occidentale) \n\nRésumé de l’ouvrage\n\n\nLa sous-reconnaissance des maladies liées au travail constitue aujourd’hui\, en France comme dans d’autres pays industrialisés\, un fait social massif. Qu’il s’agisse de cancers provoqués par l’exposition à des produits toxiques\, de troubles musculo-squelettiques induits par des postures répétitives ou par le port de charges lourdes\, ou d’atteintes psychologiques associées à certains modes de management\, les effets du travail sur la santé restent un problème insufﬁsamment pris en charge par les pouvoirs publics. Les dispositifs devant assurer leur reconnaissance et leur indemnisation ne fonctionnent pas de façon satisfaisante\, rendant en grande partie invisibles les origines professionnelles de nombreuses maladies et décès. \n\n\ninformations pratiques\nEn raison de la situation sanitaire\, cette séance se tiendra en visio. \n>> présentation de l’ouvrage sur le site de l’éditeur \n>> consulter la présentation du GIS GESTES\nhttps://www.mshparisnord.fr/gis/gis-gestes/ \nProchaines séances\n11 juin 2021\nLéna Masson (LUMEN\, IAE de Lille)\, lauréate du prix de thèse du Gestes pour sa thèse en sciences de gestion intitulée Le mode de gestion d’une industrie à risques\, ses évolutions et ses effets : le cas de la maintenance sous-traitée des centres nucléaires de production d’électricité d’EDF\nhttps://www.mshparisnord.fr/event/seminaire-gestes-le-mode-de-gestion-dune-industrie-a-risques-ses-evolutions-et-ses-effets/\n \n7 juillet 2021\nPrésentation de l’ouvrage Les dépossédés de l’open space. Une critique écologique du travail par son autrice\, Fanny Lederlin (EA Rationalités contemporaines\, université de Paris)\nCette présentation sera discutée par Thomas Coutrot (DARES – Ministère du Travail).\nLa séance sera animée par Gregor Bouville (DRM\, Université Paris Dauphine).\nhttps://www.mshparisnord.fr/event/seminaire-gestes-les-depossedes-de-lopen-space/ \nSeptembre-octobre 2021\nCyrine Gardes (CERTOP\, Université Toulouse 2)\, lauréate du prix de thèse du Gestes pour sa thèse de sociologie intitulée Un salariat à bas coût. Le travail dans une enseigne low-cost de bricolage
URL:https://www.mshparisnord.fr/event/seminaire-gestes-cent-ans-de-sous-reconnaissance-des-maladies-professionnelles/
LOCATION:visio-conférence
CATEGORIES:Manifestations scientifiques
ATTACH;FMTTYPE=image/jpeg:https://www.mshparisnord.fr/wp-content/uploads/2021/03/seminaire-GESTES-250px.jpg
END:VEVENT
END:VCALENDAR