BEGIN:VCALENDAR
VERSION:2.0
PRODID:-//Maison des Sciences Humaines et sociales Paris Nord - ECPv6.8.2.1//NONSGML v1.0//EN
CALSCALE:GREGORIAN
METHOD:PUBLISH
X-ORIGINAL-URL:https://www.mshparisnord.fr
X-WR-CALDESC:Évènements pour Maison des Sciences Humaines et sociales Paris Nord
REFRESH-INTERVAL;VALUE=DURATION:PT1H
X-Robots-Tag:noindex
X-PUBLISHED-TTL:PT1H
BEGIN:VTIMEZONE
TZID:Europe/Paris
BEGIN:DAYLIGHT
TZOFFSETFROM:+0100
TZOFFSETTO:+0200
TZNAME:CEST
DTSTART:20210328T010000
END:DAYLIGHT
BEGIN:STANDARD
TZOFFSETFROM:+0200
TZOFFSETTO:+0100
TZNAME:CET
DTSTART:20211031T010000
END:STANDARD
END:VTIMEZONE
BEGIN:VEVENT
DTSTART;TZID=Europe/Paris:20210614T140000
DTEND;TZID=Europe/Paris:20210614T180000
DTSTAMP:20260423T154101
CREATED:20210527T100413Z
LAST-MODIFIED:20210527T131231Z
UID:10006971-1623679200-1623693600@www.mshparisnord.fr
SUMMARY:Séminaire\, Anthropologie historique des arts nomades
DESCRIPTION:Descriptions des danses\, des instruments de musique et des rituels dans les récits de voyages en Inde et en Perse du noble érudit et musicien romain Pietro della Valle\, dit ‘Le Pellerin’ (1586-1652) \npar Tiziana Leucci (CEIAS\, CNRS\, MSHPN)\,\nAlessandra Fiorentini (EHESS\, IIAC-LAIOS) et\nCatherine Zalay (Centre Nadopasana\, Institut de Musique Carnatique\, INALCO). \norganisation\nEHESS-Paris / MSH Paris Nord\nco-coordonné par Tiziana Leucci (CEIAS\, CNRS\, MSH Paris Nord)\net Pierre Philippe-Meden (UPVM3\, RiRRa21\, MSH Paris Nord) \n>> consulter la présentation de l’axe de recherche 1 de la MSH Paris Nord\nhttps://www.mshparisnord.fr/programmes/presentation-des-axes/axe-1-industries-de-la-culture-et-arts/ \ninformations pratiques\nJauge réduite à 20 participants.\nRéservation obligatoire : tiziana.leucci@ehess.fr  pierre.philippe-meden@mshparisnord.fr \nAmphithéâtre de la Maison de Sciences de l’Homme Paris Nord (MSH Paris Nord)\n20 avenue Georges Sand\, 93210 Plaine St. Denis\nMétro ligne 12\, ‘Front Populaire’ \nCette manifestation bénéficie du soutien de la MSH Paris Nord dans le cadre de son appel à projets.
URL:https://www.mshparisnord.fr/event/seminaire-anthropologie-historique-des-arts-nomades-2/
LOCATION:MSH Paris Nord\, 20\, avenue George Sand\, La Plaine Saint-Denis\, Métro ligne 12 : « Front populaire »\, accessible aux personnes à mobilité réduite\, 93210\, France
CATEGORIES:Manifestations scientifiques
ATTACH;FMTTYPE=image/jpeg:https://www.mshparisnord.fr/wp-content/uploads/2021/05/arts-nomades-250px.jpg
ORGANIZER;CN="Pierre Philippe-Meden":MAILTO:pierre.philippe-meden@mshparisnord.fr
END:VEVENT
END:VCALENDAR