BEGIN:VCALENDAR
VERSION:2.0
PRODID:-//Maison des Sciences Humaines et sociales Paris Nord - ECPv6.8.2.1//NONSGML v1.0//EN
CALSCALE:GREGORIAN
METHOD:PUBLISH
X-ORIGINAL-URL:https://www.mshparisnord.fr
X-WR-CALDESC:Évènements pour Maison des Sciences Humaines et sociales Paris Nord
REFRESH-INTERVAL;VALUE=DURATION:PT1H
X-Robots-Tag:noindex
X-PUBLISHED-TTL:PT1H
BEGIN:VTIMEZONE
TZID:Europe/Paris
BEGIN:DAYLIGHT
TZOFFSETFROM:+0100
TZOFFSETTO:+0200
TZNAME:CEST
DTSTART:20220327T010000
END:DAYLIGHT
BEGIN:STANDARD
TZOFFSETFROM:+0200
TZOFFSETTO:+0100
TZNAME:CET
DTSTART:20221030T010000
END:STANDARD
END:VTIMEZONE
BEGIN:VEVENT
DTSTART;VALUE=DATE:20221111
DTEND;VALUE=DATE:20221114
DTSTAMP:20260424T012747
CREATED:20220921T141034Z
LAST-MODIFIED:20221011T084309Z
UID:10007532-1668124800-1668383999@www.mshparisnord.fr
SUMMARY:Rencontre annuelle des lanceurs d'alerte
DESCRIPTION:De la santé à la publication des alertes\, de la protection des lanceurs d’alertes à l’environnement sans oublier les droits de l’Homme\, cette 7e édition illustre les trois expressions essentielles qui sont le fil conducteur des rencontres depuis 2015 : « Délivrer l’alerte – Délivrez l’Alerte ! – Des Livres et l’Alerte ». \nCette année 2022\, outre les échéances électorales\, restera marquée par la sécheresse\, les températures caniculaires et la guerre. La fonte de la calotte glaciaire\, l’accélération de la dégradation climatique font émerger des mouvements de résistance pacifique dont le constat est clair : les alertes du GIEC depuis 30 années n’ont pas entraîné la prise de mesures suffisantes. \nAvec l’aide du GIS Démocratie & Participation et de la MSH Paris Nord\, les rencontres sont en mesure de présenter un programme unique de rencontres\, de projections et dédicaces autour de l’alerte et des lanceuses et lanceurs d’alerte. \nhttps://lanceurs-alerte.fr/programme \ninformations pratiques\n11\, 12 & 13 novembre 2022 \nà la Maison des Sciences de l’Homme Paris Nord\nLa Plaine St-Denis \nMétro ligne 12 “Front populaire”\nEntrée libre et gratuite \nLes rencontres se dérouleront dans le respect des gestes barrières et des règles limitant la propagation des virus.
URL:https://www.mshparisnord.fr/event/rencontre-annuelle-des-lanceurs-dalerte/
LOCATION:MSH Paris Nord\, 20\, avenue George Sand\, La Plaine Saint-Denis\, Métro ligne 12 : « Front populaire »\, accessible aux personnes à mobilité réduite\, 93210\, France
CATEGORIES:Manifestations scientifiques
ATTACH;FMTTYPE=image/jpeg:https://www.mshparisnord.fr/wp-content/uploads/2022/09/programme-lanceurs-alerte-2022-250px.jpg
END:VEVENT
END:VCALENDAR