BEGIN:VCALENDAR
VERSION:2.0
PRODID:-//Maison des Sciences Humaines et sociales Paris Nord - ECPv6.8.2.1//NONSGML v1.0//EN
CALSCALE:GREGORIAN
METHOD:PUBLISH
X-WR-CALNAME:Maison des Sciences Humaines et sociales Paris Nord
X-ORIGINAL-URL:https://www.mshparisnord.fr
X-WR-CALDESC:Évènements pour Maison des Sciences Humaines et sociales Paris Nord
REFRESH-INTERVAL;VALUE=DURATION:PT1H
X-Robots-Tag:noindex
X-PUBLISHED-TTL:PT1H
BEGIN:VTIMEZONE
TZID:Europe/Paris
BEGIN:DAYLIGHT
TZOFFSETFROM:+0100
TZOFFSETTO:+0200
TZNAME:CEST
DTSTART:20230326T010000
END:DAYLIGHT
BEGIN:STANDARD
TZOFFSETFROM:+0200
TZOFFSETTO:+0100
TZNAME:CET
DTSTART:20231029T010000
END:STANDARD
END:VTIMEZONE
BEGIN:VEVENT
DTSTART;TZID=Europe/Paris:20231012T120000
DTEND;TZID=Europe/Paris:20231012T134500
DTSTAMP:20260419T200723
CREATED:20230901T115242Z
LAST-MODIFIED:20231005T145355Z
UID:10007596-1697112000-1697118300@www.mshparisnord.fr
SUMMARY:CNRS insolites 2023
DESCRIPTION:Pour la quatrième édition des Visites insolites et dans le cadre de la Fête de la science 2023\, le CNRS invite le public à découvrir des installations ou expériences exceptionnelles dans ses différents centres de recherches en France métropolitaine. Ces Visites insolites permettront à 1150 personnes de se glisser dans la peau de scientifiques pour quelques heures et de côtoyer l’extraordinaire\, le surprenant\, l’étonnant. \nPour participer\, vous pouvez candidater du 30 août au 20 septembre 2023\, en répondant à trois questions en lien avec la thématique de la visite. Les lauréats seront sélectionnés aléatoirement parmi les personnes ayant répondu correctement afin de constituer des groupes composés de quatre à douze personnes suivant les visites. \nÀ cette occasion\, la MSH Paris Nord propose un atelier : \nFaire de la musique avec l’électricité du corps et du cerveau – BBDMI\n  \nLe 12 octobre 2023 à 12h et à 13h\, durée 45min\nParticipation à un atelier de musique électronique employant des capteurs électromyogrammes et électroencéphalogrammes\, et découverte du projet Brain Body Digital Music Instrument : faire de la musique avec l’électricité du corps et du cerveau \nAnimé par Atau Tanaka\, David Fierro\, Anne Sèdes et Stephen Whitmarsh\, chercheur·es de l’équipe du projet BBDMI. \n>> Présentation du projet de recherche \nInformations pratiques\n12 octobre\, séances à 12h et à 13h (durée 45min)\nà la MSH Paris Nord \nPour participer à cet atelier\, vous pouvez candidater jusqu’au 20 septembre 2023 \n>> candidater pour participer à l’atelier \nRetrouvez tous les ateliers proposés par le CNRS dans le cadre des Visites insolites 2023\n>> visitesinsolites.cnrs.fr
URL:https://www.mshparisnord.fr/event/cnrs-insolites-2023/
LOCATION:MSH Paris Nord\, 20\, avenue George Sand\, La Plaine Saint-Denis\, Métro ligne 12 : « Front populaire »\, accessible aux personnes à mobilité réduite\, 93210\, France
CATEGORIES:Manifestations scientifiques
ATTACH;FMTTYPE=image/png:https://www.mshparisnord.fr/wp-content/uploads/2023/09/Affiche-cnrs-insolite-2023-250px.png
END:VEVENT
BEGIN:VEVENT
DTSTART;TZID=Europe/Paris:20231012T170000
DTEND;TZID=Europe/Paris:20231012T190000
DTSTAMP:20260419T200723
CREATED:20231004T134939Z
LAST-MODIFIED:20231220T132333Z
UID:10007605-1697130000-1697137200@www.mshparisnord.fr
SUMMARY:Exposition | Des femmes et des vélos
DESCRIPTION:Exposition jusqu’au 22 décembre 2023\nSur les traces des apprenties-cyclistes du quartier du Franc-Moisin à Saint-Denis (93)\nd’Asmaa Azizi\, Stéphane Ragot et Claire Scopsi \nCette exposition est le pendant créatif d’un projet de recherche éponyme. Elle est le fruit d’un projet d’observation et d’étude des ateliers vélos organisés depuis trois années par l’Association des Femmes de Franc-Moisin (AFFM). Implantée dans ce quartier de la Seine-Saint-Denis depuis 1980\, cette association a pour objectif de favoriser l’apprentissage du français\, la rencontre et l’insertion sociale et culturelle de femmes étrangères ou issues de l’immigration résidant dans ce territoire. \nLe projet de recherche vise à étudier les appropriations du vélo par des femmes racisées\, et par là même leurs appropriations de l’espace public\, en l’occurrence celui d’un quartier populaire classé comme « Zone Urbaine Sensible ». Par le biais de captations audiovisuelles\, d’entretiens individuels et de relevés cartographiques\, l’ambition première de ce travail était d’examiner les mobilités spatiales de ces femmes et d’interroger la façon dont le vélo participe à leur empowerment. \nL’enquête de terrain conduite entre décembre 2022 et juin 2023 a permis un déplacement du regard et une réécriture de l’objet de cette recherche\, qui a évolué pour s’intéresser aussi à l’analyse des représentations du vélo dans le discours des politiques publiques\, des acteurs associatifs œuvrant à la mise en place de ces ateliers (AFFM et UFOLEP\, branche sportive de la Ligue de l’enseignement). Elle a également permis la collecte d’un riche matériel discursif (entretiens)\, photographique et audio-visuel : c’est lui qui est au cœur de cette exposition et qui lui confère son caractère multimodal. Célébrer la dimension sensible de cette recherche : tel a été le parti pris de cette exposition !\nIl s’agit de valoriser les paroles\, les moments d’apprentissage\, les balades dionysiennes\, les temps de mobilisation. C’est une manière de rendre visibles ces femmes triplement invisibles dans l’espace public du fait de leur statut d’immigrées\, de leur statut de femmes et de leur statut administratif précaire\, pour certaines d’entre elles. \nInformations pratiques\n\nVisite guidée dans le cadre du forum des initiatives du Campus Condorcet\nle 11 décembre à 14h\nà la MSH Paris Nord\n>> consulter le programme complet du forum des initiatives du Campus Condorcet\nVisite guidée gourmande avec les femmes de l’Association des Femmes de Franc-Moisin (AFFM)\nle 29 novembre à 14h\nà la MSH Paris Nord\nVernissage de l’exposition le 12 octobre 2023 à 17h\nà la MSH Paris Nord\nExposition du jeudi 12 octobre 2023 au vendredi 22 décembre 2023\ndu lundi au vendredi\nde 8h30 à 18h à la MSH Paris Nord\nEntrée libre\n\n>> consulter le site de l’AFFM \nUn projet de recherche qui bénéficie du soutien de la MSH Paris Nord et du Campus Condorcet dans le cadre de leur appel à projets commun.
URL:https://www.mshparisnord.fr/event/exposition-des-femmes-et-des-velos/2023-10-12/
LOCATION:MSH Paris Nord\, 20\, avenue George Sand\, La Plaine Saint-Denis\, Métro ligne 12 : « Front populaire »\, accessible aux personnes à mobilité réduite\, 93210\, France
CATEGORIES:Manifestations scientifiques
ATTACH;FMTTYPE=image/jpeg:https://www.mshparisnord.fr/wp-content/uploads/2023/10/expo-velo-2023-250px.jpg
END:VEVENT
END:VCALENDAR