BEGIN:VCALENDAR
VERSION:2.0
PRODID:-//Maison des Sciences Humaines et sociales Paris Nord - ECPv6.8.2.1//NONSGML v1.0//EN
CALSCALE:GREGORIAN
METHOD:PUBLISH
X-WR-CALNAME:Maison des Sciences Humaines et sociales Paris Nord
X-ORIGINAL-URL:https://www.mshparisnord.fr
X-WR-CALDESC:Évènements pour Maison des Sciences Humaines et sociales Paris Nord
REFRESH-INTERVAL;VALUE=DURATION:PT1H
X-Robots-Tag:noindex
X-PUBLISHED-TTL:PT1H
BEGIN:VTIMEZONE
TZID:Europe/Paris
BEGIN:DAYLIGHT
TZOFFSETFROM:+0100
TZOFFSETTO:+0200
TZNAME:CEST
DTSTART:20230326T010000
END:DAYLIGHT
BEGIN:STANDARD
TZOFFSETFROM:+0200
TZOFFSETTO:+0100
TZNAME:CET
DTSTART:20231029T010000
END:STANDARD
END:VTIMEZONE
BEGIN:VEVENT
DTSTART;VALUE=DATE:20231017
DTEND;VALUE=DATE:20231019
DTSTAMP:20260419T200613
CREATED:20230908T141136Z
LAST-MODIFIED:20231012T091551Z
UID:10007602-1697500800-1697673599@www.mshparisnord.fr
SUMMARY:Rencontres de l’édition | Le travail du texte
DESCRIPTION:Les 17 et 18 octobre 2023 se tiendront les 5e Rencontres de l’édition en sciences humaines et sociales sur la thématique “Le travail du texte”. Ce moment d’échanges et de réflexions vise à interroger les relations qu’entretiennent chercheuses et chercheurs d’un côté\, et éditrices et éditeurs de l’autre\, pour écrire ensemble les sciences sociales. La manifestation se tiendra à la MSH Paris Nord\, en parallèle de la seconde édition du Salon du livre des humanités organisé par l’Humathèque Condorcet. \nCes rencontres sont portées par les éditeur·rices scientifiques implanté·es sur le Campus Condorcet\, les Éditions de l’EHESS\, les Éditions de l’INED\, le service des publications de l’EPHE\, la MSH Mondes\, les Éditions de l’École nationale des chartes\, les Éditions du CTHS\, la MSH Paris Nord (UAR 3258)\, les Éditions de la Sorbonne\, le Service d’appui à l’édition scientifique ouverte du CNRS (UAR 2028 – Condorcet). \nProgramme\n\n17 octobre de 9h30 à 18h à l’auditorium de la MSH Paris Nord\navec un buffet de 13h à 14h30 en salle panoramique\n18 octobre de 9h30 à 13h au 4e étage de la MSH Paris Nord\nsuivi d’un buffet de 13h à 14h30 en salle panoramique\n\nInformations pratiques\nles 17 et 18 octobre 2023\nà la MSH Paris Nord \nRencontres ouvertes à toutes et tous \n>> consulter la page du Salon du livre des Humanités 2023 \n>> présentation du pôle éditorial et des revues de la MSH Paris Nord
URL:https://www.mshparisnord.fr/event/rencontres-de-ledition-le-travail-du-texte/
LOCATION:MSH Paris Nord\, 20\, avenue George Sand\, La Plaine Saint-Denis\, Métro ligne 12 : « Front populaire »\, accessible aux personnes à mobilité réduite\, 93210\, France
CATEGORIES:Manifestations scientifiques
ATTACH;FMTTYPE=image/jpeg:https://www.mshparisnord.fr/wp-content/uploads/2023/09/5Rencontres-edition_affiche_2023-250px.jpg
END:VEVENT
BEGIN:VEVENT
DTSTART;TZID=Europe/Paris:20231017T110000
DTEND;TZID=Europe/Paris:20231018T190000
DTSTAMP:20260419T200613
CREATED:20230626T093046Z
LAST-MODIFIED:20230925T144455Z
UID:10006771-1697540400-1697655600@www.mshparisnord.fr
SUMMARY:Salon du livre des Humanités 2023
DESCRIPTION:Pour la deuxième édition du Salon du livre des Humanités\, le salon mettra principalement en avant les maisons d’édition et les revues des établissements partenaires du Campus Condorcet\, comme les publications de la MSH Paris Nord\, ainsi que la production des unités de recherche\, laboratoires\, chercheur·es résident·es. \nIl se déroulera en parallèle aux Rencontres de l’édition en sciences humaines.\nLe salon proposera un focus thématique intitulé Territoires (qu’il concerne le territoire local de la Seine-Saint-Denis ou des espaces beaucoup plus éloignés). \nLes ventes seront assurées par la librairie Tschann\, qui proposera\, en plus des éditeurs du Campus Condorcet\, des nouveautés liées au thème annoncé et une sélection de publications venant d’autres éditeurs. \nProgramme\n\n17 octobre de 9h30 à 16h à l’auditorium de l’Humathèque\nPremière séance du séminaire annuel du Comité d’histoire de la politique de la ville sur le thème de la politique de la ville et la jeunesse\n17 octobre de 16h30 à 18h à l’auditorium de l’Humathèque\nTable ronde avec les Rencontres de l’édition en sciences humaines sur le thème Territoires et éditions scientifiques\nElle sera suivie d’un verre de l’amitié.\nLe 18 octobre de 14h à 17h à l’auditorium de l’Humathèque\nLe conseil scientifique du Campus Condorcet propose un débat en trois temps :\n14h : Histoire politique des établissements du Campus Condorcet\, de 1789 à nos jours par Jean-Yves Mérindol\n15h : La Plaine-Saint-Denis : la désindustrialisation et après ? par Emmanuel Bellanger\n16H : Le Campus Condorcet : histoire\, situation\, perspectives par Danielle Tartakowsky et Pierre-Antoine Fabre\n\nInformations pratiques\nmardi 17 et mercredi 18 octobre 2023\nde 11h à 19h\nForum de l’Humathèque du Campus Condorcet \n>> présentation du pôle éditorial et des revues de la MSH Paris Nord
URL:https://www.mshparisnord.fr/event/salon-du-livre-des-humanites-2023/
LOCATION:Campus Condorcet\, Place du Front Populaire\, Aubervilliers\, 93322
CATEGORIES:Manifestations scientifiques
ATTACH;FMTTYPE=image/jpeg:https://www.mshparisnord.fr/wp-content/uploads/2023/06/salon-livre-himanite2-250px.jpg
END:VEVENT
END:VCALENDAR