BEGIN:VCALENDAR
VERSION:2.0
PRODID:-//Maison des Sciences Humaines et sociales Paris Nord - ECPv6.8.2.1//NONSGML v1.0//EN
CALSCALE:GREGORIAN
METHOD:PUBLISH
X-ORIGINAL-URL:https://www.mshparisnord.fr
X-WR-CALDESC:Évènements pour Maison des Sciences Humaines et sociales Paris Nord
REFRESH-INTERVAL;VALUE=DURATION:PT1H
X-Robots-Tag:noindex
X-PUBLISHED-TTL:PT1H
BEGIN:VTIMEZONE
TZID:Europe/Paris
BEGIN:DAYLIGHT
TZOFFSETFROM:+0100
TZOFFSETTO:+0200
TZNAME:CEST
DTSTART:20240331T010000
END:DAYLIGHT
BEGIN:STANDARD
TZOFFSETFROM:+0200
TZOFFSETTO:+0100
TZNAME:CET
DTSTART:20241027T010000
END:STANDARD
END:VTIMEZONE
BEGIN:VEVENT
DTSTART;TZID=Europe/Paris:20240322T080000
DTEND;TZID=Europe/Paris:20240322T190000
DTSTAMP:20260419T200734
CREATED:20240131T105910Z
LAST-MODIFIED:20241001T160642Z
UID:10007631-1711094400-1711134000@www.mshparisnord.fr
SUMMARY:Festival | Printemps Des Humanités
DESCRIPTION:Prendre soin\nTrois jours de débats\, de partage de connaissances et de rencontres fortes\, ponctués de manifestations artistiques et culturelles\, organisés par le Campus Condorcet\, en partenariat avec la MSH Paris Nord notamment. \nProgramme\nCette première édition vous invite à explorer\, interroger\, débattre\, réinventer le prendre soin : scandales sanitaires\, crises climatiques\, politiques publiques de santé et d’accès au soin… autant d’enjeux sociaux contemporains appelant une réflexion collective\, avec le public et avec la recherche. \n\nDiscussion inaugurale avec Nicolas Revel\, directeur de l’APHP et Daniel Benamouzig\, sociologue\, CNRS-Sciences Po\, titulaire de la chaire Santé de Sciences Po\nplusieurs concerts et spectacles vivants\nplus de 20 débats\net des expositions\n\n\nPour ce Printemps Des Humanités\, la MSH Paris Nord propose : \n \nvendredi 22 mars 2023\, de 17h30 à 19h30\, centre des colloques\, auditorium 250\, Campus Condorcet \nQu’est-ce que bien soigner dans le 93 ? \nDiffusion du documentaire Premières urgences d’Éric Guéret. Il suit Amin\, Evan\, Hélène\, Lucie et Mélissa étudiant·es en médecine affecté·es aux urgences de l’hôpital Delafontaine de Saint-Denis pour y effectuer\, pendant six mois\, leur premier stage d’internat. \nLa projection est suivie d’une table ronde sur la question du soin en Seine Saint Denis. Elle aborde notamment le soin dans deux de ses hôpitaux\, Delafontaine et Avicenne\, mais aussi les enjeux de la médecine de ville\, des parcours des soins et de la coordination ville-hôpital\, en établissant un lien entre politique de santé et pratique de soin. \nAvec\nPhilippe Musette\, PUPH à Avicenne\, MSH Paris Nord\nLaure Pitti\, sociologue à l’université Paris 8/MSH Paris Nord\nFabienne Orsi\, économiste à l’IRD/MSH Paris Nord\nCamille Veit\, psychologue à l’université Rennes 2/MSH Paris Nord \n>> télécharger le flyer de la table ronde \n>> voir une interview de Laure Pitti pour le Printemps des Humanités \n\n \nsamedi 23 mars à 16h\, dans l’auditorium de la MSH Paris Nord \nConcert BBDMI Brain Body Digital Music Instrument\nFaire de la musique avec l’électricité du corps et du cerveau\, quand les gestes corporels pilotent la granularité\, la décorrélation et le traitement spatial du son. \nDes musiciens équipés de capteurs EMG (électromyogramme) performeront des oeuvres en progrès : \nElectro-Myo-Guitar d’Alain Bonardi\, Amelia Mazarico et David Fierro\nImmerV3 d’Anne Sèdes pour gong\nCompetence\, work in progress d’Atau Tanaka pour le trio Erämaa\, commande Ars Musica Bruxelles 2025\nCédric De Bruycker (clarinette)\, Quentin Meurisse (piano)\, Amelia Mazarico (guitare)\, David Fierro (RIM) \nhttps://bbdmi.nakala.fr/ \n\nConcerts à la MSH Paris Nord\n\nJeudi 21 mars\, à 20h30\n\nMax Cilla\nUn concert organisé par le Printemps Des Humanités en partenariat avec Villes des musiques du Monde. \n\nVendredi 22 mars\, à 20h30\n\nJulien Desprez\nUn concert organisé par le Printemps Des Humanités en partenariat avec le festival Banlieues Bleues. \n\nInformations pratiques\n\ndu 21 au 23 mars 2024\nà la MSH Paris Nord et au Campus Condorcet\, Aubervilliers\ngratuit et en libre accès\n\n>> télécharger le programme complet de la 1ère édition du Printemps Des Humanités (pdf) \n>> plus d’informations sur la 1ère édition du Printemps Des Humanités \n>> accéder au site internet du Printemps Des Humanités
URL:https://www.mshparisnord.fr/event/festival-printemps-des-humanites/2024-03-22/
LOCATION:MSH Paris Nord\, 20\, avenue George Sand\, La Plaine Saint-Denis\, Métro ligne 12 : « Front populaire »\, accessible aux personnes à mobilité réduite\, 93210\, France
CATEGORIES:Manifestations scientifiques
ATTACH;FMTTYPE=image/jpeg:https://www.mshparisnord.fr/wp-content/uploads/2024/01/CAMP-PrintempsDesHumanites-AfficheA3-Quadri-OK.jpg
END:VEVENT
BEGIN:VEVENT
DTSTART;TZID=Europe/Paris:20240322T100000
DTEND;TZID=Europe/Paris:20240322T130000
DTSTAMP:20260419T200734
CREATED:20230706T081630Z
LAST-MODIFIED:20240502T075456Z
UID:10007591-1711101600-1711112400@www.mshparisnord.fr
SUMMARY:Séminaire | Corps et sciences sociales 2023-2024
DESCRIPTION:Présentation critique d’ouvrages en présence de leurs auteurs\nCe séminaire vise à rendre raison depuis 18 ans de la floraison saisissante depuis le milieu des années 90 en histoire\, sociologie\, anthropologie\, droit\, sciences politiques\, d’ouvrages consacrés aux questions du corps\, de la santé\, de l’administration du vivant. Elle incite à inventorier\, par delà les singularités apparentes et spécificités disciplinaires\, les pensés et impensés communs à cette humeur du temps si soucieuse du destin du corps et du biologique. \nCe séminaire se tient sous l’égide conjointe de la MSH Paris Nord et de la Fondation MSH-Paris\, avec le soutien du Cresppa-CSU et du CERSA. \nprogramme 2023-2024\nSéance 1 | 6 octobre 2023\nLe corps féminin\, un corps aujourd’hui « à soi » ?  \n\nFroidevaux-Metterie C.\, 2021\, Un corps à soi\, Paris XIXe\, Éditions du Seuil\, 376 p.\nQuéré L.\, 2023\, Un corps à nous. Luttes féministes pour la réappropriation du corps\, Paris\, Les Presses de Sciences Po\, 248 p.\nLectrices : Sandrine Bretonnière / Lola Mirouse\n\nSéance 2 | 10 novembre 2023\nReprésentations actuelles des femmes face aux violences domestiques : victimisation\, coresponsabilisation ou agentivité ? \n\nDelage P.\, Lieber M.\, Roca I.\, Escoda M.\, 2020\, Contrer les violences dans le couple : émergence et reconfigurations d’un problème public\, Lausanne\, Antipodes\, 208 p. (avec 2018\, Roca i Escoda\, Delage\, Chetcuti-Osorovitz (dir.)\, « Dossier : les violences de genre à l’épreuve du droit »\, Droit et Société\, n°99\, p. 277 371.)\nParmigiani G.\, Feminism\, Violence and Representation in Modern Italy. « We are Witnesses\, Not Victims »\, Bloomington\, Indiana University Press\, 2019\, 214 p.\nLecteur·rices : Marc Joly / Aurore Dupuy\n\nSéance 3 | 8 décembre 2023\nL’emprise physique sur les dominés de la famille\nToutes les entrées portant sur la violence sur femmes et enfants et son évolution historique dans les deux dictionnaires suivants : \n\nPoutrin I.\, Lusset É. (dirs.)\, 2022\, Dictionnaire du fouet et de la fessée : corriger et punir\, 1re édition\, Paris\, Presses universitaires de France\, 773 p.\nMarzano M. (dir.)\, 2011\, Dictionnaire de la violence\, Paris\, Presses universitaires de France\, 1546 p.\nLecteur·rices : Jean François Lae / Lucie Dupin\n\nSéance 4 | 12 janvier 2024\nNormes contraceptives \n\nKoechlin A.\, 2022\, La norme gynécologique : ce que la médecine fait au corps des femmes\, Paris\, Éditions Amsterdam\, 320 p.\nRoux A.\, 2022\, Pilule : défaire l’évidence\, Paris\, Éditions de la MSH\, 320 p.\nLectrices : Clémence Schantz / Maï Le Dû\n\nSéance 5 | 2 février 2024\nNormes corporelles  \n\nCarof S.\, 2021\, Grossophobie : sociologie d’une discrimination invisible\, Paris\, Éditions de la MSH\, 240 p.\nBuscatto M.\, 2022\, La très grande taille au féminin : les ambivalences d’une stature « hors norme »\, Paris\, CNRS Éditions\, 285 p.\nLecteur·rices : Gerard Rimbert / Françoise De Barros\n\nSéance 6 | 1 mars 2024\nLes tout-petits ? Pas touche ! \n\nLe Dû M.\, 2022\, Toucher pour soigner : le toucheur\, le médecin et l’ostéopathe : un nourrisson entre de bonnes mains\, Toulouse\, Érès éditions\, 230 p.\nBrody A.\, Chicharro G.\, Colin L. et Garnier P.\, 2023\, Les petits coins à l’école : genre\, intimité et sociabilité dans les toilettes scolaires\, Toulouse\, Erès éditions\, 296 p.\nLecteur·rices : Julie Minders / Ghislain Leroy\n\nSéance 7 | 22 mars 2024\nInfanticides \n\nAncian J.\, 2022\, Les violences inaudibles : récits d’infanticides\, Paris\, Éditions du Seuil\, 288 p.\nVoldman D.\, Wieviorka A.\, 2019\, Tristes grossesses : l’affaire des époux Bac (1953-1956)\, Paris\, Éditions du Seuil\, 180 p.\nLecteur·rices : Marie Mathieu / Mathias Dambuyant Wargny\n\nSéance 8 | 3 mai 2024 séance reportée à une date ultérieure\nLa nature\, ressource du discours politique \n\nReynaud Paligot C.\, 2021\, La République raciale : une histoire\, 1860-1940\, Paris\, Presses universitaires de France\, 612 p.\nChapoutot J.\, 2022\, La révolution culturelle nazie\, Paris\, Gallimard\, 312 p.\nLecteur·rices : Magda Maftei / Sacha Bourgeois Gironde\n\norganisation\nDominique Memmi\, directrice de recherche\, CNRS\, CSU\nGéraldine Aïdan\, chargée de recherche\, CERSA-CNRS\, Paris II-Panthéon – Assas\nAnne-Lise Dall’Agnola\, doctorante\, CSU\, Paris 8 \ninformations pratiques\nUn vendredi par mois de 10h à 13h\nEntrée libre et gratuit \nau CNRS\, 59/61 rue Pouchet\, 75017 (M° : Brochant ou Guy Moquet)\nsalle 255 (fléché : 2e étage\, couloir à droite en sortant de l’ascenseur\, salle à votre gauche) \ncontact : corpsetsciencessociales@gmail.com
URL:https://www.mshparisnord.fr/event/seminaire-corps-et-sciences-sociales-2023-2024/2024-03-22/
LOCATION:CNRS Pouchet\, 49/51 rue Pouchet\, Paris\, 75017
CATEGORIES:Manifestations scientifiques
ATTACH;FMTTYPE=image/jpeg:https://www.mshparisnord.fr/wp-content/uploads/2023/10/corps-et-sciences-sociales2023-24-250px.jpg
END:VEVENT
BEGIN:VEVENT
DTSTART;TZID=Europe/Paris:20240322T143000
DTEND;TZID=Europe/Paris:20240322T163000
DTSTAMP:20260419T200734
CREATED:20240312T152657Z
LAST-MODIFIED:20240318T103137Z
UID:10007635-1711117800-1711125000@www.mshparisnord.fr
SUMMARY:Séminaire | Appropriation étatique et développement
DESCRIPTION:Ce séminaire régulier\, tenu à la MSH Paris Nord et retransmis en ligne\, se veut un espace de réflexion pour discuter du rôle ambivalent de l’État dans les dynamiques de développement\, en explorant comment les tensions entre privé\, public et commun peuvent s’articuler. L’appropriation peut être vue comme un comportement prédateur\, ce qui reflète le caractère conflictuel et les confrontations violentes impliquées dans ces rapports (construction imaginaire de la jungle Hobbesienne). \nCette approche vient dialoguer avec un programme de recherche État Prédateur\, conflit et résistances qui contribue à comprendre la place du pouvoir conflictuel dans la genèse et l’évolution des règles régissant la répartition de la richesse et le développement économique\, social\, et écologique. \nLe projet Appropriation étatique et développement a pour objectif principal de constituer un réseau de recherche national et international pluridisciplinaire sur ces thèmes. Nous voulons faire dialoguer toutes les traditions en sciences sociales qui ont pour objet l’appropriation\, et donc aller au-delà du périmètre de la théorie économique. \nL’approche adoptée permet aussi de croiser les réflexions tant sur les pays du Sud\, où les enjeux liés aux phénomènes d’appropriation sont souvent étudiés\, que sur les pays du Nord\, dans une perspective plus historique. En plus de convoquer plusieurs sciences sociales\, les activités du projet croisent les recherches sur des terrains originaux (Cône Sud du continent Américain\, Europe de l’Est\, France\, Moyen-Orient notamment). \nUne caractéristique importante du projet est l’implication de jeunes chercheurs.euses : les réflexions sur l’appropriation et le développement sont un axe transversal des journées doctorales ‘Regards critiques sur le développement’\, auxquelles contribuent plusieurs membres de l’équipe (S. Bagheri\, J. Saldana\, E. Tyrou). \nLes ressources naturelles et la protection sociale ont été identifiées comme des entrées propices pour la première année du projet (2023). Le dialogue interdisciplinaire et international entamé par les partenaires porteurs du projet est consolidé en 2024 avec l’organisation de nouvelles séances\, et une journée d’étude conclusive du projet à l’automne 2024. \nProjet porté par Emma Tyrou et Mehrdad Vahabi CEPN-USPN (Université Sorbonne Paris Nord) \nséances\n20 janvier 2023\nClaire Lemercier (CNRS\, CSO\, Sciences Po Paris)\nÉtat et sociologie historique du capitalisme : où en sommes-nous ?\nÀ partir de l’ouvrage coécrit avec Pierre François\, Sociologie historique du capitalisme\, Paris\, La Découverte\, 2021\nhttps://www.cairn.info/sociologie-historique-du-capitalisme–9782707177841-page-327.htm \nSociologie historique du capitalisme est un manuel qui tente de synthétiser et mettre en compatibilité les apports de la sociologie économique et de l’histoire économique (principalement francophones et anglophones) des dernières décennies\, pour éclairer des questions d’ensemble sur le capitalisme. Le dernier chapitre discute du rôle de l’État. Soulignant que ce rôle est central dans la construction du capitalisme\, il essaie de ce fait de déplacer les questionnements principaux depuis le classique “plus ou moins d’État ?” vers\, d’une part\, une discussion de ce qui peut faire que l’État agit suivant les intérêts de la classe dominante (ou pas)\, d’autre part une description de la sédimentation progressive des principaux instruments de construction étatique du capitalisme. \nNicolas Pinsard (Clersé\, Univ. Lille) \n\nSalle 413 de la MSH Paris Nord\net en vision conférence sur Zoom\nhttps://cnrs.zoom.us/j/99245910220?pwd=QUJTSnRZVnpvZENURUt5RlhEdVk5QT09\nMeeting ID: 992 4591 0220\nPasscode: X3TXd9\n\n\n17 février 2023\nSinem Kavak (Université de Lund)\nÉtat\, autoritarisme et ressources naturelles (séance en anglais)\nAuthoritarian Neoliberalism and Resistance in Contemporary Turkey : Insights from Countryside and Beyond \n\n100% en ligne\nLien zoom\nhttps://cnrs.zoom.us/j/92665066663?pwd=LzlENnlOanhDQmRUZnNwR0swNm5RZz09\nMeeting ID: 926 6506 6663\nPasscode: 7q0vGt\n\n\n31 mars 2023\nChristian Laval (université Paris Nanterre)\nRéflexion sur la relation entre l’État et les communs \nCarlo Vercellone (université de Paris 8\, chercheur associé au Sophiapol – Paris Ouest\, chercheur invité au CES-CNRS – Paris 1) \n\nau centre de colloques\, salle 50 du Campus Condorcet\n\n\n14 avril 2023\nClaude Serfati\nL’État radicalisé. La France à l’ère de la mondialisation armée \nÀ partir de l’ouvrage du même titre\, Paris\, La Fabrique\, 2022 https://lafabrique.fr/letat-radicalise/\nLa mondialisation n’est pas un processus heureux et pacifique : la compétition économique et territoriale entre les États suscite des conflits sur toute la planète. La France joue sa partition dans cette évolution délétère\, qui a mené plus de 115 interventions militaires depuis la disparition de l’URSS pour maintenir son rang de plus en plus contesté de puissance internationale. Avec quelles conséquences ? Elle a fait de la vente d’armes et du nucléaire les derniers leviers de sa politique industrielle\, au détriment de secteurs autrement utiles à la population. En s’arrogeant les questions de défense nationale\, les présidents successifs ont accentué les traits autoritaires de la Ve République\, un régime façonné par des coups de force militaires. L’armée française est aujourd’hui présente dans les rues\, dans les Conseils de défense sanitaire\, et partout sur le globe où les intérêts de Total\, Bolloré et consorts la mènent. Les lois liberticides se suivent\, donnant plus de pouvoir à l’Administration et à la police\, hors de tout contrôle démocratique. Au nom de la lutte contre le terrorisme\, on traque\, on fiche et on malmène tous azimuts les musulmans\, les habitants des quartiers populaires\, les syndicalistes\, les militants écologistes\, tandis que des officiers signent des « tribunes » menaçantes…À l’ère de la mondialisation armée\, l’État français s’est radicalisé. \n\nSalle 410\, 4e étage de la MSH Paris Nord\n\n\n30 juin 2023\nMiklos Rosta (Corvinus University Budapest)\nLe capitalisme politique pour penser l’appropriation étatique dans les pays de l’est (séance en anglais) \n\nà la MSH Paris Nord\, salle 410 (4e étage)\n\n\n22 mars 2024\nChristian Laval (Paris Nanterre-Sophiapol)\nQue faire aujourd’hui de la souveraineté étatique ? \nDiscutant : Benjamin Bürbaumer (Sciences Po Bordeaux et CED) \n\n4.023 du bâtiment de recherche sud\, Campus Condorcet\, et en ligne via Avaya\n\n\n26 avril 2024\nClaude Serfati (IRES et UMI Source)\nPrésentation de l’ouvrage Un monde en guerres \nDiscutant : Nicolas Pinsard (CLERSE) \n\n2.023 du bâtiment de recherche sud\, Campus Condorcet\, et en ligne via Avaya\n\n\n\nÉquipe d’organisation\n\nLeila Ahmadi\nSahar Bagheri\nNojoud Baroudi\nPhilippe Batifoulier\nNicolas Da Silva\nMahdi Fawaz\nSajjad Najafi\nJhonathan Saldana\nEmma Tyrou\nMehrdad Vahabi\n\nInformations pratiques\nvendredi de 14h30 à 16h30\nà la MSH Paris Nord \nUn projet de recherche qui bénéficie du soutien de la MSH Paris Nord dans le cadre de son appel à projets.
URL:https://www.mshparisnord.fr/event/seminaire-appropriation-etatique-et-developpement-2/
LOCATION:MSH Paris Nord\, 20\, avenue George Sand\, La Plaine Saint-Denis\, Métro ligne 12 : « Front populaire »\, accessible aux personnes à mobilité réduite\, 93210\, France
CATEGORIES:Manifestations scientifiques
ATTACH;FMTTYPE=image/png:https://www.mshparisnord.fr/wp-content/uploads/2023/01/250px.png
END:VEVENT
END:VCALENDAR