BEGIN:VCALENDAR
VERSION:2.0
PRODID:-//Maison des Sciences Humaines et sociales Paris Nord - ECPv6.8.2.1//NONSGML v1.0//EN
CALSCALE:GREGORIAN
METHOD:PUBLISH
X-ORIGINAL-URL:https://www.mshparisnord.fr
X-WR-CALDESC:Évènements pour Maison des Sciences Humaines et sociales Paris Nord
REFRESH-INTERVAL;VALUE=DURATION:PT1H
X-Robots-Tag:noindex
X-PUBLISHED-TTL:PT1H
BEGIN:VTIMEZONE
TZID:Europe/Paris
BEGIN:DAYLIGHT
TZOFFSETFROM:+0100
TZOFFSETTO:+0200
TZNAME:CEST
DTSTART:20240331T010000
END:DAYLIGHT
BEGIN:STANDARD
TZOFFSETFROM:+0200
TZOFFSETTO:+0100
TZNAME:CET
DTSTART:20241027T010000
END:STANDARD
END:VTIMEZONE
BEGIN:VEVENT
DTSTART;TZID=Europe/Paris:20240323T080000
DTEND;TZID=Europe/Paris:20240323T190000
DTSTAMP:20260420T070934
CREATED:20240131T105910Z
LAST-MODIFIED:20241001T160642Z
UID:10007632-1711180800-1711220400@www.mshparisnord.fr
SUMMARY:Festival | Printemps Des Humanités
DESCRIPTION:Prendre soin\nTrois jours de débats\, de partage de connaissances et de rencontres fortes\, ponctués de manifestations artistiques et culturelles\, organisés par le Campus Condorcet\, en partenariat avec la MSH Paris Nord notamment. \nProgramme\nCette première édition vous invite à explorer\, interroger\, débattre\, réinventer le prendre soin : scandales sanitaires\, crises climatiques\, politiques publiques de santé et d’accès au soin… autant d’enjeux sociaux contemporains appelant une réflexion collective\, avec le public et avec la recherche. \n\nDiscussion inaugurale avec Nicolas Revel\, directeur de l’APHP et Daniel Benamouzig\, sociologue\, CNRS-Sciences Po\, titulaire de la chaire Santé de Sciences Po\nplusieurs concerts et spectacles vivants\nplus de 20 débats\net des expositions\n\n\nPour ce Printemps Des Humanités\, la MSH Paris Nord propose : \n \nvendredi 22 mars 2023\, de 17h30 à 19h30\, centre des colloques\, auditorium 250\, Campus Condorcet \nQu’est-ce que bien soigner dans le 93 ? \nDiffusion du documentaire Premières urgences d’Éric Guéret. Il suit Amin\, Evan\, Hélène\, Lucie et Mélissa étudiant·es en médecine affecté·es aux urgences de l’hôpital Delafontaine de Saint-Denis pour y effectuer\, pendant six mois\, leur premier stage d’internat. \nLa projection est suivie d’une table ronde sur la question du soin en Seine Saint Denis. Elle aborde notamment le soin dans deux de ses hôpitaux\, Delafontaine et Avicenne\, mais aussi les enjeux de la médecine de ville\, des parcours des soins et de la coordination ville-hôpital\, en établissant un lien entre politique de santé et pratique de soin. \nAvec\nPhilippe Musette\, PUPH à Avicenne\, MSH Paris Nord\nLaure Pitti\, sociologue à l’université Paris 8/MSH Paris Nord\nFabienne Orsi\, économiste à l’IRD/MSH Paris Nord\nCamille Veit\, psychologue à l’université Rennes 2/MSH Paris Nord \n>> télécharger le flyer de la table ronde \n>> voir une interview de Laure Pitti pour le Printemps des Humanités \n\n \nsamedi 23 mars à 16h\, dans l’auditorium de la MSH Paris Nord \nConcert BBDMI Brain Body Digital Music Instrument\nFaire de la musique avec l’électricité du corps et du cerveau\, quand les gestes corporels pilotent la granularité\, la décorrélation et le traitement spatial du son. \nDes musiciens équipés de capteurs EMG (électromyogramme) performeront des oeuvres en progrès : \nElectro-Myo-Guitar d’Alain Bonardi\, Amelia Mazarico et David Fierro\nImmerV3 d’Anne Sèdes pour gong\nCompetence\, work in progress d’Atau Tanaka pour le trio Erämaa\, commande Ars Musica Bruxelles 2025\nCédric De Bruycker (clarinette)\, Quentin Meurisse (piano)\, Amelia Mazarico (guitare)\, David Fierro (RIM) \nhttps://bbdmi.nakala.fr/ \n\nConcerts à la MSH Paris Nord\n\nJeudi 21 mars\, à 20h30\n\nMax Cilla\nUn concert organisé par le Printemps Des Humanités en partenariat avec Villes des musiques du Monde. \n\nVendredi 22 mars\, à 20h30\n\nJulien Desprez\nUn concert organisé par le Printemps Des Humanités en partenariat avec le festival Banlieues Bleues. \n\nInformations pratiques\n\ndu 21 au 23 mars 2024\nà la MSH Paris Nord et au Campus Condorcet\, Aubervilliers\ngratuit et en libre accès\n\n>> télécharger le programme complet de la 1ère édition du Printemps Des Humanités (pdf) \n>> plus d’informations sur la 1ère édition du Printemps Des Humanités \n>> accéder au site internet du Printemps Des Humanités
URL:https://www.mshparisnord.fr/event/festival-printemps-des-humanites/2024-03-23/
LOCATION:MSH Paris Nord\, 20\, avenue George Sand\, La Plaine Saint-Denis\, Métro ligne 12 : « Front populaire »\, accessible aux personnes à mobilité réduite\, 93210\, France
CATEGORIES:Manifestations scientifiques
ATTACH;FMTTYPE=image/jpeg:https://www.mshparisnord.fr/wp-content/uploads/2024/01/CAMP-PrintempsDesHumanites-AfficheA3-Quadri-OK.jpg
END:VEVENT
END:VCALENDAR