

BEGIN:VCALENDAR
VERSION:2.0
PRODID:-//Maison des Sciences Humaines et sociales Paris Nord - ECPv6.8.2.1//NONSGML v1.0//EN
CALSCALE:GREGORIAN
METHOD:PUBLISH
X-ORIGINAL-URL:https://www.mshparisnord.fr
X-WR-CALDESC:Évènements pour Maison des Sciences Humaines et sociales Paris Nord
REFRESH-INTERVAL;VALUE=DURATION:PT1H
X-Robots-Tag:noindex
X-PUBLISHED-TTL:PT1H
BEGIN:VTIMEZONE
TZID:Europe/Paris
BEGIN:DAYLIGHT
TZOFFSETFROM:+0100
TZOFFSETTO:+0200
TZNAME:CEST
DTSTART:20240331T010000
END:DAYLIGHT
BEGIN:STANDARD
TZOFFSETFROM:+0200
TZOFFSETTO:+0100
TZNAME:CET
DTSTART:20241027T010000
END:STANDARD
END:VTIMEZONE
BEGIN:VEVENT
DTSTART;TZID=Europe/Paris:20240625T100000
DTEND;TZID=Europe/Paris:20240625T170000
DTSTAMP:20260425T192200
CREATED:20240530T081437Z
LAST-MODIFIED:20240530T082720Z
UID:10008063-1719309600-1719334800@www.mshparisnord.fr
SUMMARY:Journée d'étude | Négocier la transition juste
DESCRIPTION:Acteurs\, espace et stratégies du dialogue social et environnemental\nLe 25 juin 2024\, à la MSH Paris Nord se tient la journée d’études « Négocier la transition juste. Acteurs\, espaces et stratégies du dialogue social et environnemental »\, organisée par le RT 18 et le GRT Dialogue social de l’AGRH. Cet événement est co-financé par le GIS Gestes dans le cadre de son appel à projets “manifestations scientifiques”. \nProgramme\n10h-10h30 : introduction \n10h30-12h30 : séance 1\, Articulation des niveaux de négociation de la transition socio-écologique \n14h-16h45 : séance 2\, L’entreprise\, lieu de dialogue sur la transition sociale et écologique ? \n16h45-17h : clôture \nInformations pratiques\n\nle 25 juin 2024\, de 10h à 17h\nà la MSH Paris Nord\, salle panoramique\nouvert à tous·tes
URL:https://www.mshparisnord.fr/event/negocier-la-transition-juste/
LOCATION:MSH Paris Nord\, 20\, avenue George Sand\, La Plaine Saint-Denis\, Métro ligne 12 : « Front populaire »\, accessible aux personnes à mobilité réduite\, 93210\, France
CATEGORIES:Manifestations scientifiques
ATTACH;FMTTYPE=image/png:https://www.mshparisnord.fr/wp-content/uploads/2024/05/JE_Negocier-la-transition-juste_25-juin-250.png
END:VEVENT
END:VCALENDAR