

BEGIN:VCALENDAR
VERSION:2.0
PRODID:-//Maison des Sciences Humaines et sociales Paris Nord - ECPv6.8.2.1//NONSGML v1.0//EN
CALSCALE:GREGORIAN
METHOD:PUBLISH
X-WR-CALNAME:Maison des Sciences Humaines et sociales Paris Nord
X-ORIGINAL-URL:https://www.mshparisnord.fr
X-WR-CALDESC:Évènements pour Maison des Sciences Humaines et sociales Paris Nord
REFRESH-INTERVAL;VALUE=DURATION:PT1H
X-Robots-Tag:noindex
X-PUBLISHED-TTL:PT1H
BEGIN:VTIMEZONE
TZID:Europe/Paris
BEGIN:DAYLIGHT
TZOFFSETFROM:+0100
TZOFFSETTO:+0200
TZNAME:CEST
DTSTART:20240331T010000
END:DAYLIGHT
BEGIN:STANDARD
TZOFFSETFROM:+0200
TZOFFSETTO:+0100
TZNAME:CET
DTSTART:20241027T010000
END:STANDARD
END:VTIMEZONE
BEGIN:VEVENT
DTSTART;TZID=Europe/Paris:20240628T080000
DTEND;TZID=Europe/Paris:20240628T200000
DTSTAMP:20260421T172014
CREATED:20231206T105537Z
LAST-MODIFIED:20240613T092812Z
UID:10008065-1719561600-1719604800@www.mshparisnord.fr
SUMMARY:Exposition podcasts | Patrimoine vivant en ethnoscénologie
DESCRIPTION:Exposition prolongée jusqu’au 27 juin\nCette exposition propose de revenir en images sur les séances d’enregistrement du séminaire hybride intitulé Patrimoine vivant en ethnoscénologie\, présenté sous forme de podcasts. L’objectif de ce chantier est de constituer sur le long terme un fonds d’archives sonores donnant à entendre des voix de chercheurs\, chercheuses et artistes-chercheur·euses ayant contribué à façonner la perspective transdisciplinaire de l’ethnoscénologie. \nLors du colloque international de mai 1995\, tenu au siège parisien de l’UNESCO et à la Maison des Cultures du Monde\, Jean Duvignaud\, Françoise Gründ\, Chérif Khaznadar et Jean-Marie Pradier\, appelaient à l’importance de structurer une perspective interdisciplinaire de l’esthétique des incarnations de l’imaginaire\, afin de sortir de l’ethnocentrisme à l’œuvre dans le champ d’études des pratiques spectaculaires et performatives humaines. Dans cette lancée\, le manifeste du 9 février 1995\, publié dans le n°13 de la revue Théâtre/Public\, soulignait l’importance de comprendre la diversité des pratiques spectaculaires humaines et de développer de nouveaux outils d’investigation. \nDepuis cette dynamique et sous la direction de Jean-Marie Pradier\, le réseau des doctorants en ethnoscénologie a joué un rôle central à la Maison des Sciences de l’Homme Paris Nord\, favorisant alors des rencontres professionnelles\, des journées d’études internationales aux côtés de chercheurs en sciences humaines et sociales. De Maurice Godelier à François Laplantine\, Jean-François Dusigne\, Nathalie Gauthard\, Armindo Bião\, Pierre Philippe-Meden\, Arianna De Sanctis\, éleonore Martin\, Kitsou Dubois\, Khaki Mohammed Raza\, Jin-Hwan Ra\, Rolf Abderhalden Cortes\, Lee Hyunjoo\, et bien d’autres acteur·rices\, une réévaluation d’une histoire transnationale des corps spectaculaires se mit à l’œuvre\, replaçant les pratiques spectaculaires de l’ailleurs comme celles du proche dans leur contexte culturel\, historique et sociologique. Ces différents chercheurs et chercheuses nourrissaient alors la préoccupation conjointe de prendre en compte le point de vue des performeurs\, des observateurs et/ou des témoins\, mais aussi d’appréhender l’évolution historique des sciences humaines\, le rapport des disciplines entre elles\, et en particulier l’apport des sciences de la vie. \nPresque 30 ans après le colloque fondateur\, nous avons voulu faire entendre les récits de parcours de chercheurs et chercheuses qui ancrent leurs travaux « en ethnoscénologie » parce que la recherche est avant tout incarnée\, portée par des corps dont les trajectoires singulières aiguisent une perception située sur le monde. L’enjeu est de donner à voir l’émergence et le développement de cette démarche de recherche depuis ses facettes kaléidoscopiques. \nLes enregistrements de cette première édition ont été réalisés au sein de la Maison des cultures du Monde – Vitré et la MSH Paris Nord\, entre juin et novembre 2022. \nLes photographies de Jessica Rozycka et Yohann Teyssier-Verger ont été traitées artistiquement par Yohann Teyssier-Verger pour y apporter des éléments historiques et/ou de contexte. \nLien vers les six podcasts : \n\nPodcast 1 : Introduction par Carolane Sanchez\, MCF université Franche-Comté\, responsable scientifique du projet\nPodcast 2 : Rencontre avec Jean-Marie Pradier\, Pr. émérite univ. Paris 8\, Chérif Khaznadar et Françoise Gründ\, cofondateurs de la Maison des cultures du monde – Centre français du patrimoine culturel immatériel\nPodcast 3 : Rencontre avec Arianna Bérénice De Sanctis\, MCF université Côte d’Azur et Pierre Philippe-Meden\, MCF université Paul Valéry – Montpellier\nPodcast 4 : Rencontre avec Nathalie Gauthard\, Pr. Université d’Artois\nPodcast 5 : Rencontre avec Jean-François Dusigne\, Pr. université Paris 8 et Guy Freixe\, Pr. émérite université Franche-Comté\nPodcast 6 : Témoignage de Jean-François Dusigne\, Pr. université Paris 8\n\nPorteuse de projet et responsabilité scientifique : Carolane Sanchez\nEn collaboration avec Florence Hinard\nMontage podcast : Christina Firmino\nArrangement sonore : Sylvain Robine\nPhotographies : Jessica Rozycka\, Yohann Teyssier-Verger\nTraitement artistique des photographies et archives : Yohann Teyssier-Verger \nInformations pratiques\n\nvisite guidée et lancement des podcasts\n22 janvier 2024 à 17h\nà la MSH Paris Nord\, en salle panoramique\nouvert à tous·tes sans réservation\nexposition du lundi 22 janvier au vendredi 29 mars 2024 au jeudi 27 juin 2024\ndu lundi au vendredi\nde 8h30 à 18h\nouvert à tous·tes\n\nUn projet de recherche qui bénéficie du soutien de la MSH Paris Nord dans le cadre de son appel à projets. \nCe projet de recherche a reçu un financement de la Maison des Sciences de l’Homme Paris Nord (« Créations\, pratiques\, public » – axe 1 thème D)\, du Laboratoire ELLIADD et de l’ED LECLA (université de Franche-Comté)\, de l’ED EDESTA\, du Laboratoire Scène du monde/Unité Ethnoscénologie de l’Université Paris 8-Vincennes Saint-Denis\, et il est réalisé en partenariat avec la Maison des Cultures du Monde – Vitré.
URL:https://www.mshparisnord.fr/event/seminaire-patrimoine-vivant-en-ethnoscenologie/2024-06-28/
LOCATION:MSH Paris Nord\, 20\, avenue George Sand\, La Plaine Saint-Denis\, Métro ligne 12 : « Front populaire »\, accessible aux personnes à mobilité réduite\, 93210\, France
CATEGORIES:Manifestations scientifiques
ATTACH;FMTTYPE=image/png:https://www.mshparisnord.fr/wp-content/uploads/2023/12/Affiche-Patrimoine-Vivant-en-ethnoscenologie-250.png
END:VEVENT
BEGIN:VEVENT
DTSTART;TZID=Europe/Paris:20240628T180000
DTEND;TZID=Europe/Paris:20240628T200000
DTSTAMP:20260421T172014
CREATED:20240126T123343Z
LAST-MODIFIED:20251127T150337Z
UID:10008057-1719597600-1719604800@www.mshparisnord.fr
SUMMARY:Séminaire | Recherche Économie Critique
DESCRIPTION:Le séminaire Récri est un espace régulier de rencontres et d’échanges pour les jeunes chercheur·ses s’inscrivant dans une démarche de triple pluralisme en économie. Le projet part du constat de la grande richesse de la jeune recherche pluraliste\, de son caractère foisonnant et\, en même temps\, du manque de contacts entre jeunes chercheur·es au-delà les inscriptions institutionnelles. Il propose ainsi un rendez-vous interinstitutionnel régulier. \nÀ la fin de chaque semestre\, une journée d’études sera l’occasion d’inviter un·e ou deux chercheur·ses plus confirmé·es pour revenir plus longuement sur un thème fixé à l’avance. \nLe séminaire est organisé par Mathis Bachelot\, Jérôme Deyris\, Nicolas Laurence\, Raphaël Porcherot\, Adèle Sébert et Colin Vuilletet. \nProgramme\n\njeudi 8 février 2024\nà la MSH Paris Nord\, salle 413 \nLe travail et ses mutations \n\nMathis Bachelot\, Clersé\, Université de Lille\nQuelle est la qualité des emplois verts en France ?\nArmanda Cetrulo\, Scuola Superiore Santa’Anna\, Pise\nNumérisation et transition juste : quel rôle pour le syndicat dans le secteur automobile en Italie et en France ?\nMalo Mofakhami\, CEPN\, USPN\nEnjeux et perspective en économie du travail\, cadres d’analyse et programmes de recherche\nLuke Neal\, Aura\, Sheffield University\nEcology and labour in the offshore wind energy transition\n\n\njeudi 7 mars 2024\nà la MSH Paris Nord\, salle 413 \nHistoire et épistémologie de la macroéconomie \n\nTarek Fahim\, SND\, Sorbonne Université\, CEPN\, USPN\nLes fondements microéconomiques de la macroéconomie : par-delà réductionnisme et émergentisme\nMatthieu Renault\, PHARE\, Université Paris 1 Panthéon-Sorbonne\, GREDEG\nMicrofondements de la Macro : une longue bataille au sein du mainstream\nFrancesco Sergi\, LIPHA\, UPEC\nMacroéconomie et informatique : histoire et enjeux\, de DRI à Dynare\n\n\njeudi 4 avril 2024\, salle 413 \nPolitiques de la transition énergétique \n\nMeryem Bezzaz\, AxPo\, Sciences Po\nAdriana Calcagno\, CIRED\n\n\njeudi 25 avril 2024\, salle panoramique \nComptabiliser la soutenabilité ou soutenabiliser la comptabilité : le rôle des indicateurs dans la transition écologique \n\nChloé Desplechin\, Clersé\, université de Lille – Mairie de Paris\nMétamorphoses du développement durable à la Ville de Paris\nSoline Ralite\, chaire de comptabilité écologique\, université Paris-Dauphine\nLes narratifs de l’agenda de la finance climat\nCaroline Vigo Cogueto (CEPN\, Université Sorbonne Paris Nord – Chaire Comptabilité Écologique)\nQuels indicateurs pour une bonne gestion de l’environnement ? Un regard « comptable » des outils de gestion pour la conservation\n\n\nvendredi 28 juin 2024\, salle panoramique \nThéories hétérodoxes du taux de change et de l’inflation \n\nMariano Féliz (CIG-IdIHCS/CONICET-UNLP\, Universidad de La Plata)\nJonathan Marie (CEPN\, USPN)\n\n\nvendredi 13 septembre 2024\, salle 410 \nHabitus économique et genre \n\nJuliette Blayac (Triangle\, Lyon 2)\nÉduquer le consommateur\, limiter le travailleur : L’impact de la morale du thrift de l’Angleterre aux Etats-Unis au début du XXe siècle\nMarion Clerc (IRISSO\, Dauphine)\nL’homo oeconomicus a-t-il un corps ? L’incorporation de pratiques de consommation chez les enfants\n\n\njeudi 14 novembre 2024 \nMonnaie(s) et crise(s) socio-écologique(s) \n\nNicolas Laurence (Pacte\, Sciences Po Grenoble)\nRedefining the International Monetary System: New Perspectives on Special Drawing Rights (SDRs) as a Catalyst for Ecological Economic Transformation\nLéo Revelli (Triangle\, Lyon 2)\nL’impact écologique des monnaies locales en France (titre provisoire)\nRomain Svartzman (Bocconi University & Institute for European Policymaking & Senior Executive Fellow at SDA Bocconi)\nPolitiser la monnaie\, au risque de dépolitiser la transition ? Débats autour du rôle de la monnaie dans la transition écologique\n\n\nmercredi 4 décembre 2024 \nDonnées textuelles et sciences sociales computationnelles \n\nJérôme Deyris (CEE\, Sciences Po)\nNational accountability for supranational policy? A Large Language Models exploration of Banque de France hearings (1993-2023)\nGabriel Tailleur (LEFMI\, Sciences Po Lille)\nInstitutional Trust and Money : Exploring the Dialectic of Private and Public Currencies in the European Parliament with Textual Analysis\n\n\njeudi 16 janvier 2025 \nInstitutionnalismes et métabolismes \n\nAlbert Bouffange (Institut d’Etudes Politiques de Lyon et INRIA\, Grenoble)\nInstitutions et métabolisme au prisme de la post-croissance dans le cas de la Période Spéciale à Cuba\nFlorian Méry (LEREPS\, Toulouse)\nÉco-nomie\, éco-logie\, éco-sophie : pour un cadre logique critique des objectifs du développement durable [ODD]\nVincent Jalabert (ART-DEV\, Monptellier)\nMarxisme écologique : espace-temps-travail\n\n\njeudi 13 février 2025 \nTerrains et méthodes-mixtes \n\nFloriane Bolazzi (Università degli Studi di Milano\, Dipartimento di scienze politiche e sociali)\nIntergenerational mobility in a North Indian village (1958-2015): Insights from a Mixed-Method Study\n\nAntoine Rieu (IRG\, université Gustave Eiffel\, chercheur associé au CESSMA\, université Paris Cité)\nAnalyser la « création de valeur » : considérations méthodologiques et disciplinaires à partir d’une enquête sur les premières co-entreprises sociales créées en France\n\n\njeudi 6 mars 2025 \nModélisation macro-écologique postkeynésienne \n\nCôme de Chefdebien-Zagarriga (université Sorbonne Paris Nord\, ACT)\nLabour Market and SFC models : an ecological perspective\nJessica Reale (Scuola Universitaria Superiore Pavia\, CARISMA)\nAn AB-SFC model of finance\, technological diﬀusion\, and the low-carbon transition\nMattia Leoni (università Roma Tre)\nTilting the ship’\, Green financial policy in a hybrid AB-SFC model with securitisation\n\n\nmercredi 23 avril 2025 \nCe qui échappe aux catégorisations des sciences économiques. Une approche par les Suds\nWhat economic classification elude. An approach from the global South\n \n\nAsad Abbasi (université de Sussex)\nsur la corruption au Pakistan\nClaude Chevaleyre (CNRS\, institut d’Asie Orientale de Lyon)\nsur la coercition dans l’histoire du travail en Chine\nMarta Massera (LEDa-DIAL\, SOURCE\, université Saint-Quentin-en-Yvelines)\nsur les unités de production informelles au Sénégal\nCécile Mouchel (CESSMA\, LEDa-DIAL\, université Paris Cité)\nsur les intermédiaires d’emploi en Inde\n\n\njeudi 5 juin 2025 \nMarchés et coordinations alternatives de la production \n\nHannah Bensussan (Act!\, Université Sorbonne Paris Nord)\nAntagonistic and organic: the two sides of ‘control’ under digital capitalism\nElena Hofferberth (CliMacro\, Université de Lausanne / projet REAL)\nPlanifier la décroissance pour faire face aux crises sociales et écologiques\nAmbroise Joulin (Diplab\, Institut Polytechnique de Paris)\nL’abolition de l’économie de marché dans le projet politique du Mouvement Technocratique\nTarek Fahim (Act!\, Université Sorbonne Paris Nord)\nLes fondements microéconomiques de la macroéconomie ou le projet fondateur de l’économie politique\n\n\n\njeudi 11 septembre 2025 \nFinancer l’économie : les transformations du rapport public/privé \n\nMarion Tosolini (BETA\, université de Lorraine)\nAlex Amiotte-Suchet (IDHES\, ENS Paris-Saclay)\n\n\nmercredi 22 octobre 2025 séance uniquement en visio \nÉconomie Sociale et Solidaire \n\nNoémie Mouret (ESO\, université Rennes 2)\nFlorian Barès (PRINTEMPS\, UVQ-Paris Saclay)\n\n\njeudi 6 novembre 2025 \nLa financiarisation de l’hôpital public \n\nToprak Erdeniz (IRIS\, EHESS)\nAlice Bétoule (CEPN\, Université Paris Nord)\n\n\njeudi 4 décembre 2025 \nJournée d’étude conclusive – Théories\, disciplines\, approches\, épistémologies : perspectives pluralistes en économie politique \n>> consulter la page dédiée à la journée d’étude \n\nInformations pratiques \n\nà la MSH Paris Nord\nde 18h à 20h\npour s’inscrire à la newsletter et obtenir le lien de connexion en visio qui y sera diffusé quelques jours avant\, envoyez un mail vide à l’adresse sympa@groupes.renater.fr en indiquant pour objet :\nsubscribe seminaire.recri [votre Prénom] [votre Nom] ou se rendre sur ce lien.\npour contacter l’équipe du séminaire Récri\, écrire à l’adresse recri@mshparisnord.fr\n\n>> lien vers le carnet Hypotheses de Récri\nhttps://recri.hypotheses.org/ \n \nUn projet de recherche qui bénéficie du soutien de la MSH Paris Nord dans le cadre de son appel à projets.
URL:https://www.mshparisnord.fr/event/seminaire-recri-recherche-economie-critique/2024-06-28/
LOCATION:MSH Paris Nord\, 20\, avenue George Sand\, La Plaine Saint-Denis\, Métro ligne 12 : « Front populaire »\, accessible aux personnes à mobilité réduite\, 93210\, France
CATEGORIES:Manifestations scientifiques
ATTACH;FMTTYPE=image/png:https://www.mshparisnord.fr/wp-content/uploads/2025/08/A3-Recri-2025.png
END:VEVENT
BEGIN:VEVENT
DTSTART;TZID=Europe/Paris:20240628T180000
DTEND;TZID=Europe/Paris:20240628T200000
DTSTAMP:20260421T172014
CREATED:20240227T102759Z
LAST-MODIFIED:20240715T092801Z
UID:10008067-1719597600-1719604800@www.mshparisnord.fr
SUMMARY:Séminaire | Santé numérique
DESCRIPTION:Lancé en 2022\, le groupe de travail “santé numérique” regroupe plusieurs jeunes chercheuses issues des SHS et dont les travaux portent sur la santé numérique. Outre la recherche sur cette thématique\, le groupe a aussi pour vocation de valoriser et de visibiliser les jeunes chercheurs·ses travaillant sur la santé numérique. \nC’est dans ce contexte que le GT lance la saison 2 de son séminaire virtuel sur le thème du travail autour et avec les données de santé. Le séminaire sera clôturé par une journée d’étude. \nLe séminaire est organisé par Sarah Sandré et Alice Sauda. \n\nProgramme\n12 février 2024\nTravailler avec des données massives en sciences biomédicales : vers la fin du paradigme mécanistique ? \nClément Guiraud\, docteur en philosophie des sciences\, université de Nantes \n\n25 mars 2024\, 17h30 séance reportée à une date ultérieure\nAnalyse et intelligibilité des données de santé : la participation de l’affichage auditif dans l’engagement du patient \nAlice Sauda\, doctorante en informatique musicale\, CICM/Musidanse\, université Paris 8 \nLien zoom\nhttps://us06web.zoom.us/j/82041726758?pwd=VnVhUjhXK3AydHUwcjU4YXBpV1NzUT09\nMeeting ID : 820 4172 6758\nPasscode : 708055 \n\n25 avril 2024\, 18h\nEthnographie du secrétariat médical : le travail invisible de traduction graphique de l’information médicale \nFanny Maurel\, doctorante en design\,ACCRA\, université de Strasbourg \nInscription obligatoire par e-mail via l’adresse lsarah12@gmail.com \n\n6 mai 2024\, séance reportée en octobre\nEnjeux de l’utilisation et de la mise en forme des données de santé dans le développement d’outils d’e-santé pour la prise en charge de l’obésité pédiatrique \nDelphine Azema\, post-doctorante\, CRESCO\, UT3 \n\n28 juin 2024\, 18h\nLe travail de la donnée au-delà des algorithmes \nLou Benezit\, doctorante en sociologie (L@bisen/CENS\, Université de Nantes) \nInscription obligatoire par e-mail via l’adresse lsarah12@gmail.com \n\nInformations pratiques\n\nen visioconférence\njournée d’étude le 27 septembre 2024 à la MSH Paris Nord\n\nUn projet de recherche qui bénéficie du soutien de la MSH Paris Nord dans le cadre de son appel à projets.
URL:https://www.mshparisnord.fr/event/seminaire-sante-numerique/2024-06-28/
LOCATION:MSH Paris Nord\, 20\, avenue George Sand\, La Plaine Saint-Denis\, Métro ligne 12 : « Front populaire »\, accessible aux personnes à mobilité réduite\, 93210\, France
CATEGORIES:Manifestations scientifiques
ATTACH;FMTTYPE=image/png:https://www.mshparisnord.fr/wp-content/uploads/2024/02/Affiche-generique-sante-numerique.png
END:VEVENT
END:VCALENDAR