



BEGIN:VCALENDAR
VERSION:2.0
PRODID:-//Maison des Sciences Humaines et sociales Paris Nord - ECPv6.8.2.1//NONSGML v1.0//EN
CALSCALE:GREGORIAN
METHOD:PUBLISH
X-ORIGINAL-URL:https://www.mshparisnord.fr
X-WR-CALDESC:Évènements pour Maison des Sciences Humaines et sociales Paris Nord
REFRESH-INTERVAL;VALUE=DURATION:PT1H
X-Robots-Tag:noindex
X-PUBLISHED-TTL:PT1H
BEGIN:VTIMEZONE
TZID:Europe/Paris
BEGIN:DAYLIGHT
TZOFFSETFROM:+0100
TZOFFSETTO:+0200
TZNAME:CEST
DTSTART:20250330T010000
END:DAYLIGHT
BEGIN:STANDARD
TZOFFSETFROM:+0200
TZOFFSETTO:+0100
TZNAME:CET
DTSTART:20251026T010000
END:STANDARD
END:VTIMEZONE
BEGIN:VEVENT
DTSTART;TZID=Europe/Paris:20251120T083000
DTEND;TZID=Europe/Paris:20251120T190000
DTSTAMP:20260420T025659
CREATED:20251008T152355Z
LAST-MODIFIED:20251110T154815Z
UID:10008329-1763627400-1763665200@www.mshparisnord.fr
SUMMARY:Colloque | À quoi tient la démocratie ?
DESCRIPTION:GIS Démocratie & Participation\nNos sociétés sont actuellement confrontées à la conjonction des crises environnementale\, sociale\, économique\, (géo)politique. Les conséquences du changement climatique\, de la chute de la biodiversité et plus généralement de l’attrition des ressources appellent une mobilisation sans précédent qui semble toujours repoussée. Le programme de démocratisation de l’ordre international est épuisé jusqu’à remettre en cause l’existence même des institutions portant le langage des droits à l’échelle mondiale. \nDans le même temps\, les régimes\, les institutions et les pratiques démocratiques traversent de fortes turbulences : la déconsolidation est à l’œuvre\, sous des formes et à des échelles multiples. Certains pays\, naguère en transition démocratique\, sont pris dans des dérives autoritaires et s’emploient à thématiser l’illibéralisme comme forme démocratique légitime. D’autres\, naguère considérés comme des « démocraties consolidées » voient leurs contrepouvoirs s’éroder. Des partis d’extrême droite\, impuissants à appréhender la pluralité d’une communauté politique dans un nous\, alimentent leur progression en se réappropriant la démocratie et ses codes\, mais la dépeuplent radicalement d’une partie de ses citoyens. Le rapport ordinaire au politique et plus généralement la confiance dans la politique\, ses institutions\, mais aussi ses modes d’engagement\, sont minés par un sentiment d’insatisfaction et de désaffection. Des attentes fortes envers la démocratie nourrissent paradoxalement une forme subtile de déconsolidation démocratique\, faisant opter certains pour des institutions\, des normes et des modalités d’exercice du pouvoir jugées plus efficaces. \nLes panels et tables rondes du colloque organisent une discussion structurée par des questionnements qui appellent d’une part à prendre la mesure de la déstabilisation des catégories de l’analyse politique\, en France et dans le monde\, et d’autre part à penser ensemble ce qui défait et ce qui refait la démocratie : \n\nComment et en quoi les transformations contemporaines du capitalisme influencent-elles les institutions de la démocratie ?\nQuels concepts et constats structurent les débats sur les processus de déconsolidation et de reconsolidation démocratiques ?\nQuels sont les effets des évolutions des technologies numériques dans ses processus ?\nComment saisir les relations entre renforcement des partis et des gouvernements d’extrême droite et déconsolidation démocratique ?\nComment des agents\, activistes ou citoyens tentent de résister avec ou sans les institutions ?\nQuelle place pour les mouvements sociaux et les initiatives citoyennes ?\nQuelle est la portée des innovations démocratiques et de leurs traitements médiatique et politique ?\nComment repenser les liens entre savoirs et démocratie\, et qu’attendre notamment de la recherche en sciences sociales pour consolider la démocratie ?\n\nProgramme\n>> télécharger le programme complet détaillé (pdf) \nJeudi 20 novembre 2025 \n\n8h30 – Accueil\n9h-9h15 – Mot d’introduction de l’équipe du GIS Démocratie et Participation\n9h15 – 10h45 – Déconsolidation et reconsolidation démocratique. Regards croisés\nAnimation et discussion : Camille Bedock (CNRS – Centre Emile-Durkheim)\n\nAvec Clément Fontan (université catholique de Louvain)\, Eugénie Mérieau (université Paris 1 Panthéon Sorbonne) et Luca Tomini (université Libre de Bruxelles) \n\n11h – 12h30 – Technologies numériques et dé/reconsolidation démocratique\nAnimation et discussion : Mathieu Brugidou (EDF R&D – PACTE)\n\nAvec David Chavalarias (CNRS – Institut des systèmes complexes Paris Ile-de-France)\, Manon Berriche (Science Po Medialab) et Francesca Musiani (CNRS-CIS) \n\n14h-15h30 – Démocratie et droites radicales\nAnimation et discussion : Émilien Houard Vial (CNRS-CESDIP – CEE)\n\n\nPolarisation partisane et politisation du déficit démocratique. Comment les partis de droite populiste radicale mobilisent les Européen·nes\nFrédéric Gonthier (Sciences Po Grenoble-PACTE-CNRS) \nQuand le langage démocratique légitime la suprématie juive : étude du discours de la droite israélienne.\nNitzan Perelman-Becker (CNRS-CENS) \n\n15h45 – 17h15 – Les innovations démocratiques à l’épreuve du traitement médiatique et politique\nAnimation et discussion : Gaël Stéphan (université de Lorraine)\n\n\nComment les médias contribuent-ils à la résonance entre micro-public et macro-public ? Une analyse de la couverture presse de la Convention citoyenne pour le climat.\nSophie Hartwig et Louis-Gaëtan Giraudet (ENPC – CIRED) \nAssemblées citoyennes et configurations politiques : une comparaison de six débats nationaux\nDamien Pennetreau (université de Namur)\, Vincent Jacquet (université de Namur) et Sofia Serra-Silva (universidad de Lisboa) \n\n17h30- 19h – Qu’attendre de la recherche en temps de dé/reconsolidation démocratique ?\nAnimation : Jean-Michel Fourniau\n\nAvec Floran Augagneur (CNDP) ; Patrice Duran (CNIS) ; Patrick Jolivet (Ademe) ; Gaëlle Lahoreau (vice-présidente de la Région Centre-Val de Loire) ; Brice Laurent (ANSES) \n\nVendredi 21 novembre 2025 \n\n8h30 – Accueil\n9h-10h30 – Résister (ou non) depuis\, avec ou sans les institutions\nAnimation et discussion : Rémi Lefebvre (université de Lille)\n\nComment des fonctionnaires résistent (ou non) face au recul des libertés. Des agents de l’Etat local face à la mainmise policière\nPablo Corroyer (université de Lille) \nDilution ou renforcement ? Évolution des budgets participatifs dix ans après leur institutionnalisation dans tous les villages environnants Chengdu et Canton\nÉmilie Frenkiel (université Paris-Est Créteil) et Li Rongxin (Jinan University) \nControverses environnementales : que produisent les instances de participation publique au Québec et en France ? Une lecture par le clivage Écologisme/Productivisme\nSophie Van Neste (INRS) et Pascale Dufour (université de Montréal) \n\n10h45 – 12h30 – Reconsolider la démocratie par le bas\nAnimation et discussion : Héloïse Nez (université Paris Cité)\n\n\nAction sociale partisane et démocrature en Italie. Le “mutualisme conflictuel” au sein de Potere al popolo ! Vers une repolitisation du conflit social ?\nFlorian Pietron (université de Perpignan Via Domitia) \nReconstruire la démocratie sous les bombes en Ukraine. Révolution de Maïdan et guerre d’agression russe\nPerrine Poupin (CNRS – AAU) \nLa démocratisation en tant que travail. Retour sur l’expérimentation saillansonne.\nSéverin Muller (Université de Lille) \nDe la Fraternité en France : dans quelles mesures les initiatives citoyennes participent-elles à des formes de reconsolidation démocratique ?\nLionel Scotto d’Apollonia (Chaire UNESCO Complexité et laboratoire citoyen Artivistes) \n\n14h-15h30 – Sciences et démocratie\nAnimation et discussion : Florian Charvolin (CNRS – Centre Max Weber) et Marion Carrel (université de Lille)\n\nAvec : Sheila Jasanoff (Harvard Kennedy School) et Amandine Catala (université du Québec à Montréal) \n\n15h45-17h – Les chercheur·es en temps de dé/reconsolidation démocratique\nAnimation : Alice Mazeaud (La Rochelle Université)\n\nAvec : Loïc Blondiaux (université Paris 1 Panthéon Sorbonne)\, Marion Carrel (université de Lille)\, Agnès Deboulet (université Paris 8) et Julien Talpin (université de Lille) \n\nInformations pratiques\n\ncolloque le jeudi 20 novembre 2025 de 8h30 à 19h et le vendredi 21 novembre 2025\, de 8h30 à 17h\nà la MSH Paris Nord\, auditorium\nouvert à tous·tes\, inscription gratuite mais obligatoire via ce lien
URL:https://www.mshparisnord.fr/event/colloque-democratie/2025-11-20/
LOCATION:MSH Paris Nord\, 20\, avenue George Sand\, La Plaine Saint-Denis\, Métro ligne 12 : « Front populaire »\, accessible aux personnes à mobilité réduite\, 93210\, France
CATEGORIES:Manifestations scientifiques
ATTACH;FMTTYPE=image/png:https://www.mshparisnord.fr/wp-content/uploads/2025/10/A3-democratie-20-21nov2025-1.png
END:VEVENT
BEGIN:VEVENT
DTSTART;TZID=Europe/Paris:20251120T180000
DTEND;TZID=Europe/Paris:20251120T193000
DTSTAMP:20260420T025659
CREATED:20250707T100956Z
LAST-MODIFIED:20260415T143608Z
UID:10008302-1763661600-1763667000@www.mshparisnord.fr
SUMMARY:Séminaire | L’art de la démonstration
DESCRIPTION:Enjeux méthodologiques et épistémologiques en Histoire de l’Art\nLe séminaire L’art de la démonstration. Enjeux méthodologiques et épistémologiques en Histoire de l’Art\, réunit mensuellement des chercheur·ses en histoire de l’art\, mais aussi en histoire\, en archéologie\, en philosophie et en sociologie\, ainsi que des ingénieur·es de recherche et d’études et des professionnel·les du patrimoine (conservateur·rices\, conservateur·rices-restaurateur·rices\, scientifiques de la conservation\, médiateur·rices et commissaires d’exposition) afin d’interroger la spécificité de la méthode de démonstration en histoire de l’art. Il s’agit ainsi d’interroger les outils employés pour démontrer\, des archives aux nouvelles technologies numériques ; les lieux de la démonstration\, en termes géographiques et institutionnels\, et la manière dont ceux-ci conditionnent le procédé ; ou les énoncés sur lesquels portent la démonstration en histoire de l’art\, de l’artiste à l’oeuvre même\, dans sa matérialité et son caractère sensible. \nProgramme\n\nSéance 5 – 25 septembre 2025\n\nLa digital art history\, de nouvelles méthodes de démonstration ?\navec Federico Nurra (INHA) et Claire Dupin de Beyssat (École des Chartes / Cnap) \n\nSéance 6 – 20 octobre 2025\n\nLes traditions nationales en Histoire de l’art : France\, Allemagne\, Italie\navec Neville Rowley (Gemäldegalerie\, Berlin) et Marie Tchernia-Blanchard (université Rennes 2) \n\nSéance 7 – 20 novembre 2025\n\nLes traditions nationales en Histoire de l’art : le monde anglophone\navec Nick Parkinson (chercheur indépendant) et Hans C. Hönes (university of Aberdeen) \n\nSéance 8 – 18 décembre 2025 28 mai 2026\n\nLes traditions nationales en Histoire de l’art : perspectives extra-occidentales\navec Coline Desportes (EHESS/Deutsches Forum für Kunstgeschichte Paris) et Eléonore Tran (université Paris 8) \nInformations pratiques\n\nle jeudi 25 septembre 2025\, de 18h à 19h30\, à la MSH Paris Nord salle 413\nle lundi 20 octobre 2025\, de 16h à 17h30\, à la MSH Paris Nord salle 413\nle jeudi 20 novembre 2025\, de 18h à 19h30\, à la MSH Paris Nord salle 413\nle jeudi 18 décembre 2025\, de 18h à 19h30\, à la MSH Paris Nord salle 413 la séance est reportée au 28 mai 2026\nséances hybrides en présentiel et visioconférence\npour recevoir les informations de connexion\, vous pouvez vous abonner à la liste de diffusion via le lien suivant : https://groupes.renater.fr/sympa/subscribe/seminaire_artdelademonstration\n\nLe séminaire est organisé par Mecthilde Airiau et Claire Dupin de Beyssat. \nUn projet de recherche qui bénéficie du soutien de la MSH Paris Nord dans le cadre de son appel à projets annuel.
URL:https://www.mshparisnord.fr/event/art-demonstration-automne-25/2025-11-20/
LOCATION:MSH Paris Nord\, 20\, avenue George Sand\, La Plaine Saint-Denis\, Métro ligne 12 : « Front populaire »\, accessible aux personnes à mobilité réduite\, 93210\, France
CATEGORIES:Manifestations scientifiques
ATTACH;FMTTYPE=image/jpeg:https://www.mshparisnord.fr/wp-content/uploads/2025/07/A3-art-demonstration-sept-2025.jpg
END:VEVENT
END:VCALENDAR