



BEGIN:VCALENDAR
VERSION:2.0
PRODID:-//Maison des Sciences Humaines et sociales Paris Nord - ECPv6.8.2.1//NONSGML v1.0//EN
CALSCALE:GREGORIAN
METHOD:PUBLISH
X-WR-CALNAME:Maison des Sciences Humaines et sociales Paris Nord
X-ORIGINAL-URL:https://www.mshparisnord.fr
X-WR-CALDESC:Évènements pour Maison des Sciences Humaines et sociales Paris Nord
REFRESH-INTERVAL;VALUE=DURATION:PT1H
X-Robots-Tag:noindex
X-PUBLISHED-TTL:PT1H
BEGIN:VTIMEZONE
TZID:Europe/Paris
BEGIN:DAYLIGHT
TZOFFSETFROM:+0100
TZOFFSETTO:+0200
TZNAME:CEST
DTSTART:20250330T010000
END:DAYLIGHT
BEGIN:STANDARD
TZOFFSETFROM:+0200
TZOFFSETTO:+0100
TZNAME:CET
DTSTART:20251026T010000
END:STANDARD
END:VTIMEZONE
BEGIN:VEVENT
DTSTART;TZID=Europe/Paris:20251121T083000
DTEND;TZID=Europe/Paris:20251121T170000
DTSTAMP:20260423T115714
CREATED:20251008T152355Z
LAST-MODIFIED:20251110T154815Z
UID:10008330-1763713800-1763744400@www.mshparisnord.fr
SUMMARY:Colloque | À quoi tient la démocratie ?
DESCRIPTION:GIS Démocratie & Participation\nNos sociétés sont actuellement confrontées à la conjonction des crises environnementale\, sociale\, économique\, (géo)politique. Les conséquences du changement climatique\, de la chute de la biodiversité et plus généralement de l’attrition des ressources appellent une mobilisation sans précédent qui semble toujours repoussée. Le programme de démocratisation de l’ordre international est épuisé jusqu’à remettre en cause l’existence même des institutions portant le langage des droits à l’échelle mondiale. \nDans le même temps\, les régimes\, les institutions et les pratiques démocratiques traversent de fortes turbulences : la déconsolidation est à l’œuvre\, sous des formes et à des échelles multiples. Certains pays\, naguère en transition démocratique\, sont pris dans des dérives autoritaires et s’emploient à thématiser l’illibéralisme comme forme démocratique légitime. D’autres\, naguère considérés comme des « démocraties consolidées » voient leurs contrepouvoirs s’éroder. Des partis d’extrême droite\, impuissants à appréhender la pluralité d’une communauté politique dans un nous\, alimentent leur progression en se réappropriant la démocratie et ses codes\, mais la dépeuplent radicalement d’une partie de ses citoyens. Le rapport ordinaire au politique et plus généralement la confiance dans la politique\, ses institutions\, mais aussi ses modes d’engagement\, sont minés par un sentiment d’insatisfaction et de désaffection. Des attentes fortes envers la démocratie nourrissent paradoxalement une forme subtile de déconsolidation démocratique\, faisant opter certains pour des institutions\, des normes et des modalités d’exercice du pouvoir jugées plus efficaces. \nLes panels et tables rondes du colloque organisent une discussion structurée par des questionnements qui appellent d’une part à prendre la mesure de la déstabilisation des catégories de l’analyse politique\, en France et dans le monde\, et d’autre part à penser ensemble ce qui défait et ce qui refait la démocratie : \n\nComment et en quoi les transformations contemporaines du capitalisme influencent-elles les institutions de la démocratie ?\nQuels concepts et constats structurent les débats sur les processus de déconsolidation et de reconsolidation démocratiques ?\nQuels sont les effets des évolutions des technologies numériques dans ses processus ?\nComment saisir les relations entre renforcement des partis et des gouvernements d’extrême droite et déconsolidation démocratique ?\nComment des agents\, activistes ou citoyens tentent de résister avec ou sans les institutions ?\nQuelle place pour les mouvements sociaux et les initiatives citoyennes ?\nQuelle est la portée des innovations démocratiques et de leurs traitements médiatique et politique ?\nComment repenser les liens entre savoirs et démocratie\, et qu’attendre notamment de la recherche en sciences sociales pour consolider la démocratie ?\n\nProgramme\n>> télécharger le programme complet détaillé (pdf) \nJeudi 20 novembre 2025 \n\n8h30 – Accueil\n9h-9h15 – Mot d’introduction de l’équipe du GIS Démocratie et Participation\n9h15 – 10h45 – Déconsolidation et reconsolidation démocratique. Regards croisés\nAnimation et discussion : Camille Bedock (CNRS – Centre Emile-Durkheim)\n\nAvec Clément Fontan (université catholique de Louvain)\, Eugénie Mérieau (université Paris 1 Panthéon Sorbonne) et Luca Tomini (université Libre de Bruxelles) \n\n11h – 12h30 – Technologies numériques et dé/reconsolidation démocratique\nAnimation et discussion : Mathieu Brugidou (EDF R&D – PACTE)\n\nAvec David Chavalarias (CNRS – Institut des systèmes complexes Paris Ile-de-France)\, Manon Berriche (Science Po Medialab) et Francesca Musiani (CNRS-CIS) \n\n14h-15h30 – Démocratie et droites radicales\nAnimation et discussion : Émilien Houard Vial (CNRS-CESDIP – CEE)\n\n\nPolarisation partisane et politisation du déficit démocratique. Comment les partis de droite populiste radicale mobilisent les Européen·nes\nFrédéric Gonthier (Sciences Po Grenoble-PACTE-CNRS) \nQuand le langage démocratique légitime la suprématie juive : étude du discours de la droite israélienne.\nNitzan Perelman-Becker (CNRS-CENS) \n\n15h45 – 17h15 – Les innovations démocratiques à l’épreuve du traitement médiatique et politique\nAnimation et discussion : Gaël Stéphan (université de Lorraine)\n\n\nComment les médias contribuent-ils à la résonance entre micro-public et macro-public ? Une analyse de la couverture presse de la Convention citoyenne pour le climat.\nSophie Hartwig et Louis-Gaëtan Giraudet (ENPC – CIRED) \nAssemblées citoyennes et configurations politiques : une comparaison de six débats nationaux\nDamien Pennetreau (université de Namur)\, Vincent Jacquet (université de Namur) et Sofia Serra-Silva (universidad de Lisboa) \n\n17h30- 19h – Qu’attendre de la recherche en temps de dé/reconsolidation démocratique ?\nAnimation : Jean-Michel Fourniau\n\nAvec Floran Augagneur (CNDP) ; Patrice Duran (CNIS) ; Patrick Jolivet (Ademe) ; Gaëlle Lahoreau (vice-présidente de la Région Centre-Val de Loire) ; Brice Laurent (ANSES) \n\nVendredi 21 novembre 2025 \n\n8h30 – Accueil\n9h-10h30 – Résister (ou non) depuis\, avec ou sans les institutions\nAnimation et discussion : Rémi Lefebvre (université de Lille)\n\nComment des fonctionnaires résistent (ou non) face au recul des libertés. Des agents de l’Etat local face à la mainmise policière\nPablo Corroyer (université de Lille) \nDilution ou renforcement ? Évolution des budgets participatifs dix ans après leur institutionnalisation dans tous les villages environnants Chengdu et Canton\nÉmilie Frenkiel (université Paris-Est Créteil) et Li Rongxin (Jinan University) \nControverses environnementales : que produisent les instances de participation publique au Québec et en France ? Une lecture par le clivage Écologisme/Productivisme\nSophie Van Neste (INRS) et Pascale Dufour (université de Montréal) \n\n10h45 – 12h30 – Reconsolider la démocratie par le bas\nAnimation et discussion : Héloïse Nez (université Paris Cité)\n\n\nAction sociale partisane et démocrature en Italie. Le “mutualisme conflictuel” au sein de Potere al popolo ! Vers une repolitisation du conflit social ?\nFlorian Pietron (université de Perpignan Via Domitia) \nReconstruire la démocratie sous les bombes en Ukraine. Révolution de Maïdan et guerre d’agression russe\nPerrine Poupin (CNRS – AAU) \nLa démocratisation en tant que travail. Retour sur l’expérimentation saillansonne.\nSéverin Muller (Université de Lille) \nDe la Fraternité en France : dans quelles mesures les initiatives citoyennes participent-elles à des formes de reconsolidation démocratique ?\nLionel Scotto d’Apollonia (Chaire UNESCO Complexité et laboratoire citoyen Artivistes) \n\n14h-15h30 – Sciences et démocratie\nAnimation et discussion : Florian Charvolin (CNRS – Centre Max Weber) et Marion Carrel (université de Lille)\n\nAvec : Sheila Jasanoff (Harvard Kennedy School) et Amandine Catala (université du Québec à Montréal) \n\n15h45-17h – Les chercheur·es en temps de dé/reconsolidation démocratique\nAnimation : Alice Mazeaud (La Rochelle Université)\n\nAvec : Loïc Blondiaux (université Paris 1 Panthéon Sorbonne)\, Marion Carrel (université de Lille)\, Agnès Deboulet (université Paris 8) et Julien Talpin (université de Lille) \n\nInformations pratiques\n\ncolloque le jeudi 20 novembre 2025 de 8h30 à 19h et le vendredi 21 novembre 2025\, de 8h30 à 17h\nà la MSH Paris Nord\, auditorium\nouvert à tous·tes\, inscription gratuite mais obligatoire via ce lien
URL:https://www.mshparisnord.fr/event/colloque-democratie/2025-11-21/
LOCATION:MSH Paris Nord\, 20\, avenue George Sand\, La Plaine Saint-Denis\, Métro ligne 12 : « Front populaire »\, accessible aux personnes à mobilité réduite\, 93210\, France
CATEGORIES:Manifestations scientifiques
ATTACH;FMTTYPE=image/png:https://www.mshparisnord.fr/wp-content/uploads/2025/10/A3-democratie-20-21nov2025-1.png
END:VEVENT
BEGIN:VEVENT
DTSTART;TZID=Europe/Paris:20251121T170000
DTEND;TZID=Europe/Paris:20251121T200000
DTSTAMP:20260423T115714
CREATED:20260324T164751Z
LAST-MODIFIED:20260327T101716Z
UID:10008441-1763744400-1763755200@www.mshparisnord.fr
SUMMARY:Séminaire | TRACS
DESCRIPTION:Transatlantic Cultures est un programme international mené par une équipe franco-brésilienne de chercheurs en humanités\, sciences sociales\, arts et littérature. Il vise à la réalisation d’une plateforme numérique d’histoire culturelle transatlantique\, éditée en quatre langues\, pour analyser les dynamiques de l’espace atlantique et comprendre son rôle dans le processus de mondialisation contemporain. Ce projet a été lancé en 2016 par les universités Paris-Saclay\, Sorbonne Nouvelle et de São Paulo. Il a reçu des financements de l’Agence Nationale de la Recherche\, la Fundação de Amparo ao Pesquisador do Estado de São Paulo\, le France Berkeley Fund\, la MSH Paris-Saclay et l’IDEX Paris-Saclay. \nTransatlantic Cultures entend mettre en œuvre une histoire connectée de l’espace atlantique à travers une série de notices analytiques consacrées aux relations culturelles complexes entre l’Afrique\, les Amériques et l’Europe\, dans une perspective pluridisciplinaire associant historiens\, anthropologues\, sociologues\, politistes\, musicologues\, spécialistes de littérature\, arts\, théâtre et cinéma. Conçu au plus près de la recherche\, le projet propose une réflexion sur les circulations transatlantiques et la mondialisation culturelle\, mais également sur les processus identitaires et les frontières qui ont contribué à l’établissement et au renouvellement de grandes aires culturelles depuis le XVIIIe siècle. \n>> accéder au site de Transatlantic Cultures \n>> en savoir plus sur les séminaires TRACS 2025-2026 \nProgramme\n10 octobre 2025\, en salle Peiresc\, de 17h à 20h \n\nCirculations culturelles et militantes\, modération par Olivier Compagnon (université Sorbonne Nouvelle\, IHEAL\, Creda\, IUF)\n\nRéseau multipolaire\, trajectoires et circulations réciproques : le Taller de Gráfica Popular de Mexico dans l’espace Atlantique (1937-1965)\nNoa Buffavand (université Toulouse Jean Jaurès\, Framespa) \nL’extrême droite française face au coup d’État brésilien : circulations intellectuelles et instrumentalisation politique\nDiogo Cunha (université Fédérale de Pernambuco\, Université Paris- Saclay\, CHCSC) \n\n21 novembre 2025\, en salle Benjamin\, de 17h à 20h \n\nChanson\, modération par Anaïs Fléchet (Sciences Po Strasbourg\, Unistra\, LinCS)\n\nLes yéyés : from US to France and back 1960-1980\nPhilippe Gumplowicz (RASM-CHCSC) \nPacifique transatlantique. La chanson et la construction d’un imaginaire hawaïen en France (première moitié du XXe siècle)\nMartin Guerpin (Sorbonne université) \n\n12 décembre 2025\, en salle Peiresc\, de 17h à 20h \n\nBande dessinée\, modération par Martin Guerpin (Sorbonne université)\n\nLe magazine ACTUEL et l’acclimatation de la bande dessinée contre-culturelle américaine en France dans les années 1970\nJean-Paul Gabilliet (université Bordeaux Montaigne\, CLIMAS UR 4196) \n1952-1975 : Mad magazine\, creuset des transformations de la bande dessinée en France\nNicolas Labarre (université Bordeaux Montaigne\, CLIMAS UR 4196) \n\n23 janvier 2026\, en salle Mariette\, de 17h à 20h \n\nAfrique <=> Amérique Latine\, modération par Olivier Compagnon (université Sorbonne Nouvelle\, IHEAL\, Creda\, IUF)\n\nCiencias sociales\, desarrollo y revolución: en torno al momento tercermundista de la edición latinoamericana\nMartin Bergel (Conicet) \nPédagogies de la libération latino-américaines en Afrique lusophone\nMélanie Toulhoat (Instituto de história contemporânea — NOVA FCSH / IN2PAST) \n\n13 février 2026\, en salle Peiresc\, de 17h à 20h \n\nCanada\, modération par Sandrine Ferré-Rode (université Versailles-Saint-Quentin-en-Yvelines\, Institut d’études culturelles et internationales)\n\nDe l’amateurisme à la reconnaissance : parcours transatlantiques d’artistes impressionnistes canadiennes au tournant du XXe siècle\nCamilla de Oliveira Savoi (université de Montréal\, Centre de recherches sur les arts et le langage CRAL UMR 8566) \nLa redécouverte de l’ancienne colonie perdue : Réseaux culturels et religieux entre la France et la province du Québec (1855-1905)\nFrançoise Le Jeune (université de Nantes\, Centre de Recherche en Histoire Internationale et Atlantique) \n\n20 mars 2026\, en salle Peiresc\, de 17h à 20h \n\nItinéraires musicaux\, modération par Anaïs Fléchet (Sciences Po Strasbourg\, Unistra\, LinCS)\n\nLa diplomatie à l’épreuve du marché : l’Association française d’action artistique et la carrière des musiciens français aux États-Unis (années 1920-1950)\nGabriele Slizyte (EHESS) \nTraversées musicales et féministes : Camille Urso et Maud Powell\, pionnières transatlantiques du violon\nMarina Chiche (violoniste\, musicologue et chroniqueuse radio) \n\n10 avril 2026\, en salle Benjamin\, de 17h à 20h \n\nFemmes\, modération par Clara Bouveresse (université d’Évry Paris-Saclay)\n\nTrajectoires parisiennes et stratégies de résistance : Hessie\, Howardena Pindell\, Mildred Thompson et Mary Lovelace O’Neal\nMarie Siguier (MNAM/Centre Pompidou) \nKarin Waehner\, une artiste migrante\nGuillaume Sintès (université de Strasbourg\, membre du laboratoire ACCRA UR 3402) \n\n29 mai 2026\, en salle Mariette\, de 17h à 20h \n\nPhoto\, modération par Clara Bouveresse (université d’Évry Paris-Saclay)\n\nThe Role of Rosellina Burri-Bischof for the Internationality of Swiss Photography: Networks\, Structures\, Protagonists\nAlessa Widmer (universität Zürich) \nLa construction d’une idée de la “photographie européenne” aux États-Unis\nAnaïs Feyeux (université Paris 1 Panthéon Sorbonne\, Acte\, EAS) \n\n19 juin 2026\, en salle Peiresc\, de 17h à 20h \n\nDiplomatie culturelle\n\nProgrammation à venir \n\nInformations pratiques\n\nles vendredis 10 octobre\, 21 novembre\, 12 décembre 2025\, 23 janvier\, 13 février\, 10 avril\, 29 mai et 19 juin 2026\, de 17h à 20h\nà l’Institut national d’histoire de l’art (INHA)\nouvert à tous·tes\n\nUn projet de recherche qui bénéficie du soutien du Réseau National des Sciences sociales et des Humanités dans le cadre de son appel à projets inter-MSH.
URL:https://www.mshparisnord.fr/event/seminaire-tracs/2025-11-21/
LOCATION:INHA\, 6\, rue des Petits-Champs\, Paris\, 75002\, France
CATEGORIES:Manifestations scientifiques
ATTACH;FMTTYPE=image/png:https://www.mshparisnord.fr/wp-content/uploads/2026/03/A3-Seminaire-TRACS.png
END:VEVENT
END:VCALENDAR