BEGIN:VCALENDAR
VERSION:2.0
PRODID:-//Maison des Sciences Humaines et sociales Paris Nord - ECPv6.8.2.1//NONSGML v1.0//EN
CALSCALE:GREGORIAN
METHOD:PUBLISH
X-WR-CALNAME:Maison des Sciences Humaines et sociales Paris Nord
X-ORIGINAL-URL:https://www.mshparisnord.fr
X-WR-CALDESC:Évènements pour Maison des Sciences Humaines et sociales Paris Nord
REFRESH-INTERVAL;VALUE=DURATION:PT1H
X-Robots-Tag:noindex
X-PUBLISHED-TTL:PT1H
BEGIN:VTIMEZONE
TZID:Europe/Paris
BEGIN:DAYLIGHT
TZOFFSETFROM:+0100
TZOFFSETTO:+0200
TZNAME:CEST
DTSTART:20260329T010000
END:DAYLIGHT
BEGIN:STANDARD
TZOFFSETFROM:+0200
TZOFFSETTO:+0100
TZNAME:CET
DTSTART:20261025T010000
END:STANDARD
END:VTIMEZONE
BEGIN:VEVENT
DTSTART;TZID=Europe/Paris:20260429T160000
DTEND;TZID=Europe/Paris:20260429T180000
DTSTAMP:20260423T133316
CREATED:20260422T125423Z
LAST-MODIFIED:20260422T125629Z
UID:10008477-1777478400-1777485600@www.mshparisnord.fr
SUMMARY:Webinaire Canevas+ | Constituer des archives audiovisuelles pour la justice
DESCRIPTION:Le consortium Canevas+ accueille lors de son webinaire Louise Testot-Ferry qui présente une intervention intitulée “Constituer des archives audiovisuelles pour la justice”. \nRésumé de l’intervention\nL’intervention portera sur deux aspects principaux : l’enjeu de l’acculturation aux matériaux audiovisuels dans une discipline qui recourt encore marginalement à ce type de sources et l’étude concrète du corpus des Archives Audiovisuelles de la Justice. La thèse a été l’occasion de comprendre la construction d’un corpus institutionnel inédit. Les raisons d’une telle création seront abordées ainsi que le cadre juridique spécifique qui régit ces archives. Ces particularités et contraintes permettront d’envisager le dépouillement à proprement parler de ce fonds\, soit environ 2 600h d’enregistrements. Malgré le volume documentaire\, ce corpus demeure incomplet\, partiel et partial. La nécessité de se tourner vers des corpus audiovisuels complémentaires\, en l’occurrence les fonds télévisuels de l’Institut national de l’audiovisuel\, sera aussi abordée. Cet exposé permettra de discuter sur les intérêts disciplinaires d’un tel matériau\, les difficultés méthodologiques ainsi que les résultats heuristiques qui en ressortent. \nBiographie de l’intervenante\nLouise Testot-Ferry est enseignante-chercheuse contractuelle en histoire du droit à l’université Grenoble Alpes (CESICE) et docteur de l’université Toulouse Capitole. \nSa thèse intitulée Des archives entre Histoire et Mémoire. L’exception de la captation audiovisuelle de la Justice selon la loi Badinter du 11 juillet 1985 a été récompensée du Prix spécial de l’Institut François Mitterrand. Chercheuse associée à l’INA durant son doctorat\, elle s’intéresse à la spécificité des documents audiovisuels en histoire du droit. Elle est membre du réseau de recherche PROFIL sur les procès filmés nationaux et internationaux. Ses recherches portent sur l’histoire de la Justice et les relations entre Droit\, Justice et Images. \n>> accéder à la séance de webinaire sur le site du consortium Canevas+ \n>> en savoir plus sur le consortium Canevas+ \nInformations pratiques\n\nle mercredi 29 avril\, de 16h à 18h\nen ligne\, accessible à ce lien\nouvert à tous·tes
URL:https://www.mshparisnord.fr/event/webinaire-canevas-archives-audiovisuelles-justice/
CATEGORIES:Manifestations scientifiques
ATTACH;FMTTYPE=image/png:https://www.mshparisnord.fr/wp-content/uploads/2026/04/FRAN_052190_7AV_ArchivesNationalesProcesBarbie_5.png
END:VEVENT
END:VCALENDAR