BEGIN:VCALENDAR
VERSION:2.0
PRODID:-//Maison des Sciences Humaines et sociales Paris Nord - ECPv6.8.2.1//NONSGML v1.0//EN
CALSCALE:GREGORIAN
METHOD:PUBLISH
X-ORIGINAL-URL:https://www.mshparisnord.fr
X-WR-CALDESC:Évènements pour Maison des Sciences Humaines et sociales Paris Nord
REFRESH-INTERVAL;VALUE=DURATION:PT1H
X-Robots-Tag:noindex
X-PUBLISHED-TTL:PT1H
BEGIN:VTIMEZONE
TZID:Europe/Paris
BEGIN:DAYLIGHT
TZOFFSETFROM:+0100
TZOFFSETTO:+0200
TZNAME:CEST
DTSTART:20170326T010000
END:DAYLIGHT
BEGIN:STANDARD
TZOFFSETFROM:+0200
TZOFFSETTO:+0100
TZNAME:CET
DTSTART:20171029T010000
END:STANDARD
END:VTIMEZONE
BEGIN:VEVENT
DTSTART;TZID=Europe/Paris:20171201T140000
DTEND;TZID=Europe/Paris:20171201T183000
DTSTAMP:20260425T231051
CREATED:20171124T131451Z
LAST-MODIFIED:20171201T125025Z
UID:10006480-1512136800-1512153000@www.mshparisnord.fr
SUMMARY:Le Corps Dramaturge
DESCRIPTION:Manifestation à la MSH Paris Nord   Vendredi 01 Décembre 2017\, de 14:00 à 18:30\,     [ Colloque ]   Dans le cadre de la 2e Biennale des Arts du Mime et du Geste \n\n\n\n\nInvité(s)\nJean-Marie Pradier (Maison des Sciences de l’Homme Paris Nord)\nEdward Nye (Lincoln College\, Université d’Oxford)\nAriane Martinez (Université de Lille)\nAnne Chiummo (Garance Théâtre)\nEsther Mollo (Théâtre Diagonale)\nClaire Heggen (Théâtre du Mouvement)\nElsa Marquet Lienhart (Théâtre du Mouvement)\nDenise Namura (Cie à Fleur de Peau)\nMichael Bugdahn (Cie à Fleur de Peau)\nElena Serra (Cie Mime de Rien)\nMuriel Roland (Compagnie SourouS et Université Paris 8)\nLina Do Carmo (Université de Franche-Comté)\nGéraldine Moreau (Université Sorbonne-Nouvelle)\n\n\n\n\nLieu(x)\nMSH Paris Nord\n20 av George Sand\n93210 St-Denis la Plaine\ntél : 01 55 93 93 00Métro ligne 12 : « Front populaire »\nRER B : « La Plaine – Stade de France »Accessible aux personnes à mobilité réduite\n\n\n\n\n\n\n\n\n\n colloque-corps-dramaturge.pdf\n\n\n\n\n\n\n\n• L’art du vivant consiste à manifester l’esprit de la chair. Le dramaturge exerce son art sur un corps de texte. Le corps peut devenir son propre texte et\, devenant dramaturge de lui-même\, révéler les logiques de l’organicité\, éveiller les sens du spectateur et le surprendre par la découverte de l’inconnu. Philosophies et sciences du corps au XXe siècle concourent à réduire les fractures anciennes entre l’action et la réflexion\, l’expérience sensible et la pensée. En associant démonstrations pratiques et exposés\, la journée du 1er décembre interrogera la relation de l’imaginaire\, de la conscience et du sens explorée par les arts du mime et du geste. \n• Infos pratiques : entrée libre\nRenseignements et réservations biennaleamg2017@gmail.com \n>> Programme complet de la 2e Biennale des Arts du Mime et du Geste : http://www.collectifartsmimegeste.com/images/documents/Plaquette_Biennale_AMG.pdf
URL:https://www.mshparisnord.fr/event/le-corps-dramaturge/
CATEGORIES:Actualités,Manifestations scientifiques
END:VEVENT
BEGIN:VEVENT
DTSTART;TZID=Europe/Paris:20171207T083000
DTEND;TZID=Europe/Paris:20171207T170000
DTSTAMP:20260425T231051
CREATED:20171124T131648Z
LAST-MODIFIED:20171124T143347Z
UID:10006492-1512635400-1512666000@www.mshparisnord.fr
SUMMARY:Les trente ans de la revue "Études et Documents Berbères"
DESCRIPTION:Manifestation à l’extérieur   Jeudi 07 Décembre 2017\, de 8h30 à 17h\,  Batna\, Algérie\nVendredi 08 Décembre 2017\, de 8h30 à 16h\,  Batna\, Algérie   [ Colloque international ] \n\n\n\n\nLieu(x)\nUniversité Hadj Lakhdar Batna 1\nRoute de Biskra\, Batna (Algérie)\n\n\n\n\n\n\n\n\n\n\n Affiche-colloque-30ans-7-8dec2017-3.pdf\n Programme-de-la-manifestation.pdf\n\n\n\n\n\n\n\n• La revue Études et Documents Berbères\, localisée à la Maison des Sciences de l’Homme Paris Nord (dans l’Axe 1 « Industries des cultures et Arts ») et bien connue des spécialistes de la linguistique berbère\, est en train de célébrer ses trente années d’existence. Une action qui se déroule sur trois années consécutives : (1) la première année\, en novembre et décembre 2015\, un colloque international eut lieu avec succès\, en région parisienne\, à la MSH Paris Nord ; (2) l’année dernière\, en décembre 2016\, ce sont trois universités d’Alger qui ont accueilli les travaux autour de la revue ; (3) enfin cette année\, une nouvelle et dernière édition de l’événement est prévue à l’université Batna 1 à l’intention des chercheurs du Sud\, toujours autour de cette revue fondée en 1986\, avec 36 volumes déjà parus. \nÀ chaque édition du colloque\, c’est l’occasion de faire un bilan\, de mettre au jour des découvertes et de faire connaître des recherches nouvelles. Dans tous les cas de figure\, il s’agit de faire un travail de valorisation scientifique sur une publication périodique qui a pour rôle de diffuser des connaissances\, en direction d’une communauté de chercheurs dans un domaine spécialisé. En trente années\, la revue est devenue une référence internationale et une mine d’informations en matière de la linguistique et de la littérature berbères dans leurs différentes déclinaisons. \nLes deux précédentes éditions du colloque (à la MSH Paris Nord en 2015 et à Alger 2 en 2016) ont mis   en évidence la place originale qu’occupe Études et Documents Berbères dans le champ de la recherche en sciences humaines dans les disciplines qui accordent un intérêt certain à la langue (sociolinguistique\, anthropologie\, ethnolinguistique\, cognition\, etc.). \nPour rappel\, la revue a développé de grands thèmes dans ses numéros spéciaux\, à savoir : (1) Le centenaire de la disparition du grand poète de langue berbère Si Mohand Ou Mhand\, EDB n° 25-26 (2007) ; (2) La Bibliothèque numérique berbère\, EDB n° 28 (2009) ; (3) La chanson kabyle en France et la mémoire de l’immigration\, 1930-1974\, EDB n° 25-26 (2007) ; (4) Mélanges en l’honneur de Pierre Encrevé\, EDB n° 29-30 (2011) ; (5) Les manuscrits arabo-berbères\, EDB n° 35-36 (2016).
URL:https://www.mshparisnord.fr/event/les-trente-ans-de-la-revue-etudes-et-documents-berberes/
CATEGORIES:Actualités,Manifestations scientifiques
END:VEVENT
BEGIN:VEVENT
DTSTART;TZID=Europe/Paris:20171207T183000
DTEND;TZID=Europe/Paris:20171207T200000
DTSTAMP:20260425T231051
CREATED:20171124T132450Z
LAST-MODIFIED:20171204T090602Z
UID:10006430-1512671400-1512676800@www.mshparisnord.fr
SUMMARY:Concert immersion sonore
DESCRIPTION:jeudi 07 décembre 2017 [ GRATUIT ]\nMusiques électroniques  \n\nResponsable(s) scientifique(s)\nAmélie Nilles\nLieu(x)\nMSH Paris Nord\n20 av George Sand\n93210 St-Denis la Plaine\ntél : 01 55 93 93 00\nMétro ligne 12 : « Front populaire »\nRER B : « La Plaine – Stade de France » Accessible aux personnes à mobilité réduite\n\n\n> facebook de l’évènement à partager\n\n• Première édition d’une série de concerts de musiques électroniques en 3 dimensions. Sept artistes issus des musiques à la fois populaires et expérimentales vous proposent un voyage immersif au coeur du son\, où la musique vous enveloppe et met tous vos sens en éveil !\nVos avis seront les bienvenus afin de renouveler l’expérience dans des conditions optimales.\nCompositions de Jérémie Nicolas\, Jean-François Ducher et Filippos Sakagian ; live-electronics d’Amélie Nilles\, Capob et Matthieu Ruben ; extrait de Cauchemar Merveilleux de Léonore Mercier et Arthur H.\nAvec les technologies Ambisonics (HOA) et Wave Field Synthesis (Sonic Emotion).\n–> ouvert à tous : entrée libre et gratuite
URL:https://www.mshparisnord.fr/event/concert-immersion-sonore/
CATEGORIES:Actualités,Manifestations scientifiques
END:VEVENT
BEGIN:VEVENT
DTSTART;TZID=Europe/Paris:20171211T090000
DTEND;TZID=Europe/Paris:20171211T183000
DTSTAMP:20260425T231051
CREATED:20171124T131405Z
LAST-MODIFIED:20171129T100403Z
UID:10006475-1512982800-1513017000@www.mshparisnord.fr
SUMMARY:Les sciences humaines et sociales face à l’interdisciplinarité dans les recherches en santé
DESCRIPTION:Lundi 11 Décembre 2017\, de 9:00 à 18:30\,  Amphithéâtre\nMardi 12 Décembre 2017\, de 9:00 à 18:30\,  Amphithéâtre   [ Colloque ]   Pratiques\, lieux\, enjeux et perspectives \n\n\n\n\nResponsable(s) scientifique(s)\nDelphine Berdah (GHDSO\, Université de Paris Sud)\nFanny Chabrol (Cermes3)\nPatrick Castel (FNSP\, CSO)\nGabriel Girard (IRSP de l’Université de Montréal)\nSébastien Fleuret (CNRS\, ESO-Angers)\nRuth Horn (Ethox Centre\, University of Oxford)\nSimone Mathoulin-Pélissier (Inserm U1219\, ISPED\, Institut Bergonié)\nDominique Llhuilier (CNAM)\nFrançois-Xavier Schweyer (EHESP\, CMH)\nLivia Velpry (Université Paris Descartes\, Cermes3)\n\n\n\n\nLieu(x)\nMSH Paris Nord\n20 av George Sand\n93210 St-Denis la Plaine\ntél : 01 55 93 93 00Métro ligne 12 : « Front populaire »\nRER B : « La Plaine – Stade de France »Accessible aux personnes à mobilité réduite \n\n\n\n\n\n\n\n\n\n\n\n>> programme et informations sur le site de l’évènement\n>> inscription obligatoire avant le 9 décembre\n>> facebook de l’évènement\n\n\n\n\n livret-shs-sante-dec2017.pdf\n affiche-shs-sante-dec2017-web.pdf\n\n\n\n\n\n\n• Ce colloque ambitionne à perpétrer\, si ce n’est renouveler\, un chantier de réflexions sur les pratiques de l’interdisciplinarité dans les recherches en santé. Ce champ favorise en effet la production de problématiques transversales\, appelant pour ainsi dire à croiser les regards disciplinaires. Présentées comme une clé de compréhension des grands enjeux sanitaires\, mais aussi comme un défi\, les recherches interdisciplinaires renvoient également et largement à une demande politique. Elles accompagnent encore le mouvement d’internationalisation de la recherche\, et celui\, peu interrogé\, de l’interprofessionnalité. Les contours et les enjeux de ces pratiques de recherche en santé restent flous et\, probablement\, trop rarement discutés. \nAinsi\, loin de considérer le sujet\, ses enjeux comme ses perspectives\, épuisés\, nous souhaitons susciter dialogues et réflexions. Que signifie pratiquer l’interdisciplinarité ? Dans quels lieux\, et comment\, ces recherches sont-elles mises en œuvre ? Quels sont les enjeux et perspectives pour les sciences humaines et sociales ? Comment les recherches interdisciplinaires en santé contribuent-elles à repenser le contenu des formations universitaires et professionnelles ? \nColloque organisé à l’initiative de Lynda Sifer-Rivière (Inserm CIC1402\, Cermes3)\, Yannick Le Hénaff (Université de Rouen\, DySoLaB)\, et de Myriam Winance (Inserm\, Cermes3) avec le soutien de la Maison des Sciences de l’Homme Paris Nord et l’Association Française de Sociologie\, Réseau thématique Santé\, Médecine\, Maladie et Handicap (RT19).
URL:https://www.mshparisnord.fr/event/les-sciences-humaines-et-sociales-face-a-linterdisciplinarite-dans-les-recherches-en-sante/
CATEGORIES:Actualités,Manifestations scientifiques
END:VEVENT
BEGIN:VEVENT
DTSTART;TZID=Europe/Paris:20171212T100000
DTEND;TZID=Europe/Paris:20171212T180000
DTSTAMP:20260425T231051
CREATED:20171110T091805Z
LAST-MODIFIED:20171201T131204Z
UID:10006466-1513072800-1513101600@www.mshparisnord.fr
SUMMARY:Artivisme et nouveaux medias
DESCRIPTION: \nmardi 12 décembre 2017\, de 9:30 à 18:00\, salle de réunion [ WORKSHOP ]\nThéorie et pratique\n\n\n\n\nResponsable(s) scientifique(s)\nTugce Oklay\n\n\n\n\nLieu(x)\nMSH Paris Nord\n20 av George Sand\n93210 St-Denis la Plaine\ntél : 01 55 93 93 00Métro ligne 12 : « Front populaire »\nRER B : « La Plaine – Stade de France » Accessible aux personnes à mobilité réduite\n\n\n\n\n\n\n\n\n• Dans le cadre des activités de l’axe « Industries de la culture et arts » de la MSH Paris Nord\, son comité de Pilotage a décidé d’organiser un workshop consacré à l’analyse des ressorts artivistes de notre époque. Le workshop porte sur l’activisme et les productions artistiques et l’exploration des axes thématiques chez les artivistes. Il propose une démarche comparative entre les projets d’installations\, de sites web\, ainsi que les projets sur les réseaux sociaux. D’après nous\, les théories d’art et de philosophie ont resté limitées pour comprendre et théoriser les « nouvelles » pratiques de notre époque. Ce workshop permettra donc créer un espace de dialogue entre des artistes et chercheurs spécialistes des thèmes adoptés. \nLes trois questions principales que nous nous sommes posées sont : Que pensent les chercheurs des différents domaines sur les arts des nouveaux médias et plus spécifiquement les projets artivistes ? Quelles sont les différences entre les perspectives des artistes et des chercheurs ?\nQuels seront les futurs produits de ce type de dialogue ? \n1e axe : Internet comme espace\, matière\, medium : cette axe couvre l’ensemble des recherches et œuvres qui visent à comprendre l’Internet\, et les réseaux sociaux comme matière ou espace dans la transformation des pratiques sociales et artistiques liées au numérique.\n2e axe : Identités\, réseaux sociaux : Il s’agit ici de s’intéresser à l’ensemble des formes qui s’opèrent sur les questions d’identité\, les représentations dans les réseaux sociaux.\n3e axe : Quelle(s) esthétique(s) ? : Cette axe souhaite lancer un débat en nous demandant avec quelles théories et concepts esthétiques nous pouvons lire les nouvelles pratiques artivistes dans les milieux numériques. \nObjet de l’appel\nL’objectif premier de ce workshop est de créer un espace de travail et d’échanges entre\ndes artistes et des chercheurs travaillant sur les thèmes précisés. Il vise plus\nprécisément à initier une réflexion collective autour d’une problématique relative aux\nproductions artivistes de notre époque\, surtout les projets qui utilisent les NTICs.\nCette démarche résulte d’une mise en commun de perspectives par chacun des\nparticipants sur leurs terrains respectifs. Le thème central qui nous servira de fil\nconducteur sera donc les projets artivistes et les nouveaux médias\, leurs interprétations\npar les artistes et les chercheurs.\nNous privilégierons alors une approche interdisciplinaire et interinstitutionnelle\,\nattentive à la complexité des productions artivistes\, et veillerons à analyser les thèmes\napportés non seulement les uns par rapport aux autres\, mais également les uns à\ntravers les autres\, en termes de relations\, d’interactions et de circulation en partant des\noeuvres exemplaires. \n>> contact workshop.artivism@gmail.com
URL:https://www.mshparisnord.fr/event/artivisme-et-nouveaux-medias/
LOCATION:MSH Paris Nord\, 20\, avenue George Sand\, La Plaine Saint-Denis\, Métro ligne 12 : « Front populaire »\, accessible aux personnes à mobilité réduite\, 93210\, France
CATEGORIES:Actualités,Manifestations scientifiques
END:VEVENT
BEGIN:VEVENT
DTSTART;TZID=Europe/Paris:20171215T090000
DTEND;TZID=Europe/Paris:20171215T180000
DTSTAMP:20260425T231051
CREATED:20171201T125458Z
LAST-MODIFIED:20171204T090527Z
UID:10006496-1513328400-1513360800@www.mshparisnord.fr
SUMMARY:Précarité sanitaire et accès à l'eau
DESCRIPTION:Manifestation à la MSH Paris Nord   Vendredi 15 Décembre 2017\, de 9:00 à 18:00\,     [ Journée d’étude ]   Corps\, politique\, expériences \n\n\n\n\nResponsable(s) scientifique(s)\nLucie Bony\nSophie Fesdjian\nClaire Lévy-Vroelant\n\n\n\n\nLieu(x)\nMSH Paris Nord\n20 av George Sand\n93210 St-Denis la Plaine\ntél : 01 55 93 93 00Métro ligne 12 : « Front populaire »\nRER B : « La Plaine – Stade de France »Accessible aux personnes à mobilité réduite\n\n\n\n\n\n\n\n\n\n\n program-precarite-sanitaire_15dec17.pdf\n\n\n\n\n\n\n• En France\, au coeur d’une société d’abondance\, après la « précarité énergétique »\, une précarité « sanitaire » ou « hydrique » émerge\, de plus en plus visible\, de moins en moins tolérable et porteuse d’enjeux multiples. Par cette notion\, il s’agit de décrire « la situation d’une personne ou d’un groupe de personnes n’ayant pas un accès suffisant à l’eau et à l’assainissement ».\nCette journée d’étude entend aborder les différentes facettes des difficultés d’accès à l’eau\, avec tous les effets que ce défaut peut avoir tant au niveau des individus qu’au niveau sociétal. \nCOMITE SCIENTIFIQUE ET D’ORGANISATION\nLucie Bony : lucie.bony@cnrs.fr\nSophie Fesdjian : sfesdjian@gmail.com\nClaire Lévy-Vroelant : clevyvroelant@gmail.com
URL:https://www.mshparisnord.fr/event/precarite-sanitaire-acces-a-leau/
CATEGORIES:Manifestations scientifiques
END:VEVENT
BEGIN:VEVENT
DTSTART;TZID=Europe/Paris:20171215T093000
DTEND;TZID=Europe/Paris:20171215T170000
DTSTAMP:20260425T231051
CREATED:20171124T132325Z
LAST-MODIFIED:20171218T095851Z
UID:10006511-1513330200-1513357200@www.mshparisnord.fr
SUMMARY:Biomédicalisation de l'accouchement
DESCRIPTION: \nvendredi 15 décembre 2017\, de 9:30 à 17:30\, Auditorium [ COLLOQUE INTERNATIONAL ]\nRegards croisés sur la césarienne\n\n\n\n\nResponsable(s) scientifique(s)\nAlexandre Dumont\, IRD-CEPED\nMyriam de Loenzien\, IRD-CEPED\nClémence Schantz\, CEPED\nLuu Bich Ngoc\, IPSS-UNE\nDoris Bonnet\, IRD-CEPED\nNils Chaillet\, Laval University\, Canada\nCatherine Deneux-Tharaux\, INSERM\, France\nLuc de Bernis (FNUAP)\nElisabeth Viseux-Wahl (université Versailles Saint-Quentin\, école de Suresnes)\n\n\n\n\nLieu(x)\nMSH Paris Nord\n20 av George Sand\n93210 St-Denis la Plaine\ntél : 01 55 93 93 00Métro ligne 12 : « Front populaire »\, sortie n°3 MSH\nRER B : « La Plaine – Stade de France »Accessible aux personnes à mobilité réduites\n\n\n\n\n\n\n\n\n• Ce colloque vise à échanger réflexions et expériences sur la biomédicalisation des accouchements et plus particulièrement sur les facteurs épidémiologiques\, socioculturels\, politiques\, économiques et démographiques de la césarienne dans une perspective internationale. Il est organisé autour de la présentation de résultats récents d’une étude multisite intitulée Cesaria. Celle-ci cherche à mieux connaître les déterminants de la césarienne dans une perspective pluridisciplinaire et comparative menée au Bénin\, au Mali\, au Cambodge\, au Viêt Nam et en France. Nous proposons ainsi un examen approfondi de cas concrets qui donnent lieu à des échanges croisés auxquels les participant.e.s sont appelé.e.s à contribuer. \nTrois thèmes sont explorés :\n– l’expression d’une demande de césarienne et les négociations entre patients et soignants\,\n– les controverses et débats relatifs à l’organisation des structures hospitalières de prise en charge de l’accouchement\,\n– les politiques de santé y afférant. \nChacun de ces thèmes fait l’objet d’une session comprenant plusieurs communications. Celles-ci sont commentées par deux discutant.e.s\, l’un.e issu.e de disciplines biomédicales\, l’autre issu.e des sciences sociales. A travers ce double éclairage\, notre objectif est de mieux comprendre la spécificité de chaque contexte mais également la dynamique d’ensemble\, en tenant compte des multiples dimensions biomédicales\, institutionnelles\, collectives et individuelles de la pratique des césariennes\, dans l’optique large de la biomédicalisation des soins liés à la grossesse et l’accouchement.\nLe colloque doit aboutir à des publications qui pourront prendre la forme d’un dossier spécial dans une revue scientifique ou d’un ouvrage collectif. \n• Contacts\nAlexandre Dumont\, IRD-CEPED\, alexandre.dumont@ird.fr\nMyriam de Loenzien\, IRD-CEPED\, myriam.de-loenzien@ird.fr\nClémence Schantz\, CEPED\, clemschantz@hotmail.com \n\n\n 
URL:https://www.mshparisnord.fr/event/biomedicalisation-de-laccouchement/
CATEGORIES:Manifestations scientifiques
END:VEVENT
BEGIN:VEVENT
DTSTART;TZID=Europe/Paris:20171215T100000
DTEND;TZID=Europe/Paris:20171215T160000
DTSTAMP:20260425T231051
CREATED:20171124T131729Z
LAST-MODIFIED:20171124T143245Z
UID:10006497-1513332000-1513353600@www.mshparisnord.fr
SUMMARY:Elaboration d'un cadre de recherche partagé
DESCRIPTION:Manifestation à la MSH Paris Nord   Mardi 28 Novembre 2017\, de 10:00 à 16:00\, \nVendredi 15 Décembre 2017\, de 10:00 à 16:00\,     [ Programme scientifique ]   Chaire UNESCO “Education et santé” \n\n\n\n\nResponsable(s) scientifique(s)\nJacqueline Descarpentries Université de Paris 8 Vincennes (France)\nFatou Diagne Université Cheikh Anta Diop de Dakar (Sénégal)\nSameh Hrairi Université Virtuelle de Tunis (Tunisie)\nDidier Jourdan Université Clermont Auvergne (France)\n\n\n\n\nLieu(x)\nMSH Paris Nord\n20 av George Sand\n93210 St-Denis la Plaine\ntél : 01 55 93 93 00Métro ligne 12 : « Front populaire »\nRER B : « La Plaine – Stade de France »Accessible aux personnes à mobilité réduite\n\n\n\n\n\n\n\n\n\n\n chaire-UNESCO-seminaires-MSHParisNord.pdf\n\n\n\n\n\n\n• La Chaire UNESCO EducationS&Santé-Centre collaborateur OMS lance un programme scientifique\, co-porté par  le laboratoire  EXPERICE (Université Paris 8 Vincennes) et par le laboratoire ACTé (UCA Clermont-Ferrand). Il est fondé sur un programme de recherche visant à réaliser une cartographie critique des postures épistémologiques  et des enjeux éthiques\, sociaux\, politiques et culturels des éducations et des formations dans le champ de la santé. \nLe programme est constitué de plusieurs espaces de recherche : des séminaires à la MSH Paris Nord et à l’ UNESCO à Paris\, des journées d’étude à Dakar et à Tunis\, et un colloque international à Paris 8 Vincennes. Il est  conçu comme un espace de dialogue ouvert aux différentes approches disciplinaires des 14 pays partenaires inscrits dans la Chaire UNESCO. \nSon but est de mettre en discussion et en débats  les postulats de recherche\, de les éprouver au contact des pratiques de l’intervention éducative et formative en santé\, de mettre en discussion les finalités de ces interventions dans les différents pays\, d’interroger le cadre éthique au sein duquel se développent les recherches et les interventions des éducations et des formations dans le champ de la santé. \nau sein de la MSH Paris\, le 28 novembre et le 15 décembre 2017\, et 19 mars 2018 de 10 à 16 h sont mis en place trois seminaires  visant à réaliser  un état des lieux précis des concepts\, des théories et des méthodes de recherche en éducation à la santé. Sont ainsi  abordés et explicités les enjeux épistémologiques et éthiques liés aux pratiques de recherche et d’interventions. Les séances de travail sont constituées de communications et d’un temps d’échange et de production écrite collective. Des espaces en vidéoconférence sont prévus pour communiquer à distance. \n>> Pour toute information complémentaire et inscription\ncontacter Jacqueline Descarpentries\, Laboratoire Experice de Paris 8 Vincennes\njacqueline.descarpentries@wanadoo.fr
URL:https://www.mshparisnord.fr/event/elaboration-dun-cadre-de-recherche-partage/
CATEGORIES:Actualités,Manifestations scientifiques
END:VEVENT
BEGIN:VEVENT
DTSTART;TZID=Europe/Paris:20171221T100000
DTEND;TZID=Europe/Paris:20171221T180000
DTSTAMP:20260425T231051
CREATED:20171124T131541Z
LAST-MODIFIED:20171130T132941Z
UID:10006489-1513850400-1513879200@www.mshparisnord.fr
SUMMARY:Espaces publics\, cultures et engagement
DESCRIPTION:Jeudi 21 Décembre 2017\, de 10:00 à 18:00\,  salle de réunion   [ Journée d’études ] \n\n\n\n\nResponsable(s) scientifique(s)\nPauline Guinard\, ENS-Paris\, LAVUE\nBarbara Morovich ENSA-Strasbourg\, AMUP\n\n\n\n\nDébat animé par\nAlessia de Biase\nAgnès Déboulet\n\n\n\n\nInvité(s)\nAlain Bertho\nPauline Guinard\nBarbara Morovich\nPauline Guinard\nFlorencia Dansilio\nMarie-Kenza Bouhaddou\nFederica Gatta\nVincent Prieur\,\n\n\n\n\nLieu(x)\nMSH Paris Nord\n20 av George Sand\n93210 St-Denis la Plaine\ntél : 01 55 93 93 00Métro ligne 12 : « Front populaire »\nRER B : « La Plaine – Stade de France »Accessible aux personnes à mobilité réduite\n\n\n\n\n\n\n\n\n\n\n prog-espaces-publics-cultures-engagement-dec17.pdf\n\n\n\n\n\n\n• Sujet à la mode\, l’idée – pour ne pas dire le slogan – de « ville créative » est aujourd’hui censée transformer les espaces urbains par la culture et la créativité. Des politiques néo-libérales masquent en outre derrière des mots comme « ville sensible »\, « participation » ou « vivre ensemble »\, un modèle urbain compétitif et parfois exclusif et excluant. L’implication d’artistes et la définition de programmes culturels ambitieux sont ainsi à la base d’une refonte des villes en termes d’identité et d’image\, d’un art urbain maitrisé\, d’espaces publics piétonnisés et/ou sécurisés\, souvent destinés à des publics spécifiques. \nOr\, les artistes n’ont pas attendu l’avènement de la ville créative pour investir les espaces publics (voir par exemple : Pignon-Ernest\, 2010). L’art et la création restent d’ailleurs des moyens d’engagement et de rupture dans la ville du fait de leur caractère souple\, tactique et inventif. Encore aujourd’hui\, des artistes\, ainsi que des collectifs d’architectes\, de designers et des associations interdisciplinaires se forment\, s’institutionnalisent\, se recomposent autour d’enjeux spécifiques (engagements politiques\, intérêt pour des problématiques sociales…)\, parfois pour résister\, parfois pour collaborer avec les institutions et les acteurs de l’urbain\, en lien avec des financements spécifiques (tels que la politique de la ville). Dans le contexte des villes contemporaines\, ils sont invités par les acteurs publics et privés à assumer une multitude de fonctions non seulement d’ordre esthétique mais aussi économique\, social voire politique (Miles\, 1997 ; Deutsche\, 1998 ; Ruby\, 2001). Or\, face à ces injonctions\, ces groupes peuvent choisir d’y répondre ou bien encore de les détourner  selon  leurs  propres  objectifs.  La  socialisation  de  l’artiste  apparait  notamment  une « socialisation du risque » qui utilise la création de structures associatives afin de partager les aléas liés à l’activité artistique (Menget\, 2002 ; Le Coq\, 2009). \nOn pourrait ainsi s’interroger sur les modalités d’engagement des artistes en lien avec d’autres disciplines\, et questionner\, notamment\, la place du chercheur dans ces configurations ainsi que l’ambiguïté de ses postures. Comment les uns et les autres se positionnent face aux thématiques imposées par les politiques et les institutions ? A quoi  renvoie  cet  engagement\, tant  en  termes  de  discours  que  de  pratiques  (Becker\,  2006)  ? Comment  ces  acteurs  « participent-ils »  plus  précisément  à  la  refonte  des  espaces  publics aujourd’hui\, dans les Nords et les Suds ? Cette journée d’étude\, qui propose également l’exploration d’un projet interdisciplinaire\, entend porter un regard qui croise les disciplines\, les statuts\, les rôles et les lieux. Issue de deux projets financés par la MSH Paris Nord\, l’ENSAS et l’IFAS\, cette rencontre a pour ambition de poser les jalons d’une recherche partagée. \nLa journée d’étude est ouverte à tou.te.s sous réserve de places disponibles.
URL:https://www.mshparisnord.fr/event/espaces-publics-cultures-et-engagement/
CATEGORIES:Actualités,Manifestations scientifiques
END:VEVENT
END:VCALENDAR