BEGIN:VCALENDAR
VERSION:2.0
PRODID:-//Maison des Sciences Humaines et sociales Paris Nord - ECPv6.8.2.1//NONSGML v1.0//EN
CALSCALE:GREGORIAN
METHOD:PUBLISH
X-WR-CALNAME:Maison des Sciences Humaines et sociales Paris Nord
X-ORIGINAL-URL:https://www.mshparisnord.fr
X-WR-CALDESC:Évènements pour Maison des Sciences Humaines et sociales Paris Nord
REFRESH-INTERVAL;VALUE=DURATION:PT1H
X-Robots-Tag:noindex
X-PUBLISHED-TTL:PT1H
BEGIN:VTIMEZONE
TZID:Europe/Paris
BEGIN:DAYLIGHT
TZOFFSETFROM:+0100
TZOFFSETTO:+0200
TZNAME:CEST
DTSTART:20180325T010000
END:DAYLIGHT
BEGIN:STANDARD
TZOFFSETFROM:+0200
TZOFFSETTO:+0100
TZNAME:CET
DTSTART:20181028T010000
END:STANDARD
END:VTIMEZONE
BEGIN:VEVENT
DTSTART;TZID=Europe/Paris:20180404T093000
DTEND;TZID=Europe/Paris:20180405T183000
DTSTAMP:20260423T115712
CREATED:20180116T135904Z
LAST-MODIFIED:20180315T124702Z
UID:10006300-1522834200-1522953000@www.mshparisnord.fr
SUMMARY:Rencontres internationales Le droit à la ville
DESCRIPTION:Colloque consacré à l’actualité et aux prolongements des 50 ans du « droit à la ville » d’Henri Lefebvre \nLe 4 avril 2018 : Hôtel de Ville de Paris – auditorium\nentrée : 5 rue Lobau 75004 PARIS\nmétro 1 et 11 : Hôtel de Ville\nmétro 1\, 4\, 7\, 11 et 14 : Châtelet \nLe 5 avril 2018 : Maison des Sciences de l’Homme Paris Nord\n20 avenue George Sand 93210 La Plaine Saint-Denis\nmétro 12 : Front Populaire (sortie 3) \n> inscription obligatoire (places limitées) :\nhttps://docs.google.com/forms/d/1JBB0QD-2CTBZ7dPWRh0Dhmg2a3yjT8kcOEkwCMKmUDc/edit \n> télécharger le programme (pdf) \nPrésentation\nLe livre Le droit à la ville d’Henri Lefebvre paraît en mars 1968. En réaction à l’urbanisme fonctionnaliste et à l’aménagement technocratique\, il proposait une nouvelle conception de l’urbanisme. Faisant de la ville\, un enjeu de société\, cet ouvrage a toute sa place dans l’histoire des idées. À rebours de l’idée d’espace politiquement et socialement neutre\, Lefebvre analyse celui-ci comme la « projection des rapports sociaux ». Cette conception permet un renouveau à la fois théorique sur la pensée de la ville et pratique autour des politiques urbaines. Le caractère novateur de Lefebvre réside aussi dans sa critique des outils traditionnels d’analyse de l’urbanisation. Prenant appui sur le matérialisme historique de Marx\, Lefebvre montre que la ville est pensée comme processus et comme espace social. \nLe droit à la ville anticipe de profondes évolutions dans la société et dans le champ intellectuel. D’une part — à l’instar de Pierre Bourdieu et de Michel Foucault —\, Henri Lefebvre redéfinit le travail du philosophe dans la cité du XXème siècle en sortant la pensée marxienne de sa gangue pour l’ouvrir sur de nouvelles approches laissant une place importante à l’apport de l’art et à la critique de la quotidienneté. D’autre part\, il place désormais\, au centre de la réflexion sur les sociétés contemporaines\, la problématique de la ville\, de l’urbain et de l’espace. Il affirme la nécessité d’un « droit à la ville » qu’il définit comme un droit à la vie urbaine et à la décision démocratique. \nCe curieux ouvrage est tout à la fois un projet scientifique\, un projet politique et une redéfinition de l’urbanisme. \nLongtemps mise en sommeil\, de nouveaux chercheurs (Harvey\, Soja\, Garnier\, Purcell\,..) ont fait renaitre la conceptualisation de ce droit à la ville par ajouts\, par raffinements\, par redéploiements. Ils ne furent pas seuls puisqu’au niveau local\, les mouvements sociaux s’en emparent aux échelles locales\, nationales et internationales. Cette vague de fond explique les féroces empoignades autour du terme « right of the city » lors des débats sur la résolution finale d’Habitat III à Quito. Ces controverses se sont conclues sur un compromis boiteux autour de la ville pour tous\, permettant ce que certains dénomment « droit à la ville ». A travers les Forums Sociaux Mondiaux\, des gouvernements locaux en dialogue avec les mouvements d’habitants\, se sont aussi emparés du droit à la ville comme d’un axe de radicalisation de la démocratie locale et de promotion d’un horizon différent face à l’hégémonie de la ville compétitive. \nDes migrants aux habitants des bidonvilles jusqu’aux résidents des quartiers défavorisés en termes d’habitat\, d’accès à la centralité et aux services publics\, les exclu-e-s du droit à la ville sont nombreuses et nombreux. La campagne même s’est « rurbanisée » devenant un espace dortoir de villes constituées : la ville y étant absente\, le droit d’en jouir l’est tout autant. Ville inclusive ou excluante ? Peut-on parler de droits ? Qui garantit ces droits ? \nLes mouvements sociaux — comme ceux réunis dans la « Global Platform for the Right to the City » —\, mettent en avant la lutte contre la ville capitaliste. Au-delà de ces phrases de combat\, ne faut-il pas plutôt affirmer une ville plus solidaire et inclusive offrant aux luttes pour le logement des interstices urbains ou des vides devenus de potentiels refuges ; donnant aux luttes contre les frontières des facilités pour transformer les murs en médias d’information et d’expression ? Ces conflits liés à l’action matérielle donnent vie à la théorie du droit à la ville en générant des apprentissages\, des avancées\, une réflectivité. \nDe fait\, le droit à la ville est censé inclure tous les droits civils\, politiques\, économiques\, environnementaux\, sociaux et culturels en y ajoutant les dimensions du territoire et de la vie urbaine : droits de circuler librement\, d’être protégé\, d’avoir un logement digne\, de se soigner\, de pratiquer sa religion\, de prendre part à la vie politique de la cité (voir « la plateforme des droits humains dans la ville »). En cette période de recul des pouvoirs publics\, de nombreuses associations s’y substituent en luttant quotidiennement pour rendre effectif tous ces droits au niveau local et national tout en limitant toutes les entraves d’accès que sont les discriminations de genre\, de classe sociale\, d’origine\, d’orientation sexuelle\, de culte\, d’âge… Ces mouvements sociaux produisent du savoir notamment une charte du droit à la ville qui navigua des Forums urbains mondiaux jusqu’à la Conférence internationale des Nations Unies\, Habitat III. Certains pays et certaines régions urbaines l’ont même inscrite dans leur constitution. \nAu moment de célébrer le 50e anniversaire de Mai 68 et de la sortie du livre d’Henri Lefebvre\, il est apparu nécessaire au laboratoire d’idées « la Ville en Commun »\, et à la revue d’urbanisme critique « Tous Urbains »\, de rendre compte de l’importance et de l’actualité du concept dans les champs de la philosophie\, de la pensée urbaine et de la sociologie et d’en apprécier les débats qu’il a généré
URL:https://www.mshparisnord.fr/event/colloque-international-droit-a-ville/
LOCATION:MSH Paris Nord\, 20\, avenue George Sand\, La Plaine Saint-Denis\, Métro ligne 12 : « Front populaire »\, accessible aux personnes à mobilité réduite\, 93210\, France
CATEGORIES:Actualités,Manifestations scientifiques
END:VEVENT
BEGIN:VEVENT
DTSTART;TZID=Europe/Paris:20180409T093000
DTEND;TZID=Europe/Paris:20180409T173000
DTSTAMP:20260423T115712
CREATED:20180326T095919Z
LAST-MODIFIED:20180326T115838Z
UID:10006539-1523266200-1523295000@www.mshparisnord.fr
SUMMARY:Journée d’étude\, Santé et développement
DESCRIPTION:L’objet de cette journée d’étude est de permettre des rencontres et des échanges entre chercheurs de différentes disciplines et de divers laboratoires travaillant sur le lien entre santé et développement dans les pays du Sud; la santé étant considérée depuis les années 90 comme un vecteur essentiel du développement par les organisations internationales et les principaux bailleurs de fond. \nEn particulier\, cette journée vise à privilégier les approches critiques autour du lien entre santé et développement en privilégiant\, d’une part\, le rôle des institutions et en questionnant\, d’autre part\, les modes de production et de financement de la santé dans les pays du Sud.\nCette journée réunit des anthropologues\, des sociologues\, des épidémiologistes et des économistes autour de thèmes comme la mise en place d’une couverture universelle santé\, les performances des systèmes de soins\, l’accès aux innovations thérapeutiques ou encore les processus de pharmaceuticalisation. \nLa journée se déclinera sous la forme de six présentations articulées autour de deux thèmes : \n\nApories des systèmes de santé au Sud : entre discours et pratiques\nInnovation et Santé au Sud : enjeux scientifiques et techniques autour de l’accès aux innovations thérapeutiques\n\nDéroulement de la journée\n9h30 – Accueil et introduction de la journée \nSession 1. Difficultés des systèmes de santé au Sud : entre discours et pratiques\nPrésident de session : PIERRE SALAMA (CEPN\, Université Paris 13) \n10h00 – BRUNO BOIDIN : « Couverture santé universelle et silos institutionnels au Sud » (CLERSE\, Université Lille 1).\n10h45 – JAAFAR HEIKEL : « Le système de soins marocain: performance des modèles AMO et RAMED » (CEPN\, Université Paris 13).\n11h30 – MAMADOU CAMARA : « Lire la dépendance des systèmes de santé des pays de l’Afrique Francophone à travers les programmes nationaux de lutte contre le Sida : Quelques enseignements tirés de recherches de terrain » (CEPN\, Université Paris 13). \n12h30 -Déjeuner \nSession 2. Innovation et Santé au Sud : enjeux scientifiques et techniques autour de l’accès aux innovations thérapeutiques\nPrésident de session : JOËL OUDINET (CEPN\, Université Paris 13) \n14h00 – MAURICE CASSIER : « La politique des Partenariats de Développement de Produits au Brésil : acquisition technologique\, coopération industrielle et politique de santé » (CERMES3\, CNRS).\n14h45 – LEA DUCHENE : « Afrique sub-saharienne et hépatite C: défis et perspectives de la mise en oeuvre opérationnelle d’outils diagnostiques innovants » (Institut Pierre Louis d’Épidémiologie et de Santé Publique).\n15h30 – GAELLE KRIKORIAN et FANNY CHABROL : « Critique au sein de la pharmaceuticalisation : circulations de pratiques militantes et de savoirs\, entre pathologies\, entre Sud et Nord » (IRIS\, Université Paris 13 et IRD).\n16h30 – Conclusion de la journée
URL:https://www.mshparisnord.fr/event/journee-detude-sante-developpement/
LOCATION:MSH Paris Nord\, 20\, avenue George Sand\, La Plaine Saint-Denis\, Métro ligne 12 : « Front populaire »\, accessible aux personnes à mobilité réduite\, 93210\, France
CATEGORIES:Manifestations scientifiques
END:VEVENT
BEGIN:VEVENT
DTSTART;TZID=Europe/Paris:20180412T183000
DTEND;TZID=Europe/Paris:20180412T200000
DTSTAMP:20260423T115712
CREATED:20180309T113414Z
LAST-MODIFIED:20180409T091505Z
UID:10006536-1523557800-1523563200@www.mshparisnord.fr
SUMMARY:Concert musique mixte pour guitare
DESCRIPTION:Caroline Delume & Amélia Mazarico\, guitares\nVolodia Lambert\, guitare électrique \nProgramme\nNicolas Brochec > EXPR (2018)\nMario Lorenzo > Figures sur la corde (2017)\nAlain Bonardi > Fil de Soi 1 et 2 (2017-2018)\nHitomi Kaneko > Gustation & Olfaction (2016)\nOrganisé par\nCICM / EA MUSIDANSE – Université Paris 8\, Maison des Sciences de l’Homme Paris Nord \nInformations pratiques\n– entrée libre\n– lieu : grand auditorium de la Maison des Sciences de l’Homme Paris Nord\n20 avenue Georges Sand\, 93210 St-Denis la Plaine\n– transports : métro ligne 12 “Front Populaire” et bus 153\n>> évènement facebook à partager\nhttps://www.facebook.com/events/426894067746837/  \n>> télécharger l’affiche (pdf)
URL:https://www.mshparisnord.fr/event/concert-musique-mixte-guitare/
LOCATION:MSH Paris Nord\, 20\, avenue George Sand\, La Plaine Saint-Denis\, Métro ligne 12 : « Front populaire »\, accessible aux personnes à mobilité réduite\, 93210\, France
CATEGORIES:Manifestations scientifiques
END:VEVENT
BEGIN:VEVENT
DTSTART;TZID=Europe/Paris:20180416T140000
DTEND;TZID=Europe/Paris:20180416T180000
DTSTAMP:20260423T115712
CREATED:20180409T150141Z
LAST-MODIFIED:20180409T150446Z
UID:10006551-1523887200-1523901600@www.mshparisnord.fr
SUMMARY:EDESTA
DESCRIPTION:Séminaire méthodologique transversal de Recherche-création\nJean-François Dusigne\, Patrick Nardin\, Soko Phay \nMarcus Vinicius Borja | Docteur (SACRe)\nPoétiques de la voix et espaces sonores : la musicalité et la choralité comme bases de la pratique théâtrale\ndir. Jean-François Dusigne (Scènes du monde\, création\, savoirs critiques).\nCette recherche doctorale d’art et de création a pour but de démontrer et faire agir\, de manière consciente et organique dans le travail du plateau\, la similarité des modes de perception du temps dans la musique et dans le théâtre et proposer\, à partir de la vocalité\, une base solide et un langage commun au travail de l’acteur\, du musicien et du metteur en scène. \nCarole Fékété et Ariane Tillenon | Doctorantes (EPHA)\nUne recherche entre savoirs et savoir-faire : penser avec l’art\nLe séminaire propose de réfléchir sur les possibilités d’une recherche-création fondée sur une expérience de l’art. La théorie ne peut être ici l’explication de la pratique ; quelle est alors sa place là où l’essentiel semble avant tout de produire des oeuvres et non le discours qui les accompagne ?\nCe séminaire prendra comme point d’appui les ateliers de recherche-création organisés au Cambodge et au Rwanda. Il posera ainsi la question d’une recherche-création dans un contexte précis lié à la violence extrême et l’absence de traces. Face à ce manque comment créer et penser la recherche ? Quelles méthodes de travail seraient à inventer ?
URL:https://www.mshparisnord.fr/event/edesta/
LOCATION:MSH Paris Nord\, 20\, avenue George Sand\, La Plaine Saint-Denis\, Métro ligne 12 : « Front populaire »\, accessible aux personnes à mobilité réduite\, 93210\, France
CATEGORIES:Manifestations scientifiques
END:VEVENT
END:VCALENDAR