BEGIN:VCALENDAR
VERSION:2.0
PRODID:-//Maison des Sciences Humaines et sociales Paris Nord - ECPv6.8.2.1//NONSGML v1.0//EN
CALSCALE:GREGORIAN
METHOD:PUBLISH
X-ORIGINAL-URL:https://www.mshparisnord.fr
X-WR-CALDESC:Évènements pour Maison des Sciences Humaines et sociales Paris Nord
REFRESH-INTERVAL;VALUE=DURATION:PT1H
X-Robots-Tag:noindex
X-PUBLISHED-TTL:PT1H
BEGIN:VTIMEZONE
TZID:Europe/Paris
BEGIN:DAYLIGHT
TZOFFSETFROM:+0100
TZOFFSETTO:+0200
TZNAME:CEST
DTSTART:20170326T010000
END:DAYLIGHT
BEGIN:STANDARD
TZOFFSETFROM:+0200
TZOFFSETTO:+0100
TZNAME:CET
DTSTART:20171029T010000
END:STANDARD
END:VTIMEZONE
BEGIN:VEVENT
DTSTART;TZID=Europe/Paris:20171129T090000
DTEND;TZID=Europe/Paris:20171129T170000
DTSTAMP:20260425T214222
CREATED:20171127T152705Z
LAST-MODIFIED:20171127T152726Z
UID:10006493-1511946000-1511974800@www.mshparisnord.fr
SUMMARY:Les chercheurs et l'action
DESCRIPTION: \n\n\n Manifestation à la MSH Paris Nord   Mardi 29 Novembre 2016\, de 9:00 à 17:00\,     [ Journée d’études ]   Situations\, collaborations et finalités \n\n\nResponsable(s) scientifique(s)\nAlain BERTHO\nMarianne Herard\n\n\n\n\nInvité(s)\nMarc LIPINSKI\nBernard STIEGLER\nPatrick BRAOUEZEC\nSylvain LAZARUS\nMarion CARREL\nHugues BAZIN\nFrancine SAILLANT\nPascal NICOLAS LE STRAT\nMélanie DUCLOS\nVéronique POUPARD\nJean Michel FOURNIAU\nMathieu VALDENAIRE\nAgnès DEBOULET\n\n\n\n\nLieu(x)\nMaison des Sciences de l’Homme de Paris-Nord\n20\, avenue George Sand 93210 Saint-DenisMétro Ligne 12 – Terminus station Front Populaire\n\n\n\n\n\n\n\n\n recherches-action29nov2016-affiche-web.pdf\n recherches-action29nov2016-prog-web.pdf\n\n\n\n\n• Recherches collaboratives\, participatives\, contributives\, impliquées… : si le vocabulaire n’est pas vraiment fixé\, les expériences se multiplient\, donnant une nouvelle jeunesse aux recherches-actions. \nSouvent mal reconnues au regard des critères académiques\, ces démarches répondent à un double besoin : celui des chercheurs et celui des acteurs. D’un côté\, les disciplines constituées éprouvent leurs limites face aux situations contemporaines\, leurs enjeux démocratiques\, et face à l’émergence de nouveaux objets. Elles cherchent à les dépasser par l’interdisciplinarité et la mobilisation de partenaires non académiques. De l’autre\, les acteurs sociaux\, économiques\, politiques\, institutionnels sont en demande d’un éclairage savant qui intègre et prenne en compte leur propres problématiques et objectifs. Les limites contemporaines de l’institution sont également en jeu : limites avouées dans la capacité à penser des situations\, limites dans la capacité à décider et à faire ; limite dans la capacité de représentation politique. \n 
URL:https://www.mshparisnord.fr/event/les-chercheurs-et-laction/
CATEGORIES:Actualités,Manifestations scientifiques
END:VEVENT
END:VCALENDAR