BEGIN:VCALENDAR
VERSION:2.0
PRODID:-//Maison des Sciences Humaines et sociales Paris Nord - ECPv6.8.2.1//NONSGML v1.0//EN
CALSCALE:GREGORIAN
METHOD:PUBLISH
X-ORIGINAL-URL:https://www.mshparisnord.fr
X-WR-CALDESC:Évènements pour Maison des Sciences Humaines et sociales Paris Nord
REFRESH-INTERVAL;VALUE=DURATION:PT1H
X-Robots-Tag:noindex
X-PUBLISHED-TTL:PT1H
BEGIN:VTIMEZONE
TZID:Europe/Paris
BEGIN:DAYLIGHT
TZOFFSETFROM:+0100
TZOFFSETTO:+0200
TZNAME:CEST
DTSTART:20170326T010000
END:DAYLIGHT
BEGIN:STANDARD
TZOFFSETFROM:+0200
TZOFFSETTO:+0100
TZNAME:CET
DTSTART:20171029T010000
END:STANDARD
END:VTIMEZONE
BEGIN:VEVENT
DTSTART;TZID=Europe/Paris:20171211T090000
DTEND;TZID=Europe/Paris:20171211T183000
DTSTAMP:20260426T035210
CREATED:20171124T131405Z
LAST-MODIFIED:20171129T100403Z
UID:10006475-1512982800-1513017000@www.mshparisnord.fr
SUMMARY:Les sciences humaines et sociales face à l’interdisciplinarité dans les recherches en santé
DESCRIPTION:Lundi 11 Décembre 2017\, de 9:00 à 18:30\,  Amphithéâtre\nMardi 12 Décembre 2017\, de 9:00 à 18:30\,  Amphithéâtre   [ Colloque ]   Pratiques\, lieux\, enjeux et perspectives \n\n\n\n\nResponsable(s) scientifique(s)\nDelphine Berdah (GHDSO\, Université de Paris Sud)\nFanny Chabrol (Cermes3)\nPatrick Castel (FNSP\, CSO)\nGabriel Girard (IRSP de l’Université de Montréal)\nSébastien Fleuret (CNRS\, ESO-Angers)\nRuth Horn (Ethox Centre\, University of Oxford)\nSimone Mathoulin-Pélissier (Inserm U1219\, ISPED\, Institut Bergonié)\nDominique Llhuilier (CNAM)\nFrançois-Xavier Schweyer (EHESP\, CMH)\nLivia Velpry (Université Paris Descartes\, Cermes3)\n\n\n\n\nLieu(x)\nMSH Paris Nord\n20 av George Sand\n93210 St-Denis la Plaine\ntél : 01 55 93 93 00Métro ligne 12 : « Front populaire »\nRER B : « La Plaine – Stade de France »Accessible aux personnes à mobilité réduite \n\n\n\n\n\n\n\n\n\n\n\n>> programme et informations sur le site de l’évènement\n>> inscription obligatoire avant le 9 décembre\n>> facebook de l’évènement\n\n\n\n\n livret-shs-sante-dec2017.pdf\n affiche-shs-sante-dec2017-web.pdf\n\n\n\n\n\n\n• Ce colloque ambitionne à perpétrer\, si ce n’est renouveler\, un chantier de réflexions sur les pratiques de l’interdisciplinarité dans les recherches en santé. Ce champ favorise en effet la production de problématiques transversales\, appelant pour ainsi dire à croiser les regards disciplinaires. Présentées comme une clé de compréhension des grands enjeux sanitaires\, mais aussi comme un défi\, les recherches interdisciplinaires renvoient également et largement à une demande politique. Elles accompagnent encore le mouvement d’internationalisation de la recherche\, et celui\, peu interrogé\, de l’interprofessionnalité. Les contours et les enjeux de ces pratiques de recherche en santé restent flous et\, probablement\, trop rarement discutés. \nAinsi\, loin de considérer le sujet\, ses enjeux comme ses perspectives\, épuisés\, nous souhaitons susciter dialogues et réflexions. Que signifie pratiquer l’interdisciplinarité ? Dans quels lieux\, et comment\, ces recherches sont-elles mises en œuvre ? Quels sont les enjeux et perspectives pour les sciences humaines et sociales ? Comment les recherches interdisciplinaires en santé contribuent-elles à repenser le contenu des formations universitaires et professionnelles ? \nColloque organisé à l’initiative de Lynda Sifer-Rivière (Inserm CIC1402\, Cermes3)\, Yannick Le Hénaff (Université de Rouen\, DySoLaB)\, et de Myriam Winance (Inserm\, Cermes3) avec le soutien de la Maison des Sciences de l’Homme Paris Nord et l’Association Française de Sociologie\, Réseau thématique Santé\, Médecine\, Maladie et Handicap (RT19).
URL:https://www.mshparisnord.fr/event/les-sciences-humaines-et-sociales-face-a-linterdisciplinarite-dans-les-recherches-en-sante/
CATEGORIES:Actualités,Manifestations scientifiques
END:VEVENT
END:VCALENDAR