BEGIN:VCALENDAR
VERSION:2.0
PRODID:-//Maison des Sciences Humaines et sociales Paris Nord - ECPv6.8.2.1//NONSGML v1.0//EN
CALSCALE:GREGORIAN
METHOD:PUBLISH
X-WR-CALNAME:Maison des Sciences Humaines et sociales Paris Nord
X-ORIGINAL-URL:https://www.mshparisnord.fr
X-WR-CALDESC:Évènements pour Maison des Sciences Humaines et sociales Paris Nord
REFRESH-INTERVAL;VALUE=DURATION:PT1H
X-Robots-Tag:noindex
X-PUBLISHED-TTL:PT1H
BEGIN:VTIMEZONE
TZID:Europe/Paris
BEGIN:DAYLIGHT
TZOFFSETFROM:+0100
TZOFFSETTO:+0200
TZNAME:CEST
DTSTART:20170326T010000
END:DAYLIGHT
BEGIN:STANDARD
TZOFFSETFROM:+0200
TZOFFSETTO:+0100
TZNAME:CET
DTSTART:20171029T010000
END:STANDARD
END:VTIMEZONE
BEGIN:VEVENT
DTSTART;TZID=Europe/Paris:20171221T100000
DTEND;TZID=Europe/Paris:20171221T180000
DTSTAMP:20260426T021540
CREATED:20171124T131541Z
LAST-MODIFIED:20171130T132941Z
UID:10006489-1513850400-1513879200@www.mshparisnord.fr
SUMMARY:Espaces publics\, cultures et engagement
DESCRIPTION:Jeudi 21 Décembre 2017\, de 10:00 à 18:00\,  salle de réunion   [ Journée d’études ] \n\n\n\n\nResponsable(s) scientifique(s)\nPauline Guinard\, ENS-Paris\, LAVUE\nBarbara Morovich ENSA-Strasbourg\, AMUP\n\n\n\n\nDébat animé par\nAlessia de Biase\nAgnès Déboulet\n\n\n\n\nInvité(s)\nAlain Bertho\nPauline Guinard\nBarbara Morovich\nPauline Guinard\nFlorencia Dansilio\nMarie-Kenza Bouhaddou\nFederica Gatta\nVincent Prieur\,\n\n\n\n\nLieu(x)\nMSH Paris Nord\n20 av George Sand\n93210 St-Denis la Plaine\ntél : 01 55 93 93 00Métro ligne 12 : « Front populaire »\nRER B : « La Plaine – Stade de France »Accessible aux personnes à mobilité réduite\n\n\n\n\n\n\n\n\n\n\n prog-espaces-publics-cultures-engagement-dec17.pdf\n\n\n\n\n\n\n• Sujet à la mode\, l’idée – pour ne pas dire le slogan – de « ville créative » est aujourd’hui censée transformer les espaces urbains par la culture et la créativité. Des politiques néo-libérales masquent en outre derrière des mots comme « ville sensible »\, « participation » ou « vivre ensemble »\, un modèle urbain compétitif et parfois exclusif et excluant. L’implication d’artistes et la définition de programmes culturels ambitieux sont ainsi à la base d’une refonte des villes en termes d’identité et d’image\, d’un art urbain maitrisé\, d’espaces publics piétonnisés et/ou sécurisés\, souvent destinés à des publics spécifiques. \nOr\, les artistes n’ont pas attendu l’avènement de la ville créative pour investir les espaces publics (voir par exemple : Pignon-Ernest\, 2010). L’art et la création restent d’ailleurs des moyens d’engagement et de rupture dans la ville du fait de leur caractère souple\, tactique et inventif. Encore aujourd’hui\, des artistes\, ainsi que des collectifs d’architectes\, de designers et des associations interdisciplinaires se forment\, s’institutionnalisent\, se recomposent autour d’enjeux spécifiques (engagements politiques\, intérêt pour des problématiques sociales…)\, parfois pour résister\, parfois pour collaborer avec les institutions et les acteurs de l’urbain\, en lien avec des financements spécifiques (tels que la politique de la ville). Dans le contexte des villes contemporaines\, ils sont invités par les acteurs publics et privés à assumer une multitude de fonctions non seulement d’ordre esthétique mais aussi économique\, social voire politique (Miles\, 1997 ; Deutsche\, 1998 ; Ruby\, 2001). Or\, face à ces injonctions\, ces groupes peuvent choisir d’y répondre ou bien encore de les détourner  selon  leurs  propres  objectifs.  La  socialisation  de  l’artiste  apparait  notamment  une « socialisation du risque » qui utilise la création de structures associatives afin de partager les aléas liés à l’activité artistique (Menget\, 2002 ; Le Coq\, 2009). \nOn pourrait ainsi s’interroger sur les modalités d’engagement des artistes en lien avec d’autres disciplines\, et questionner\, notamment\, la place du chercheur dans ces configurations ainsi que l’ambiguïté de ses postures. Comment les uns et les autres se positionnent face aux thématiques imposées par les politiques et les institutions ? A quoi  renvoie  cet  engagement\, tant  en  termes  de  discours  que  de  pratiques  (Becker\,  2006)  ? Comment  ces  acteurs  « participent-ils »  plus  précisément  à  la  refonte  des  espaces  publics aujourd’hui\, dans les Nords et les Suds ? Cette journée d’étude\, qui propose également l’exploration d’un projet interdisciplinaire\, entend porter un regard qui croise les disciplines\, les statuts\, les rôles et les lieux. Issue de deux projets financés par la MSH Paris Nord\, l’ENSAS et l’IFAS\, cette rencontre a pour ambition de poser les jalons d’une recherche partagée. \nLa journée d’étude est ouverte à tou.te.s sous réserve de places disponibles.
URL:https://www.mshparisnord.fr/event/espaces-publics-cultures-et-engagement/
CATEGORIES:Actualités,Manifestations scientifiques
END:VEVENT
END:VCALENDAR