BEGIN:VCALENDAR
VERSION:2.0
PRODID:-//Maison des Sciences Humaines et sociales Paris Nord - ECPv6.8.2.1//NONSGML v1.0//EN
CALSCALE:GREGORIAN
METHOD:PUBLISH
X-ORIGINAL-URL:https://www.mshparisnord.fr
X-WR-CALDESC:Évènements pour Maison des Sciences Humaines et sociales Paris Nord
REFRESH-INTERVAL;VALUE=DURATION:PT1H
X-Robots-Tag:noindex
X-PUBLISHED-TTL:PT1H
BEGIN:VTIMEZONE
TZID:Europe/Paris
BEGIN:DAYLIGHT
TZOFFSETFROM:+0100
TZOFFSETTO:+0200
TZNAME:CEST
DTSTART:20220327T010000
END:DAYLIGHT
BEGIN:STANDARD
TZOFFSETFROM:+0200
TZOFFSETTO:+0100
TZNAME:CET
DTSTART:20221030T010000
END:STANDARD
END:VTIMEZONE
BEGIN:VEVENT
DTSTART;VALUE=DATE:20220504
DTEND;VALUE=DATE:20220508
DTSTAMP:20260421T075803
CREATED:20220404T094927Z
LAST-MODIFIED:20220405T115154Z
UID:10007365-1651622400-1651967999@www.mshparisnord.fr
SUMMARY:146e congrès du CTHS sur les « Périphéries »
DESCRIPTION:Chaque année\, le Congrès national des sociétés historiques et scientifiques\, lieu de rencontre et d’échange unique dans le paysage de la recherche française\, rassemble environ 500 participants parmi lesquels des universitaires issus de nombreuses disciplines : histoire\, géographie\, sciences\, ethnologie\, anthropologie\, préhistoire et protohistoire\, archéologie\, philologie\, histoire de l’art\, environnement\, etc. Il accueille également des jeunes chercheurs (dont c’est parfois la première intervention publique) et des érudits locaux membres de sociétés savantes. La confrontation des regards\, des expériences et des approches méthodologiques explique la singularité du congrès du CTHS. \nLe congrès est placé sous le haut patronage du président de la République. \nLes périphéries\, un choix fédérateur. Un objet géographique\, mais loin d’être cantonné à la discipline. Un objet multiscalaire\, du micro au global. Un objet mouvant\, en mutations\, en perpétuelle redéfinition. \nUn objet difficile à caractériser sans un ou des « centres »\, mais qui oblige à décentrer le regard et à regarder ce qui est caché\, discret voire marginalisé… des signaux faibles. Les périphéries\, une multitude de réalités. Des lieux excentrés\, mal desservis\, voire enclavés\, ségrégués\, mis à l’écart. Une qualification péjorative (cf. La France périphérique de Christophe Guilluy) qui peut être associée à l’existence de contre-pouvoirs ou de contre-cultures. La marginalité peut être géographique\, économique\, sociale et culturelle\, ce qui permet de dépasser une vision purement territoriale. On peut même parler de périphérie des sciences (rapport entre savoirs amateurs et savoirs académiques par exemple). \nLes périphéries peuvent être aussi vues comme des lieux d’innovation\, d’émergence de pensées nouvelles\, à l’écart des centres de décision. Des identités spécifiques peuvent émerger\, évoluer\, voire devenir dominantes\, ce qui amène à aborder la question des mutations des périphéries. Sont-elles vouées à demeurer… périphériques ? Les périphéries peuvent générer un imaginaire. On pense notamment aux périphéries du monde habité\, connu et exploré. L’espace serait-il notre nouvelle périphérie fantasmagorique ? Un congrès en périphérie : une résonance particulière. \nCe premier congrès à Aubervilliers\, nouvelle localisation du Comité\, nous permettra d’explorer une dimension spécifique de la périphéricité au sein d’une métropole en pleine transformation. Auparavant partie intégrante de la banlieue rouge\, Aubervilliers est désormais une commune tournée vers la connaissance et sa transmission avec l’implantation du Campus Condorcet. Cette évolution démontre les possibilités de mutation des périphéries qui peuvent acquérir à terme une part de centralité\, qu’elle ait été transférée du coeur d’agglomération traditionnel ou qu’elle se soit spontanément développée. \nPierre Zembri\, professeur des universités à l’université Gustave Eiffel (EUP-École d’urbanisme de Paris)\, directeur du Laboratoire ville\, mobilité\, transport (LVMT\, UMR T 9403)\, membre du CTHS\, président scientifique du congrès \nProgramme\n\nOuverture\nCaractérisation des périphéries\nFormation des périphéries\nSituations de périphéries\nIdentités et mutations des périphéries\nAubervilliers\, l’agglomération parisienne\, la banlieue\nVisions et analyses des périphéries\nApproches épistémologiques des travaux scientifiques sur les périphéries\nApproches économiques\nApproches sociales et politiques\nApproches linguistiques\nVisions et représentations des périphéries\nLes sciences et leurs périphéries\nSession de la section Préhistoire-Protohistoire\nIdentités et mutations des périphéries des villes de l’Antiquité à nos jours\nAux marges de la cité : l’exclusion sociale\, confessionnelle et professionnelle en France\nPéri-féeries : retours sur les non-humains des limites\nTable ronde Jean Jacquart et ses anciens élèves\nTable ronde Jean Jacquart et ses collègues de l’université et du CTHS\nTable ronde Jean Jacquart et les sociétés historiques d’Ile de France\nTable ronde Jean Jacquart : les premières leçons d’un journal de jeunesse\nTable ronde des sociétés savantes\nRaconter l’histoire de France contemporaine par la périphérie\nLa périphérie des ethnologues urbains\nPériphéries et marges\, histoire réflexive de l’anthropologie urbaine\nDes périphéries foisonnantes\nL’anthropologie visuelle en périphérie\nPour une ethnologie décentrée de la France\nLes forêts pour penser les périphéries\nLes pays du Sud en périphérie du monde : entre insertion\, dépendance et recherche d’une autonomie\nLes périphéries\, entre effets de domination et dynamiques de développement\nMétissages ontologiques : la périphérie comme « terra incognita »\nClôture\n\nInformations pratiques\ndu 4 au 7 mai 2022\nà la MSH Paris Nord à La Plaine Saint-Denis\net au centre de colloques du Campus Condorcet à Aubervilliers \n>> télécharger les programmes sur le site\nhttps://cths.fr/co/congres.php \nContact\nPour toute information pendant le congrès\ntél. 07 54 47 32 24\ncongres@cths.fr
URL:https://www.mshparisnord.fr/event/146e-congres-du-cths-sur-les-peripheries/
LOCATION:MSH Paris Nord\, 20\, avenue George Sand\, La Plaine Saint-Denis\, Métro ligne 12 : « Front populaire »\, accessible aux personnes à mobilité réduite\, 93210\, France
CATEGORIES:Manifestations scientifiques
ATTACH;FMTTYPE=image/jpeg:https://www.mshparisnord.fr/wp-content/uploads/2022/04/peripheries-mai2022-250px.jpg
END:VEVENT
END:VCALENDAR