BEGIN:VCALENDAR
VERSION:2.0
PRODID:-//Maison des Sciences Humaines et sociales Paris Nord - ECPv6.8.2.1//NONSGML v1.0//EN
CALSCALE:GREGORIAN
METHOD:PUBLISH
X-ORIGINAL-URL:https://www.mshparisnord.fr
X-WR-CALDESC:Évènements pour Maison des Sciences Humaines et sociales Paris Nord
REFRESH-INTERVAL;VALUE=DURATION:PT1H
X-Robots-Tag:noindex
X-PUBLISHED-TTL:PT1H
BEGIN:VTIMEZONE
TZID:Europe/Paris
BEGIN:DAYLIGHT
TZOFFSETFROM:+0100
TZOFFSETTO:+0200
TZNAME:CEST
DTSTART:20220327T010000
END:DAYLIGHT
BEGIN:STANDARD
TZOFFSETFROM:+0200
TZOFFSETTO:+0100
TZNAME:CET
DTSTART:20221030T010000
END:STANDARD
END:VTIMEZONE
BEGIN:VEVENT
DTSTART;VALUE=DATE:20220929
DTEND;VALUE=DATE:20221001
DTSTAMP:20260419T204312
CREATED:20220921T102648Z
LAST-MODIFIED:20220921T103153Z
UID:10007526-1664409600-1664582399@www.mshparisnord.fr
SUMMARY:Grand 8\, Paris 8 fête sa rentrée
DESCRIPTION:La MSH Paris Nord participe une nouvelle fois à la fête de la rentrée de l’université Paris 8. \nLa MSH Paris Nord vous présente ses différentes activités de recherche\, de valorisation et différents projets de recherches soutenus dans le cadre de son appel à projets. \n\n280 partenaires présents sur les stands et rassemblés sous différents villages\nplus de 30 concerts et spectacles d’artistes émergents et étudiants organisés sur la grande scène\nRestauration géante gratuite\, stands gourmandises et de nombreuses animations inédites seront organisées\n\n\nTemps forts : Les solidarités seront à l’honneur cette année. Débats sociétaux\, prix de l’engagement\, remise des diplômes du DU FLE pour les réfugiés\, transitions écologiques\, Jeux Olympiques et Paralympiques 2024 feront partie du programme. \n\n\n\nLe tout dans une ambiance festive où concerts\, spectacles et animations sont proposés ! \nInformations pratiques\n29 et 30 septembre 2022\nUniversité Paris 8\n2 Rue de la Liberté\n93526 Saint-Denis \nGratuit et ouvert à toutes et à tous !\nContact : grand8@univ-paris8.fr \n>> découvrez le site du Grand 8\nhttps://grand8.univ-paris8.fr/
URL:https://www.mshparisnord.fr/event/grand-8-paris-8-fete-sa-rentree/
LOCATION:MSH Paris Nord\, 20\, avenue George Sand\, La Plaine Saint-Denis\, Métro ligne 12 : « Front populaire »\, accessible aux personnes à mobilité réduite\, 93210\, France
CATEGORIES:Manifestations scientifiques
END:VEVENT
BEGIN:VEVENT
DTSTART;TZID=Europe/Paris:20220930T083000
DTEND;TZID=Europe/Paris:20220930T173000
DTSTAMP:20260419T204312
CREATED:20220414T114839Z
LAST-MODIFIED:20260401T070117Z
UID:10007342-1664526600-1664559000@www.mshparisnord.fr
SUMMARY:Exposition\, Paroles d'autrices\, matrimoine de la bande dessinée
DESCRIPTION:L’exposition Paroles d’autrices dévoile les coulisses du premier volet d’un projet de recherche portant sur les créatrices de bandes dessinées : leur histoire\, leur mise en mémoire et leurs revendications dans le neuvième art. Porté par les Bréchoises\, un groupe de travail constitué de chercheuses\, doctorantes\, autrices et éditrices\, il entend analyser\, valoriser et défendre le matrimoine de la bande dessinée. Le parti-pris de l’exposition a été de restituer des extraits de l’histoire orale des autrices invitées dans le projet de séminaires qui a eu lieu au cours de l’année universitaire 2021-2022 dans les locaux de la Maison des Sciences de l’Homme Paris Nord. \nŒuvrant à rendre visibles les créatrices de bande dessinée dans la recherche académique\, les Bréchoises existent depuis 2020 et se rattachent au réseau international de la jeune recherche en bande dessinée : la Brèche BD. Les visuels de l’exposition ont été réalisés à partir d’une proposition typographique originale utilisant les polices de caractère de la collective franco-belge Bye Bye Binary\, réunissant des créateur.ices et designers de tous horizons autour de la question de l’inclusivité dans la typographie. \nLes six affiches qui constituent l’exposition sont une création graphique d’Emmanuelle Espinasse à partir des citations d’autrices recueillies par les Bréchoises\, de leurs portraits dessinés par Johanna Schipper\, et des polices de caractère inclusives de la collective franco-belge Bye Bye Binary. \nPrésentation de l’exposition par Marys Hertiman : \n \nInformations pratiques\nà la MSH Paris Nord\ndu 13 mai au 31 octobre 2022\nde 8h30 à 18h du lundi au vendredi \n\nvendredi 21 octobre 2022 à 18h30\nVisite guidée de l’exposition par Marys Hertiman et Mathieu Arbogast dans le cadre des Café sciences en partenariat avec les Petits Débrouillards\nhttps://www.mshparisnord.fr/event/cafe-sciences-genre-et-bande-dessinee/\nVisite guidée de l’exposition par Marys Hertiman dans le cadre des journées européennes du patrimoine\nle samedi 17 septembre 2022\n>> informations et inscription sur\nhttps://www.mshparisnord.fr/event/journees-europeennes-du-patrimoine-a-la-msh-paris-nord-2022/\nVernissage le jeudi 12 mai 2022 à partir de 17h30\nOuvert à tous\, entrée libre\n\n>> consulter le site internet d’Emmanuelle Espinasse\nwww.instagram.com/emma.espinasse/  \n>> consulter la présentation du séminaire\nhttps://www.mshparisnord.fr/event/seminaire-matrimoine-de-la-bd/2022-05-13/ \n>> consulter les pages des Bréchoises à la Brèche\nhttps://labrechebd.com/les-brechoises/ \n>> consulter le site du collectif Bye Bye Binary\nhttps://genderfluid.space/ \n>> consulter un article sur l’exposition co-écrit par Clémence Leboucher et Barbara Fasseur sur le site actualitte.com\nhttps://actualitte.com/article/106182/reportages/paroles-d-autrices-creer-des-archives-pour-la-memoire-des-autrices-de-bd \nProjet avec le soutien de : EUR ArTeC\, MSH Paris Nord\, université Paris 8\, Association EFiGiES\, Association Archives du Féminisme\, les Archives Départementales de l’Ille-et-Vilaine\, laboratoire EXPERICE\, laboratoire TEMOS\, université d’Angers\, Association La Brèche\, université Paris Nanterre\, Bibliothèque nationale de France\, université Bordeaux Montaigne.
URL:https://www.mshparisnord.fr/event/exposition-paroles-dautrices/2022-09-30/
LOCATION:MSH Paris Nord\, 20\, avenue George Sand\, La Plaine Saint-Denis\, Métro ligne 12 : « Front populaire »\, accessible aux personnes à mobilité réduite\, 93210\, France
CATEGORIES:Manifestations scientifiques
ATTACH;FMTTYPE=image/gif:https://www.mshparisnord.fr/wp-content/uploads/2022/04/expo-paroles-dautrices-250px.gif
END:VEVENT
BEGIN:VEVENT
DTSTART;TZID=Europe/Paris:20220930T083000
DTEND;TZID=Europe/Paris:20220930T173000
DTSTAMP:20260419T204312
CREATED:20220608T080413Z
LAST-MODIFIED:20221102T091639Z
UID:10007401-1664526600-1664559000@www.mshparisnord.fr
SUMMARY:Exposition\, In the Banlieues: Oakland/Saint-Denis
DESCRIPTION:In the Banlieues: Oakland / Saint-Denisécrire la ville collectivement\nSérie d’expositions internationales autour des banlieues en France et aux États-Unis\, In the Banlieues: Oakland/Saint-Denis est présentée simultanément à Paris\, à Saint-Denis notamment à la MSH Paris Nord\, à San Francisco et à Oakland. \nQuelle que soit la manière de les nommer – banlieues\, périphéries\, suburbs\, franges urbaines… cette exposition met en lumière le retournement symbolique du centre à la périphérie. Mouvements artistiques\, luttes sociales\, innovations urbaines : les banlieues d’Oakland en Californie et de Saint-Denis imposent aujourd’hui leur influence et inventent des solutions aux enjeux de pauvreté et de développement urbain accéléré auxquels les métropoles font face. \n“Rassemblant un corpus hybride d’images d’archives\, maquettes\, tableaux\, installations artistiques\, objets\, vidéos\, cette exposition explore les pratiques culturelles et habitantes en urbanisme. Des lieux\, des personnes\, des histoires les constituent\, dessinant\, loin des clichés\, des portraits de banlieues composites. Il y a urgence à reconnaître celles et ceux qui y vivent au jour le jour\, celles et ceux qui y travaillent et qui y créent.” June Grant et Laure Gayet\, co-commissaires de l’exposition. \nDates\n\n\nà Saint-Denis\n\nExposition à la Maison des Sciences de l’Homme Paris Nord du 17 septembre au 15 mars 2023 (prolongation)(attention\, la visite du 4e étage est possible seulement de 12h30 à 14h\, merci de votre compréhension)Vernissage festif et visites guidées lors des journées européennes du patrimoine\, le samedi 17 septembre 2022informations sur la page https://www.mshparisnord.fr/event/journees-europeennes-du-patrimoine-a-la-msh-paris-nord-2022/\ndans des espaces publics de Saint-Denis à partir de septembre 2022\nPerformances Spaces 25\, 29\, 30 juin et 1\, 2\, 6\, 7\, 9 juillet 2022 entre la Halle du Marché et la Basilique de Saint-Denis\n\n\nà San Francisco et à Oakland : de juillet à décembre 2022\nen ligne : City/Cité – le cycle de conférences invite plusieurs villes du monde à partager leurs innovations culturelles et urbaines à partir de septembre (dates à confirmer)\nà Paris\, au Pavillon de l’Arsenal du 15 juin à fin août 2022\n\n\n>> site du programme de coopération https://www.oaklandsaintdenis.org \nUn projet de recherche qui bénéficie du soutien de la MSH Paris Nord et de Plaine Commune dans le cadre de leur appel à projets commun. \nL’exposition est coproduite par le Pavillon de l’Arsenal\, la Villa Albertine San Francisco et California Humanities ; en partenariat avec SPUR San Francisco\, la Maison des Sciences de l’Homme Paris Nord ; avec le soutien de la fondation 836M\, l’Institut Français\, la Fondation Art Explora ; en collaboration avec les villes d’Oakland et de Saint-Denis\, Périféeries et avec la complicité d’Arte.
URL:https://www.mshparisnord.fr/event/exposition-in-the-banlieues-oakland-saint-denis/2022-09-30/
LOCATION:MSH Paris Nord\, 20\, avenue George Sand\, La Plaine Saint-Denis\, Métro ligne 12 : « Front populaire »\, accessible aux personnes à mobilité réduite\, 93210\, France
CATEGORIES:Manifestations scientifiques
ATTACH;FMTTYPE=image/jpeg:https://www.mshparisnord.fr/wp-content/uploads/2022/06/oaklandsaintdenis-2022-250px.jpg
END:VEVENT
BEGIN:VEVENT
DTSTART;TZID=Europe/Paris:20220930T093000
DTEND;TZID=Europe/Paris:20220930T203000
DTSTAMP:20260419T204312
CREATED:20220907T144439Z
LAST-MODIFIED:20220928T152448Z
UID:10007521-1664530200-1664569800@www.mshparisnord.fr
SUMMARY:Colloque\, Dramaturgie des plantes -  Spectacle\, Bardane et moi
DESCRIPTION:L’objectif de ce projet est d’étudier les capacités des arts de la scène à explorer des comportements pour un monde en transition. Le colloque\, dans le prolongement des recherches menées lors d’un précédent projet\, se focalise sur quatre axes spécifiques\, qui nous semblent correspondre aux priorités de la transition pratique\, cognitive et psychologique : \n– le rapport aux plantes\n– le rapport aux objets et dispositifs qui façonnent nos comportements\n– la spéculation\, ou capacité à imaginer de nouveaux agencements de vie (mondes)\, notamment un peuple coopératif\, habitué des symbioses\, qui manque\n– les potentialités des arts participatifs à se nourrir de recherches sur le végétal\, le dispositif\, et la spéculation\, pour être le creuset de comportements. \nProgramme du colloque\n9h 45 Accueil par Éliane Beaufils et Flore Garcin-Marrou \n10 h Marina Pirot\,\nperformance participative Devenirs végétaux\, suivie d’un échange \n11 h 30 Pause \n11 h 35 Kerminy\nDévelopper une recherche au croisement des singularités et des complexités de la crise écologique \n12 h 15 Entretien avec Barbara Bonnefoy\, psychologue écologue\, Paris X\nPuissances d’agir\, attention et restauration émotionnelle par les plantes\, suivi d’un échange avec le public \n12 h 45 Chasseuses-cueilleuses \n13h 15 Pause déjeuner \n14h 15 Flore Garcin-Marrou\, Toulouse\nCadrer une plante \n14 h 50 Éliane Beaufils\, Paris 8\nFaire équipe avec des plantes \n15h 25 Pascale Weber\nCorps et plantes : porter ou adopter \n16h Pause \n16 h 15 Alix de Morant\nParcourir la forêt \n16 h 45 Tilhenn Klapper\nRencontrer un jardin \n17 h 10 Alice Barbaza\, doctorante EHESS\nCo-habiter avec des algues \n17 h 35 Entretien avec Kantuta Quiros et avec Aliocha Imhoff (co-auteurs du livre).\nQui parle quand il s’agit des plantes ? Retours sur l’ouvrage Qui parle ? \n18h Pause \nSpectacle\, performance\n18h 30 Chloé Déchery\nBardane et moi – Spectacle dans le jardin de la MSH Paris Nord \nAu cours de cette performance\, Chloé Déchery imagine un dialogue entre une femme de 40 ans et une Bardane. Ensemble\, la femme et la plante investissent et déclinent différentes formes de relation et de co-existence. \nChloé Déchery\, autrice & performeuse – association moustache\, maîtresse de conférences en études théâtrales\, université Paris 8 \nCrédit photo : Bardane et moi\, Chloé Déchery / association moustache @Karen Paulina Biswell\, 2020. \n  \nResponsables du projet scientifique\nÉliane BEAUFILS\, université Paris 8\nFlore GARCIN-MARROU\, université Toulouse Jean Jaurès II \nInformations pratiques\n30 septembre 2022\nMaison des Sciences de l’Homme Paris Nord\n20\, avenue Georges Sand\, Saint-Denis\nM° Front populaire\, ligne 12\n \nEntrée gratuite\nRéservation\, pour le spectacle uniquement\, par email sur mshpn-contact@mshparisnord.fr\n \n>> télécharger le programme (pdf) \nUn projet de recherche qui bénéficie du soutien de la MSH Paris Nord dans le cadre de son appel à projets.
URL:https://www.mshparisnord.fr/event/colloque-dramaturgie-des-plantes/
LOCATION:MSH Paris Nord\, 20\, avenue George Sand\, La Plaine Saint-Denis\, Métro ligne 12 : « Front populaire »\, accessible aux personnes à mobilité réduite\, 93210\, France
CATEGORIES:Manifestations scientifiques
ATTACH;FMTTYPE=image/jpeg:https://www.mshparisnord.fr/wp-content/uploads/2022/09/plantes-30sept22-250px.jpg
END:VEVENT
END:VCALENDAR