BEGIN:VCALENDAR
VERSION:2.0
PRODID:-//Maison des Sciences Humaines et sociales Paris Nord - ECPv6.8.2.1//NONSGML v1.0//EN
CALSCALE:GREGORIAN
METHOD:PUBLISH
X-ORIGINAL-URL:https://www.mshparisnord.fr
X-WR-CALDESC:Évènements pour Maison des Sciences Humaines et sociales Paris Nord
REFRESH-INTERVAL;VALUE=DURATION:PT1H
X-Robots-Tag:noindex
X-PUBLISHED-TTL:PT1H
BEGIN:VTIMEZONE
TZID:Europe/Paris
BEGIN:DAYLIGHT
TZOFFSETFROM:+0100
TZOFFSETTO:+0200
TZNAME:CEST
DTSTART:20240331T010000
END:DAYLIGHT
BEGIN:STANDARD
TZOFFSETFROM:+0200
TZOFFSETTO:+0100
TZNAME:CET
DTSTART:20241027T010000
END:STANDARD
END:VTIMEZONE
BEGIN:VEVENT
DTSTART;TZID=Europe/Paris:20240123T090000
DTEND;TZID=Europe/Paris:20240123T190000
DTSTAMP:20260423T085303
CREATED:20240109T141858Z
LAST-MODIFIED:20240110T142946Z
UID:10007617-1706000400-1706036400@www.mshparisnord.fr
SUMMARY:Journée d'étude | Vers une résurgence de l'eugénisme ? Gouvernance reproductive et savoirs médicaux en Inde
DESCRIPTION:Journée d’étude internationale et pluridisciplinaire en anglais\nCette journée d’étude pluridisciplinaire et internationale vise à contribuer aux débats théoriques et épistémologiques de l’eugénisme en interrogeant ses spécificités contemporaines. Plus précisément\, l’enjeu est d’analyser les pratiques médicales destinées à améliorer la santé et le bagage génétique des enfants à naître\, en prenant l’Inde comme cas d’étude. Le premier panel portera sur la diffusion des savoirs et des pratiques du Garbh Sanskar destinés aux femmes enceintes pour favoriser des descendances « supérieures » et (ré)instaurer « une nation forte ». À partir de travaux autour la procréation médicalement assistée (PMA)\, le deuxième panel se centrera sur la portée sélective et eugéniste des nouvelles technologies de reproduction. Le prisme indien permettra non seulement de réfléchir à la pertinence de l’eugénisme comme concept analytique\, mais aussi de repenser l’articulation entre gouvernance reproductive\, savoirs médicaux et néolibéralisme. \nProjet porté par Lucia Gentile (CN2R et ICM) et Clémence Jullien (CESAH-EHESS/CNRS) \nPROGRAMME\n9h-9h15 : introduction par les organisatrices\nLucia Gentile (CN2R et ICM) et Clémence Jullien (CESAH-EHESS/CNRS) \n9h15- 12h30 : Panel 1. Améliorer le foetus pour renforcer la nation\nDiscutante : Isabelle Gouarné\, CNRS\, France \nGarbha Sansksar in India: revival or reconstitution?\nSayantani Sur\, University of Calcutta\, Inde \nGood reproduction: ayurveda\, preconception and responsibility\nNatasha Lila Rooney\, Deakin University\, Australie \nUttam Santati for Srestha Rastra Nirman: a case study of Garbhvigyan Anusandhan Kendra\nSucharita Sarkar\, D.T.S.S College of Commerce\, Mumbai\, Inde \nSrestha vyakti- srestha samaj- srestha rashtra: Garbh Sanskar in contemporary India\nVasudha Mohanka\, chercheuse indépendante\, Inde \n13h30-15h45 : Panel 2. Techniques biomédicales et pratiques sélectives\nDiscutant : Luc Berlivet\, Cermes3\, CNRS\, France \nReprogenetic technologies: desire for a baby\, desired babies and designer babies\nJyotsna Agnihotri Gupta\, University of Humanity Studies\, Utrecht & International Institute of Asian Studies\, Leiden University\, Pays-Bas \nIndian-style bioethics?\nNoémie Merleau-Ponty\, CNRS\, France \nEpistemic flexibility: eugenics by other names\nBanu Subramaniam\, Wellesley College\, États-Unis \n16h15-17h45 : Conférence plénière\nAmrita Pande\, Fellow Internationale ICM\, Paris\, University of Cape Town\, Afrique du Sud \nRetour visuel (format BD) des présentations par l’artiste Maxime Le Jeune au fil de la journée. \nInformations pratiques\nMardi 23 janvier 2024 \n\nde 9h à 19h\nau Campus Condorcet\, Aubervilliers\nsalle 100\n\n>> télécharger le programme (PDF) \nUn projet de recherche qui bénéficie du soutien de la MSH Paris Nord dans le cadre de son appel à projets.
URL:https://www.mshparisnord.fr/event/vers-une-resurgence-de-leugenisme-inde/
LOCATION:Campus Condorcet\, Place du Front Populaire\, Aubervilliers\, 93322
CATEGORIES:Manifestations scientifiques
ATTACH;FMTTYPE=image/png:https://www.mshparisnord.fr/wp-content/uploads/2024/01/Vers-une-resurgence-de-l-eugenisme-final_250px.png
END:VEVENT
END:VCALENDAR