BEGIN:VCALENDAR
VERSION:2.0
PRODID:-//Maison des Sciences Humaines et sociales Paris Nord - ECPv6.8.2.1//NONSGML v1.0//EN
CALSCALE:GREGORIAN
METHOD:PUBLISH
X-ORIGINAL-URL:https://www.mshparisnord.fr
X-WR-CALDESC:Évènements pour Maison des Sciences Humaines et sociales Paris Nord
REFRESH-INTERVAL;VALUE=DURATION:PT1H
X-Robots-Tag:noindex
X-PUBLISHED-TTL:PT1H
BEGIN:VTIMEZONE
TZID:Europe/Paris
BEGIN:DAYLIGHT
TZOFFSETFROM:+0100
TZOFFSETTO:+0200
TZNAME:CEST
DTSTART:20240331T010000
END:DAYLIGHT
BEGIN:STANDARD
TZOFFSETFROM:+0200
TZOFFSETTO:+0100
TZNAME:CET
DTSTART:20241027T010000
END:STANDARD
END:VTIMEZONE
BEGIN:VEVENT
DTSTART;TZID=Europe/Paris:20240405T090000
DTEND;TZID=Europe/Paris:20240405T190000
DTSTAMP:20260420T125937
CREATED:20240301T105911Z
LAST-MODIFIED:20240909T123225Z
UID:10008036-1712307600-1712343600@www.mshparisnord.fr
SUMMARY:Colloque | Sports\, cultures et altérité
DESCRIPTION:Sous le haut patronage de Monsieur Emmanuel Macron\, Président de la République \nDiversité culturelle\, ethnicité et expressions identitaires dans les sports\nLes activités physiques et sportives occupent une place de choix dans les discours sur les rapports interculturels et l’émancipation. Pour certains\, le sport jouerait un important rôle de socialisation et d’intégration. Il serait un vecteur de diversité culturelle\, d’éducation populaire et de dialogue entre les populations. Le terrain de jeu aplanirait les problèmes\, favoriserait la tolérance et la reconnaissance des différences\, pourrait permettre aux personnes et aux groupes en difficulté avec eux-mêmes ou avec les autres d’intégrer certaines valeurs positives et d’expérimenter par la pratique un autre rapport au monde et aux autres. Pour autant\, le sport porte-t-il en lui-même des valeurs et des normes propres à favoriser la reconnaissance et diversité culturelle comme à produire de l’intégration ? \nLoin d’être simplement un vecteur de diversité culturelle\, d’intégration et un idéal d’union des populations mises en contact par les situations historiques\, le sport est façonné par les enjeux et les contextes locaux et nationaux\, utilisé dans des rapports de force entre les individus\, les groupes et les États et tributaire d’une histoire. Les sports cachent aussi en leur sein les inégalités sociales\, les discriminations de genre\, les racismes et les situations (post)coloniales\, et abandonne parfois à quai les demandes de justice. \nLoin d’une vision irénique du sport\, ce colloque voudrait aborder la richesse et la complexité des situations\, des frontières\, des relations et des organisations sociales et culturelles que les sports charrient avec eux dans leur diffusion au sein des sociétés et des cultures à travers l’histoire. \nUn projet porté par Gilles Raveneau\, université Lumière Lyon 2\, EVS\, MSH Paris Nord et Clément Lopez\, université Paris-Saclay. \nProgramme\nJeudi 04 avril 2024 \nDiversité culturelle\, ethnicité et expressions identitaires dans les sports \nLa première journée\, intitulée « Sport\, cultures et altérité : diversité culturelle\, ethnicité et expressions identitaires dans les sports » conduira des chercheuses et chercheurs français et étrangers à interroger la place des activités physiques et sportives dans les rapports interculturels et l’émancipation des personnes. Il s’agira de questionner la manière dont le sport est façonné par des contextes locaux et nationaux et utilisé dans les rapports de domination susceptibles d’engendrer des inégalités sociales et des discriminations de genre ou racistes. \nVendredi 05 avril 2024 \nÉvaluer l’impact des JOP 2024 en Seine-Saint-Denis\, un défi partenarial \nLa seconde journée du colloque sera quant à elle dédiée à une réflexion sur les enjeux de l’évaluation de l’impact des JOP 2024 dans le Département de la Seine-Saint-Denis\, collectivité hôte d’épreuves olympiques et paralympiques. Elle réunira des acteurs universitaires\, institutionnels et des parties prenantes de l’organisation locale des Jeux pour discuter les méthodes mises en œuvre pour objectiver des effets de l’événement sur un territoire présenté comme une cible privilégiée de « l’héritage » de Paris 2024. Véritable « défi partenarial »\, la question de l’impact des Jeux dans le 93 sera ici appréhendé sous l’angle de thématiques diverses liées à l’appropriation sociale de l’événement\, à l’évolution des compétences aquatiques des publics scolaires\, à l’action publique en matière d’inclusion sportive des personnes handicapées ou encore au regard des opportunités économiques\, d’emploi et d’insertion professionnelles pour les habitants et acteurs du département. \nInformations pratiques\n\nà la MSH Paris Nord\, auditorium\nles 4 et 5 avril 2024\, de 9h à 19h\ninscription obligatoire via ce lien\n\nComité d’organisation\n\nOlivier Le Noé\, université Paris Nanterre\, ISP\nClément Lopez\, université Paris-Saclay\, Délégation aux JO\, Conseil départemental de Seine-Saint-Denis\nGilles Raveneau\, université Lumière Lyon 2\, EVS\nGilles Uhlrich\, université Paris-Saclay\, CIAMS\n\n>> télécharger le programme complet du colloque Sports\, cultures et altérité (pdf) \n>> visionner les interventions de la session “Sports\, politique et culture” en replay sur canal-u \nUn projet de recherche qui bénéficie du soutien de la MSH Paris Nord dans le cadre de son appel à projets\, du soutien du Réseau national des Maisons des Sciences de l’Homme dans le cadre de la dynamique “Enjeux des jeux” et du Conseil Départemental de Seine-Saint-Denis.  \nSoutenu par Paris 2024\, le colloque s’inscrit dans la programmation de la Semaine Olympique et Paralympique 2024.
URL:https://www.mshparisnord.fr/event/colloque-sports-cultures-et-alterite/2024-04-05/
LOCATION:MSH Paris Nord\, 20\, avenue George Sand\, La Plaine Saint-Denis\, Métro ligne 12 : « Front populaire »\, accessible aux personnes à mobilité réduite\, 93210\, France
CATEGORIES:Manifestations scientifiques
ATTACH;FMTTYPE=image/png:https://www.mshparisnord.fr/wp-content/uploads/2024/03/Affiche-Colloque-Sports-Cultures-Alterite-4-5-avril-2024.png
END:VEVENT
END:VCALENDAR