

BEGIN:VCALENDAR
VERSION:2.0
PRODID:-//Maison des Sciences Humaines et sociales Paris Nord - ECPv6.8.2.1//NONSGML v1.0//EN
CALSCALE:GREGORIAN
METHOD:PUBLISH
X-WR-CALNAME:Maison des Sciences Humaines et sociales Paris Nord
X-ORIGINAL-URL:https://www.mshparisnord.fr
X-WR-CALDESC:Évènements pour Maison des Sciences Humaines et sociales Paris Nord
REFRESH-INTERVAL;VALUE=DURATION:PT1H
X-Robots-Tag:noindex
X-PUBLISHED-TTL:PT1H
BEGIN:VTIMEZONE
TZID:Europe/Paris
BEGIN:DAYLIGHT
TZOFFSETFROM:+0100
TZOFFSETTO:+0200
TZNAME:CEST
DTSTART:20250330T010000
END:DAYLIGHT
BEGIN:STANDARD
TZOFFSETFROM:+0200
TZOFFSETTO:+0100
TZNAME:CET
DTSTART:20251026T010000
END:STANDARD
END:VTIMEZONE
BEGIN:VEVENT
DTSTART;TZID=Europe/Paris:20250227T180000
DTEND;TZID=Europe/Paris:20250227T200000
DTSTAMP:20260421T155011
CREATED:20250128T123052Z
LAST-MODIFIED:20260415T143118Z
UID:10008169-1740679200-1740686400@www.mshparisnord.fr
SUMMARY:Séminaire | L’art de la démonstration
DESCRIPTION:Enjeux méthodologiques et épistémologiques en Histoire de l’Art\nLe séminaire L’art de la démonstration. Enjeux méthodologiques et épistémologiques en Histoire de l’Art\, réunit mensuellement des chercheur·ses en histoire de l’art\, mais aussi en histoire\, en archéologie\, en philosophie et en sociologie\, ainsi que des ingénieur·es de recherche et d’études et des professionnel·les du patrimoine (conservateur·rices\, conservateur·rices-restaurateur·rices\, scientifiques de la conservation\, médiateur·rices et commissaires d’exposition) afin d’interroger la spécificité de la méthode de démonstration en histoire de l’art. Il s’agit ainsi d’interroger les outils employés pour démontrer\, des archives aux nouvelles technologies numériques ; les lieux de la démonstration\, en termes géographiques et institutionnels\, et la manière dont ceux-ci conditionnent le procédé ; ou les énoncés sur lesquels portent la démonstration en histoire de l’art\, de l’artiste à l’oeuvre même\, dans sa matérialité et son caractère sensible. \nProgramme\nSéance 1 – 27 février 2025 \n\nCette première séance s’intéresse au tournant épistémologique des sciences historiques et accueille les interventions de Sophie Archambault de Beaune (université Jean Moulin Lyon 3) et Patrick Noël (université de Saint-Boniface)\n\nSéance 3 – 24 avril 2025 \n\nCette troisième séance est consacrée aux discours critiques\, théoriques et historiques sur les arts et accueille les interventions de Audrey Rieber (ENS Lyon) et Elora Weill-Engerer (université Paris 1 et INHA)\n\nSéance 4 – 22 mai 2025 \n\nCette quatrième séance s’intitule Questions de périodisation et accueille les interventions de Nicolas Reveryon (université Lumière Lyon 2)\, Julien Vincent (université Paris 1 Panthéon-Sorbonne) et Louis-Étienne Villeneuve (université du Québec à Trois-Rivières)\n\nSéance 2 (rattrapage) – 5 juin 2025 \n\nCette deuxième séance examine les apports de la sociologie en histoire de l’art et accueille les interventions de Nicolas Heimendinger (université Paris Nanterre) et Séverine Sofio (CNRS\, CRAL)\n\nInformations pratiques\n\nle jeudi 27 février 2025\, de 18h à 20h\, à la MSH Paris Nord dans l’amphithéâtre\nle jeudi 24 avril\, de 17h à 19h\, à la MSH Paris Nord dans l’amphithéâtre\nle jeudi 22 mai\, de 17h à 19h\, à la MSH Paris Nord dans l’amphithéâtre\nle jeudi 5 juin\, de 17h à 19h\, à la MSH Paris Nord salle 413 (exceptionnellement\, séance uniquement en présentiel)\nséances hybrides en présentiel et visioconférence\npour recevoir les informations de connexion\, vous pouvez vous abonner à la liste de diffusion via le lien suivant : https://groupes.renater.fr/sympa/subscribe/seminaire_artdelademonstration\n\nLe séminaire est organisé par Mecthilde Airiau et Claire Dupin de Beyssat. \nUn projet de recherche qui bénéficie du soutien de la MSH Paris Nord dans le cadre de son appel à projets annuel.
URL:https://www.mshparisnord.fr/event/seminaire-art-demonstration/2025-02-27/
LOCATION:MSH Paris Nord\, 20\, avenue George Sand\, La Plaine Saint-Denis\, Métro ligne 12 : « Front populaire »\, accessible aux personnes à mobilité réduite\, 93210\, France
CATEGORIES:Manifestations scientifiques
ATTACH;FMTTYPE=image/jpeg:https://www.mshparisnord.fr/wp-content/uploads/2025/01/A3-art-demonstration-juin-2025.jpg
END:VEVENT
END:VCALENDAR