



BEGIN:VCALENDAR
VERSION:2.0
PRODID:-//Maison des Sciences Humaines et sociales Paris Nord - ECPv6.8.2.1//NONSGML v1.0//EN
CALSCALE:GREGORIAN
METHOD:PUBLISH
X-ORIGINAL-URL:https://www.mshparisnord.fr
X-WR-CALDESC:Évènements pour Maison des Sciences Humaines et sociales Paris Nord
REFRESH-INTERVAL;VALUE=DURATION:PT1H
X-Robots-Tag:noindex
X-PUBLISHED-TTL:PT1H
BEGIN:VTIMEZONE
TZID:Europe/Paris
BEGIN:DAYLIGHT
TZOFFSETFROM:+0100
TZOFFSETTO:+0200
TZNAME:CEST
DTSTART:20250330T010000
END:DAYLIGHT
BEGIN:STANDARD
TZOFFSETFROM:+0200
TZOFFSETTO:+0100
TZNAME:CET
DTSTART:20251026T010000
END:STANDARD
END:VTIMEZONE
BEGIN:VEVENT
DTSTART;TZID=Europe/Paris:20250320T090000
DTEND;TZID=Europe/Paris:20250320T130000
DTSTAMP:20260422T135039
CREATED:20250214T160513Z
LAST-MODIFIED:20250317T142132Z
UID:10008175-1742461200-1742475600@www.mshparisnord.fr
SUMMARY:Rencontres | 6e Rencontres de l'édition en sciences humaines et sociales
DESCRIPTION:Parlons de l’édition en sciences humaines et sociales !\nLes impératifs éditoriaux et les exigences de la recherche en sciences humaines et sociales suivent des temporalités qui ne sont pas toujours faciles à articuler les unes avec les autres. Alors que les équipes éditoriales doivent respecter un certain nombre d’étapes incontournables qui pèsent sur les délais de parution\, les chercheurs sont soumis aux injonctions du “publish or perish”. Dans ce contexte\, comment parvenir à rendre compte par l’édition\, qui est par essence le lieu de fixation d’une pensée scientifique\, d’une recherche en perpétuel mouvement ? À travers la thématique 2025\, “Le temps de la publication”\, les 6e Rencontres de l’édition en sciences humaines et sociales explorent les défis auxquels chercheurs et éditeurs sont confrontés pour diffuser la recherche en train de se faire. \nDes rééditions des classiques des sciences humaines aux corrections réalisées en ligne après la publication\, en passant par la gestion des différentes versions d’un même article\, la prise en compte éditoriale de l’évolution des données scientifiques\, les calendriers de production ou l’élaboration de chartes éthiques pour les revues en sciences humaines et sociales : autant de thématiques que les tables rondes du 19 mars et les ateliers du 20 mars abordent. \nLes 6ᵉ Rencontres de l’édition en sciences humaines et sociales sont organisées par un réseau d’éditeurs scientifiques basés sur le Campus Condorcet et à proximité : les Éditions de l’EHESS\, les Éditions de l’INED\, le service des publications de l’EPHE\, la MSH Mondes\, les Éditions du CTHS\, les Éditions de l’École nationale des chartes\, la MSH Paris Nord\, les Éditions de la Sorbonne\, les Éditions de l’IHEAL et le Service d’appui à l’édition scientifique ouverte du CNRS. Elles sont accueillies cette année au Centre de colloques du Campus Condorcet et à l’Humathèque. Elles coïncident avec la seconde édition du Printemps des Humanités\, portée par le Campus Condorcet. \n>> accéder au programme détaillé des rencontres \nInformations pratiques\n\nles mercredi 19 mars 2025\, de 8h30 à 19h\, et jeudi 20 mars 2025\, de 9h à 13h\nau Campus Condorcet\, auditorium 250 (19 mars) et à l’Humathèque (20 mars)\nouvert à tous·tes\, en présentiel (sur inscription à cette adresse) et visioconférence (inscription non obligatoire)
URL:https://www.mshparisnord.fr/event/6e-rencontres-edition-shs/2025-03-20/
LOCATION:Campus Condorcet\, Place du Front Populaire\, Aubervilliers\, 93322
CATEGORIES:Manifestations scientifiques
ATTACH;FMTTYPE=image/jpeg:https://www.mshparisnord.fr/wp-content/uploads/2025/03/Affiche-Rencontres-de-ledition-en-shs-2025.jpg
END:VEVENT
BEGIN:VEVENT
DTSTART;TZID=Europe/Paris:20250320T090000
DTEND;TZID=Europe/Paris:20250320T180000
DTSTAMP:20260422T135039
CREATED:20241114T142848Z
LAST-MODIFIED:20250304T141502Z
UID:10008136-1742461200-1742493600@www.mshparisnord.fr
SUMMARY:Rencontres | Rencontres nationales sur les recherches en musique
DESCRIPTION:Les futurs des recherches en musique\nLa pluralité des recherches en musique en France aujourd’hui invite à en dresser un panorama pour envisager les perspectives à venir de ce domaine si singulier. Structurées à l’origine au sein de laboratoires académiques\, menées sous l’impulsion de sociétés savantes\, ces recherches se déploient également depuis quelques années dans les établissements d’enseignement supérieur de la musique accrédités par le ministère de la Culture\, ainsi qu’au travers de nombreux acteurs de la création et de la diffusion\, des centres nationaux de création musicale jusqu’aux artistes indépendants. \nCes deuxièmes rencontres nationales traiteront notamment\, et sans limitation\, des rapports entre la recherche et la pratique musicale : \n\nl’articulation entre recherche scientifique et pratique artistique\, notamment le rôle des compétences de type musical (instrumentales\, compositionnelles\, organologiques\, etc.) au sein d’une démarche de recherche portant sur la musique et les démarches de recherche-création ;\nles nouvelles formes de recherche des musiciens sur leurs pratiques (composition\, interprétation\, pédagogie)\, l’étude des processus de création et les enjeux épistémologiques et technologiques de ces recherches expérimentales sur la musique ou des formes interdisciplinaires ;\nles impacts et les applications de la recherche en musique dans le champ de la création musicale\, de l’interprétation\, de la pédagogie musicale\, de la médiation\, de la facture et de l’industrie musicale ;\nles enjeux et les modalités de la formation à la recherche des musiciens en France et à l’étranger\, avec une attention portée aux doctorats en composition\, interprétation\, pédagogie\, médiation\, etc.\n\nLe programme des ces Rencontres nationales accueille notamment les interventions : \n\nRAMHO : un projet d’histoire orale consacré aux Trente glorieuses de la recherche musicale en France par François-Xavier Féron et Vincent Tiffon\, issue d’un projet soutenu par la MSH Paris Nord dans le cadre de son appel à projets annuel.\nÉcouter et composer avec le sol : approche des espaces sonores solidiens\, par Diane Schuh et Paul Goutmann\, qui s’appuie sur le projet SOIL (Soil Observation through musical Interaction and Listening soutenu par la MSH Paris Nord dans le cadre de son appel à projets annuel. Ce projet vise à transformer notre rapport au sol en favorisant l’attention aux organismes vivants à travers l’écoute musicale et la composition de paysages sonores inspirés des environnements souterrains.\n\nProgramme\n\nMercredi 19 mars\n\n10h-10h30 – Ouverture \n10h30 12h – Séquence 1 : Composer avec l’IA \n12h-13h – Grand témoignage \n15h15-16h45 – Séquence 2 Résonances écologiques \n17h-18h – Séquence 3 Interculturalités performées \n\nJeudi 20 mars\n\n9h30-10h30 – Grand témoignage \n10h45-12h15 – Séquence 4 : Interculturalités musicales \n 14h15-15h45 – Séquence 5 : Orchestrer les expériences sonores et musicales \n16h-17h30 – Séquence 6 : La mémoire au futur – pédagogie et innovation \n>> accéder au programme complet et détaillé (pdf) \n>> accéder à la page sciencesconf des Rencontres nationales sur les recherches en musique \nInformations pratiques\n\nles 19 et 20 mars 2025\nà la MSH Paris Nord\norganisées par Solène Bellanger\, Alain Bonardi\, Françoise Dastrevigne\, Eric de Visscher\, Jean-Louis Giavitto\, Camille Herfray et Anne Sèdes\nouvert à tous·tes
URL:https://www.mshparisnord.fr/event/rencontres-nationales-recherches-musique/2025-03-20/
LOCATION:MSH Paris Nord\, 20\, avenue George Sand\, La Plaine Saint-Denis\, Métro ligne 12 : « Front populaire »\, accessible aux personnes à mobilité réduite\, 93210\, France
CATEGORIES:Manifestations scientifiques
ATTACH;FMTTYPE=image/png:https://www.mshparisnord.fr/wp-content/uploads/2025/02/Futurs-des-recherches-en-musique-Affiche.png
END:VEVENT
END:VCALENDAR