BEGIN:VCALENDAR
VERSION:2.0
PRODID:-//Maison des Sciences Humaines et sociales Paris Nord - ECPv6.8.2.1//NONSGML v1.0//EN
CALSCALE:GREGORIAN
METHOD:PUBLISH
X-ORIGINAL-URL:https://www.mshparisnord.fr
X-WR-CALDESC:Évènements pour Maison des Sciences Humaines et sociales Paris Nord
REFRESH-INTERVAL;VALUE=DURATION:PT1H
X-Robots-Tag:noindex
X-PUBLISHED-TTL:PT1H
BEGIN:VTIMEZONE
TZID:Europe/Paris
BEGIN:DAYLIGHT
TZOFFSETFROM:+0100
TZOFFSETTO:+0200
TZNAME:CEST
DTSTART:20170326T010000
END:DAYLIGHT
BEGIN:STANDARD
TZOFFSETFROM:+0200
TZOFFSETTO:+0100
TZNAME:CET
DTSTART:20171029T010000
END:STANDARD
END:VTIMEZONE
BEGIN:VEVENT
DTSTART;VALUE=DATE:20170730
DTEND;VALUE=DATE:20170731
DTSTAMP:20260426T033536
CREATED:20171124T133607Z
LAST-MODIFIED:20171124T142646Z
UID:10006443-1501372800-1501459199@www.mshparisnord.fr
SUMMARY:L'Homme moral se comporte à la fois comme un chimpanzé et comme Kant\, Georges Chapouthier
DESCRIPTION:• Le magazine Le Point vient de publier un numéro hors-série « Le Point-Références »\, juin-juillet 2017\, consacré à « L’homme et l’animal – Les textes fondamentaux ». On y trouve commentés des textes de Pythagore\, Platon\, Montaigne\, Descartes\, Darwin\, Schopenhauer\, Derrida… Georges Chapouthier\, qui a participé à ce numéro sous forme d’un entretien. \n >> consulter l’interview de Georges Chapouthier (pdf 192.71 KB) \nIllustration : Un chimpanzé en train de “lire”\, à Chongqing\, en Chine. © Stringer / Imaginechina/ Stringer
URL:https://www.mshparisnord.fr/event/lhomme-moral-se-comporte-a-la-fois-comme-un-chimpanze-et-comme-kant-georges-chapouthier/
CATEGORIES:Actualités,Publications
END:VEVENT
END:VCALENDAR