BEGIN:VCALENDAR
VERSION:2.0
PRODID:-//Maison des Sciences Humaines et sociales Paris Nord - ECPv6.8.2.1//NONSGML v1.0//EN
CALSCALE:GREGORIAN
METHOD:PUBLISH
X-ORIGINAL-URL:https://www.mshparisnord.fr
X-WR-CALDESC:Évènements pour Maison des Sciences Humaines et sociales Paris Nord
REFRESH-INTERVAL;VALUE=DURATION:PT1H
X-Robots-Tag:noindex
X-PUBLISHED-TTL:PT1H
BEGIN:VTIMEZONE
TZID:Europe/Paris
BEGIN:DAYLIGHT
TZOFFSETFROM:+0100
TZOFFSETTO:+0200
TZNAME:CEST
DTSTART:20210328T010000
END:DAYLIGHT
BEGIN:STANDARD
TZOFFSETFROM:+0200
TZOFFSETTO:+0100
TZNAME:CET
DTSTART:20211031T010000
END:STANDARD
END:VTIMEZONE
BEGIN:VEVENT
DTSTART;TZID=Europe/Paris:20210506T094000
DTEND;TZID=Europe/Paris:20210506T183000
DTSTAMP:20260423T222239
CREATED:20201130T142746Z
LAST-MODIFIED:20210416T143842Z
UID:10006424-1620294000-1620325800@www.mshparisnord.fr
SUMMARY:Colloque international\, À l'école du masque (visio)
DESCRIPTION:Approches pédagogiques pour acteurs et créateurs de masques\nAprès avoir mené\, de 2016 à 2018\, un projet sur les fonctions et usages du masque scénique dans l’Antiquité — associant archéologues\, historiens de l’art\, philologues\, anthropologues\, hellénistes et latinistes\, chercheurs en arts de la scène\, créateurs de masques —\, le programme de recherche que nous avons lancé en 2019 auprès de la MSH Paris Nord\, en partenariat avec les laboratoires EA1573 de l’Université Paris 8 et EA4661 de l’Université Bourgogne Franche-Comté (ELLIADD)\, a été consacré aux « Fonctions et usages du masque scénique dans les arts du spectacle au XXIe siècle »\, dont l’objectif est de relier les évolutions esthétiques de la dramaturgie aux mutations des sociétés. \nLe masque\, depuis la fin du XIXe siècle\, avec l’avènement du symbolisme\, a suscité des engouements\, des espoirs\, des rêves qui ont été des vecteurs de renouvellements esthétiques majeurs dans les arts du spectacle du XXe siècle\, puis sa force utopique est retombée en même temps que s’effondraient dans nos sociétés les idéologies messianiques. Il semble aujourd’hui que nous assistions à des résurgences de sa présence en scène. Ces nouveaux usages du masque\, au croisement de l’esthétique\, de l’anthropologie et du politique\, établissent un dialogue fécond avec les autres arts\, en particulier la marionnette\, le théâtre d’objet\, la danse\, la performance\, mais aussi plus largement le théâtre visuel — le numéro de mars 2020 d’Alternatives théâtrales que nous avons consacré à ces questions en atteste. \nNous souhaitons poursuivre cette année notre exploration sur « les fonctions et usages du masque scénique au XXIe siècle » en privilégiant la dimension pédagogique du masque dans la formation de l’acteur\, soit en dressant un panorama des lieux de formation de l’acteur en Europe ayant recours à la pratique du jeu masqué\, en repérant les types de masques utilisés\, les traditions théâtrales sollicitées\, les méthodes de travail et les objectifs. \nLe masque a occupé à partir de la deuxième moitié du XXe une place non négligeable dans la formation de l’acteur (présent dans des conservatoires et des écoles nationales d’art dramatique européennes) — qui mérite aujourd’hui d’être réinterrogée. \n\nComment cette pratique du masque est-elle transmise aujourd’hui par les professionnels du spectacle vivant ?\nQue vient-elle apporter de spécifique dans l’apprentissage du jeu ?\nQue révèle le masque du rapport profond de l’homme à l’imaginaire et à son besoin d’extraordinaire ?\nEn quoi permet-il de développer un rapport au jeu différent\, offrant au comédien la possibilité d’échapper à la domination du principe d’individualisation ?\n\nPour réfléchir à ces questions\, ce colloque international réunira des chercheurs provenant de contextes internationaux variés\, des spécialistes de différentes disciplines (histoire\, sociologie\, sciences de l’éducation…)\, ainsi que des artistes et pédagogues (comédiens\, metteurs en scène\, facteurs de masques…). \n>> télécharger le programme complet (pdf) \nComité scientifique\nGeorges BANU (Université Paris 3)\nJean-François DUSIGNE (Université Paris 8)\nGiulia FILACANAPA (Université Paris 8)\nGuy FREIXE (Université Bourgogne Franche-Comté\, Besançon)\nBrigitte PROST (Université Rennes 2) \nOrganisation et direction scientifique\nGiulia FILACANAPA\nGuy FREIXE\nBrigitte PROST \nPartenaires institutionnels\nUniversité Bourgogne Franche-Comté (ELLIADD)\nUniversité Paris 8 (EA 1573)\nUniversité Rennes 2 (EA 3208)\nMSH Paris Nord\nMSHE Claude Nicolas Ledoux (projet Chrysalide) \nPartenaires artistiques\nARTA\nCie Gente-Gente\nAssociation Les Créateurs de Masques \nÉditeur partenaire\nDeuxième époque \nContacts\n\nGiulia FILACANAPA giuliacanapa@hotmail.com\nGuy FREIXE guy.freixe@gmail.com\nBrigitte PROST prostbrigitte35@gmail.com \ninformations pratiques\njeudi 6 mai 2021\, de 9h40 à 18h30\nvendredi 7 mai 2021\, de 9h40 à 18h45 \n>> inscription pour recevoir le lien pour assister à l’évènement (avant le 4 mai 2021)\nhttps://forms.gle/9Dqnc3kWk6VTGsWY7 \nDu fait de la crise sanitaire liée à la Covid-19\, ce colloque\, initialement prévu à la MSH de Paris Nord en avril 2020\, a été décalé une première fois en décembre 2020\, puis en mai 2021.\nLa direction scientifique a pris la décision de le maintenir aux nouvelles dates retenues\, les jeudi 6 mai et vendredi 7 mai 2021 mais en ligne via la plateforme Zoom. \n>> télécharger le programme complet (pdf) \nCe colloque bénéficie du soutien de la MSH Paris Nord (dans le cadre de son appel à projet) et de la MSHE Claude Nicolas Ledoux (dans le cadre de l’appel à projet Chrysalide)\, ainsi que de l’équipe d’accueil Scènes du monde (EA1573) de l’université Paris 8\, du Laboratoire ELLIADD (EA 4661) de l’université Bourgogne Franche-Comté et de l’unité de recherche Arts : pratiques et poétiques (EA 3208) de l’université Rennes 2. \nPhoto de l’affiche : atelier de jeu masqué mené par Guy Freixe avec les élèves de l’ENSATT de Lyon et de l’ESNAM de Charleville-Mézières\, Théâtre de l’ESNAM\, janvier 2020
URL:https://www.mshparisnord.fr/event/colloque-international-a-lecole-du-masque/2021-05-06/
LOCATION:visio-conférence
CATEGORIES:Manifestations scientifiques
ATTACH;FMTTYPE=image/jpeg:https://www.mshparisnord.fr/wp-content/uploads/2021/04/masque-mai2021-250px.jpg
END:VEVENT
BEGIN:VEVENT
DTSTART;TZID=Europe/Paris:20210507T094000
DTEND;TZID=Europe/Paris:20210507T184500
DTSTAMP:20260423T222239
CREATED:20201130T142746Z
LAST-MODIFIED:20210416T143842Z
UID:10006425-1620380400-1620413100@www.mshparisnord.fr
SUMMARY:Colloque international\, À l'école du masque (visio)
DESCRIPTION:Approches pédagogiques pour acteurs et créateurs de masques\nAprès avoir mené\, de 2016 à 2018\, un projet sur les fonctions et usages du masque scénique dans l’Antiquité — associant archéologues\, historiens de l’art\, philologues\, anthropologues\, hellénistes et latinistes\, chercheurs en arts de la scène\, créateurs de masques —\, le programme de recherche que nous avons lancé en 2019 auprès de la MSH Paris Nord\, en partenariat avec les laboratoires EA1573 de l’Université Paris 8 et EA4661 de l’Université Bourgogne Franche-Comté (ELLIADD)\, a été consacré aux « Fonctions et usages du masque scénique dans les arts du spectacle au XXIe siècle »\, dont l’objectif est de relier les évolutions esthétiques de la dramaturgie aux mutations des sociétés. \nLe masque\, depuis la fin du XIXe siècle\, avec l’avènement du symbolisme\, a suscité des engouements\, des espoirs\, des rêves qui ont été des vecteurs de renouvellements esthétiques majeurs dans les arts du spectacle du XXe siècle\, puis sa force utopique est retombée en même temps que s’effondraient dans nos sociétés les idéologies messianiques. Il semble aujourd’hui que nous assistions à des résurgences de sa présence en scène. Ces nouveaux usages du masque\, au croisement de l’esthétique\, de l’anthropologie et du politique\, établissent un dialogue fécond avec les autres arts\, en particulier la marionnette\, le théâtre d’objet\, la danse\, la performance\, mais aussi plus largement le théâtre visuel — le numéro de mars 2020 d’Alternatives théâtrales que nous avons consacré à ces questions en atteste. \nNous souhaitons poursuivre cette année notre exploration sur « les fonctions et usages du masque scénique au XXIe siècle » en privilégiant la dimension pédagogique du masque dans la formation de l’acteur\, soit en dressant un panorama des lieux de formation de l’acteur en Europe ayant recours à la pratique du jeu masqué\, en repérant les types de masques utilisés\, les traditions théâtrales sollicitées\, les méthodes de travail et les objectifs. \nLe masque a occupé à partir de la deuxième moitié du XXe une place non négligeable dans la formation de l’acteur (présent dans des conservatoires et des écoles nationales d’art dramatique européennes) — qui mérite aujourd’hui d’être réinterrogée. \n\nComment cette pratique du masque est-elle transmise aujourd’hui par les professionnels du spectacle vivant ?\nQue vient-elle apporter de spécifique dans l’apprentissage du jeu ?\nQue révèle le masque du rapport profond de l’homme à l’imaginaire et à son besoin d’extraordinaire ?\nEn quoi permet-il de développer un rapport au jeu différent\, offrant au comédien la possibilité d’échapper à la domination du principe d’individualisation ?\n\nPour réfléchir à ces questions\, ce colloque international réunira des chercheurs provenant de contextes internationaux variés\, des spécialistes de différentes disciplines (histoire\, sociologie\, sciences de l’éducation…)\, ainsi que des artistes et pédagogues (comédiens\, metteurs en scène\, facteurs de masques…). \n>> télécharger le programme complet (pdf) \nComité scientifique\nGeorges BANU (Université Paris 3)\nJean-François DUSIGNE (Université Paris 8)\nGiulia FILACANAPA (Université Paris 8)\nGuy FREIXE (Université Bourgogne Franche-Comté\, Besançon)\nBrigitte PROST (Université Rennes 2) \nOrganisation et direction scientifique\nGiulia FILACANAPA\nGuy FREIXE\nBrigitte PROST \nPartenaires institutionnels\nUniversité Bourgogne Franche-Comté (ELLIADD)\nUniversité Paris 8 (EA 1573)\nUniversité Rennes 2 (EA 3208)\nMSH Paris Nord\nMSHE Claude Nicolas Ledoux (projet Chrysalide) \nPartenaires artistiques\nARTA\nCie Gente-Gente\nAssociation Les Créateurs de Masques \nÉditeur partenaire\nDeuxième époque \nContacts\n\nGiulia FILACANAPA giuliacanapa@hotmail.com\nGuy FREIXE guy.freixe@gmail.com\nBrigitte PROST prostbrigitte35@gmail.com \ninformations pratiques\njeudi 6 mai 2021\, de 9h40 à 18h30\nvendredi 7 mai 2021\, de 9h40 à 18h45 \n>> inscription pour recevoir le lien pour assister à l’évènement (avant le 4 mai 2021)\nhttps://forms.gle/9Dqnc3kWk6VTGsWY7 \nDu fait de la crise sanitaire liée à la Covid-19\, ce colloque\, initialement prévu à la MSH de Paris Nord en avril 2020\, a été décalé une première fois en décembre 2020\, puis en mai 2021.\nLa direction scientifique a pris la décision de le maintenir aux nouvelles dates retenues\, les jeudi 6 mai et vendredi 7 mai 2021 mais en ligne via la plateforme Zoom. \n>> télécharger le programme complet (pdf) \nCe colloque bénéficie du soutien de la MSH Paris Nord (dans le cadre de son appel à projet) et de la MSHE Claude Nicolas Ledoux (dans le cadre de l’appel à projet Chrysalide)\, ainsi que de l’équipe d’accueil Scènes du monde (EA1573) de l’université Paris 8\, du Laboratoire ELLIADD (EA 4661) de l’université Bourgogne Franche-Comté et de l’unité de recherche Arts : pratiques et poétiques (EA 3208) de l’université Rennes 2. \nPhoto de l’affiche : atelier de jeu masqué mené par Guy Freixe avec les élèves de l’ENSATT de Lyon et de l’ESNAM de Charleville-Mézières\, Théâtre de l’ESNAM\, janvier 2020
URL:https://www.mshparisnord.fr/event/colloque-international-a-lecole-du-masque/2021-05-07/
LOCATION:visio-conférence
CATEGORIES:Manifestations scientifiques
ATTACH;FMTTYPE=image/jpeg:https://www.mshparisnord.fr/wp-content/uploads/2021/04/masque-mai2021-250px.jpg
END:VEVENT
END:VCALENDAR