BEGIN:VCALENDAR
VERSION:2.0
PRODID:-//Maison des Sciences Humaines et sociales Paris Nord - ECPv6.8.2.1//NONSGML v1.0//EN
CALSCALE:GREGORIAN
METHOD:PUBLISH
X-ORIGINAL-URL:https://www.mshparisnord.fr
X-WR-CALDESC:Évènements pour Maison des Sciences Humaines et sociales Paris Nord
REFRESH-INTERVAL;VALUE=DURATION:PT1H
X-Robots-Tag:noindex
X-PUBLISHED-TTL:PT1H
BEGIN:VTIMEZONE
TZID:Europe/Paris
BEGIN:DAYLIGHT
TZOFFSETFROM:+0100
TZOFFSETTO:+0200
TZNAME:CEST
DTSTART:20210328T010000
END:DAYLIGHT
BEGIN:STANDARD
TZOFFSETFROM:+0200
TZOFFSETTO:+0100
TZNAME:CET
DTSTART:20211031T010000
END:STANDARD
END:VTIMEZONE
BEGIN:VEVENT
DTSTART;VALUE=DATE:20210531
DTEND;VALUE=DATE:20210606
DTSTAMP:20260421T171001
CREATED:20210517T141734Z
LAST-MODIFIED:20210517T142155Z
UID:10006958-1622419200-1622937599@www.mshparisnord.fr
SUMMARY:Atelier\, Des masques pour jouer le monde
DESCRIPTION:Laboratoire de recherche sur le masque scénique ARTA\, du 31 mai au 5 juin 2021\, atelier proposé par Guy Freixe \nNous proposons de réunir le temps d’une semaine un groupe de comédiens professionnels autour d’un atelier d’exploration du jeu masqué. Ce temps de recherche est conçu comme un training d’acteur visant à expérimenter divers types de confrontations entre les contraintes du masque et la forme dramaturgique d’un texte. Dans la joie et le plaisir de jouer. \nJouer le monde. Raconter le monde. Pour cela\, se plaire aux écarts. Prendre un masque et s’éloigner de soi-même\, de son corps identifiable\, de ses gestes repérables. Partir à l’aventure. Pour chaque masque\, inventer un corps « utopique »\, plus vrai que le vrai. Sans craindre d’aller contre la norme et les formes dominantes de jeu (ou de non-jeu). Aller à contre-courant. Inventer des formes\, choisir des modes de traduction\, de composition. Jouer avec les masques comme on joue des variations en musique ou en peinture. Prendre le parti de la métaphore. \nNous travaillerons avec plusieurs familles de masques\, d’Occident et d’Orient\, et ce avec la comlicité et le regard attentif de quatre créateurs de masque qui nous ferons le plaisir de partager cette aventure. Nous aurons à notre disposition un corpus de textes hétérogène\, de la Bible à Koltès\, de Jarry à Beckett\, de Shakespeare à Levin\, d’Aristophane à Brecht\, que nous mettrons à l’éprouve du masque et vice-versa. \nSélections des participants\n12 participants\nSélection sur lettre de motivation et présentation du parcours artistique du candidat à envoyer par mail avant le 17 mars 2021. \nDéroulé du travail\nAu cours d’une première rencontre durant laquelle les objectifs du travail seront partagés\, les participants recevront un corpus de textes. L’équipe se retrouvera durant 6 journées\, du lundi 31 mai au samedi 5 juin inclus\, de 10h à 17h. \nLieu\nLe travail s’effectuera dans les locaux d’ARTA – Association de Recherche des Traditions de l’Acteur à la Cartoucherie de Vincennes. \nConditions de participation\nAdhésion au C.I.R.M.S. (Centre International de Recherche sur le Masque Scénique). \nContacts\nguy.freixe@gmail.com\ngiulia.filacanapa02@univ-paris8.fr \n>> télécharger le programme (pdf) \nCet atelier de recherche pratique dirigé par Guy Freixe avec la complicité de Giulia Filacanapa et Brigitte Prost bénéficie du soutien de la MSH Paris Nord et de la MSHE Claude Nicolas Ledoux dans le cadre du projet programme de recherche « Fonctions et usages du masque scénique dans les arts du spectacle au XXIe siècle »\, ainsi que du Laboratoire ELLIADD de l’Université Bourgogne Franche-Comté et de l’unité de recherche Scènes du monde de l’Université Paris 8.
URL:https://www.mshparisnord.fr/event/atelier-des-masques-pour-jouer-le-monde/
LOCATION:Métro ligne 12 : « Front populaire »\, accessible aux personnes à mobilité réduite
CATEGORIES:Manifestations scientifiques
ATTACH;FMTTYPE=image/jpeg:https://www.mshparisnord.fr/wp-content/uploads/2021/05/masque-atelier-mai2021-250px.jpg
END:VEVENT
BEGIN:VEVENT
DTSTART;TZID=Europe/Paris:20210604T130000
DTEND;TZID=Europe/Paris:20210604T190000
DTSTAMP:20260421T171001
CREATED:20210201T132239Z
LAST-MODIFIED:20210521T121022Z
UID:10006955-1622811600-1622833200@www.mshparisnord.fr
SUMMARY:Rendez-vous aux jardins 2021
DESCRIPTION:Rencontres scientifiques et artistiques au jardin de la MSH Paris Nord\nLe ministère de la Culture renouvelle pour la dix-huitième année consécutive la manifestation « Rendez-vous aux jardins »\, en 2021 sur le thème la transmission des savoirs. \nCette année et pour la première fois\, la MSH Paris Nord participera en ouvrant son jardin au public à cette occasion\, le vendredi 4 juin 2021.\n#Rdv_Jardins \nProgramme des animations dans le jardin de la MSH Paris Nord\nLa MSH Paris Nord vous propose des rencontres scientifiques et artistiques\, dans son jardin\, autour de la thématique de la transmission des savoirs. \n>> télécharger l’affiche (pdf) \n\nÀ l’écoute du jardin de la MSH Paris Nord\npar Diane Schuh\nMusicienne et paysagiste expérimentale\, étudiante au département de musique de l’université de Paris 8\nDurée 45 minutes\nTrois séances à 13h\, 14h30 et 17h (venir 15 min avant la séance)\nPlaces limitées sur réservation :\nhttps://exploreparis.com/fr/3777-a-lecoute-du-jardin-de-la-msh-paris-nord.html \nLe jardin de la MSH est un lieu de biodiversité. Conçu comme un « jardin en mouvement »\, les espèces plantées y sont laissées libres à la reconquête\, simplement guidés par quelques fauches annuelles. Ce jardin est interdit aux humains une grande partie de l’année\, permettant aux non-humains : oiseaux\, insectes\, chats parfois\, de s’approprier ce territoire. Depuis novembre 2020 nous avons accroché à un arbre un petit enregistreur bioacoustique qui nous permet de capter des sons que l’humain ne peut pas entendre habituellement. Nous avons privilégié l’écoute nocturne comprenant aussi les fréquences inaudibles pour l’homme. \n\nQue se passe-t-il quand nous ne sommes pas là ?\nQue pouvons-nous entendre au-delà de notre écoute humaine ?\nQue pouvons-nous écouter du jardin quand les humains laissent la place aux non-humains ?\n\nNous vous proposons un atelier d’écoute des enregistrements collectés et sélectionnée\, parfois remis à l’échelle pour entendre l’inaudible. Nous irons ensuite nous promener dans ce jardin afin d’écouter le vivant et enfin nous vous proposerons une approche musicienne de ces enregistrements. Nous pourrons ainsi réfléchir ensemble et nous questionner sur les moyens de faire musique. \n\nComment les sons du monde peuvent-ils devenir musique par notre écoute ou par des moyens de composition électroacoustique ?\nLes non-humains sont-ils musiciens ?\nAutant de questions qui nous permettront d’aller à l’écoute du vivant non-humains afin d’essayer de comprendre ce qu’ils nous apprennent du territoire et de l’esprit du lieu.\n\n\nALCHImIE\, “Nous\, le fer de l’Empire romain” \npar Christina Papi\nperformance musicale pour fioles de verre et électronique\nDurée : 45 minutes\nSéance à 14h (venir 15 min avant la séance)\nPlaces limitées sur réservation :\nhttps://exploreparis.com/fr/3778-alchimie-nous-le-fer-de-lempire-romain-a-la-msh-paris-nord.html \nUne performance életroacoustique en temps réel avec quelques objets sonores concrets : jouer avec des fioles sur une table en verre ; ces fioles ont été récupérées au laboratoire des Aciéries de Piompodo en Italie. Christina Papi joue ainsi avec sa mémoire familiale\, celle qui manipule le fer des étrusques et qui disparait avec la désindustrialisation de l’Italie. Mémoire du geste au travail\, mémoire et oubli.\nLa performance sera jouée une première fois\, suivie d’un échange avec le public\, puis elle sera rejouée à nouveau. \nCette performance est un extrait du projet de recherche-création qui se développe au sein de la recherche doctorale de Christina Papi.\nProjet de l’EUR ARTEC et de la  MSH Paris Nord. \n\nMemomento \npar Laurent Di Biase\, Christina Papi\, curatrice Silvia Neri\nProjet collaboratif de performance intermédia\nDurée : 1 heure\nSéance à 16h (venir 15 min avant la séance)\nPlaces limitées sur réservation :\nhttps://exploreparis.com/fr/3779-performance-memomento-a-la-msh-paris-nord.html \nUn poisson rouge augmenté\, un escargot connecté\, bienvenue dans le monde de la symbiose entre humains\, non humains et machines\, pour un art intermedial en réseau. “The Life is a journey”\, ainsi dans leur quotidien pas si ordinaire un couple explore la mémoire comme un voyage au long cours. Des objets s’animent\, le poisson dans son aquarium augmenté rencontre l’escargot sur une surface sensible. Voici comment ensemble\, ils se jouent de leur environnement qui devient le théâtre d’une performance décalée\, où objets connectés et musique électronique revisitent notre relation au monde dans une poétique toute incarnée.\nUne première performance sera suivie d’une rencontre avec le public qui assistera ensuite à une seconde performance. \nProjet de l’EUR ARTEC et de la MSH Paris Nord. \n\nConcert de musiques mixtes expérimentales au jardin\npar les élèves du conservatoire de musique de Saint-Denis\, les étudiants de l’université de Paris 8 et leurs professeurs.\nDans le cadre du programme musiques mixtes du conseil scientifique de la MSH Paris Nord\, avec la collaboration de Joao Svidsinski\, d’Alain Bonardi\, Céline Roulleau\, Damien Charron et l’équipe pédagogique du conservatoire de Saint-Denis.\nDurée : 1 heure environ\nSéance à 18h (venir 15 min avant la séance)\nPlaces limitées sur réservation :\nhttps://exploreparis.com/fr/3780-concert-de-musique-experimentale-au-jardin-de-la-msh-paris-nord.html \n\nLes Possibilités des friches\, pour hautbois et électronique\ndurée : 2’35’’\npièce mixte composée par Diane Schuh\, interprétée par Rayan Catan\, professeur de hautbois : Sébastien Grégoire\n\nLes friches sont l’un des derniers lieux de biodiversité et d’invention dans notre monde-anthropocène. Écouter les milieux sonores des friches est une expérience en soi : écouter le bruissement du vent dans les graminées\, entrecoupé par l’activité humaine au loin\, écouter les cymbalisations de certains arthropodes\, le chant des oiseaux\, merles\, pics\, … De ces friches\, j’ai rapporté le matériau premier de la pièce sous forme d’enregistrements de terrains. Ceux-ci\, mis en boucles à des temporalités bousculées et aléatoires\, puis transformés\, à peine reconnaissables\, construisent de nouvelles hybridations avec lesquelles l’instrumentiste peut jouer\, en interaction. Les Possibilités des friches veut s’éloigner des représentations naturalistes du vivant pour fabriquer un milieu sonore hétéroclite et en mouvement dont le musicien deviendrait alors le jardinier. \n\nEnsemble Live Patching\ndurée : 5-10 minutes\navec les élèves du Conservatoire de Saint-Denis : Ismaël Habchi\, Mehdi Touati\, Titouan Traissac\, encadrement de João Svidzinski (CICM Université Paris 8)\n\nRestitution d’un atelier de composition collaborative avec le logiciel KIWI\, développé à la MSH Paris Nord dans le cadre du projet ANR MUSICOL : plusieurs auteurs composent et jouent en temps réel une musique collaborative. \n\nFiguras en la memoria\, pour flûte à bec et électronique\ndurée : environ 5 mn\ncomposée par Nicolás García Bartolomé\, interprétée par Marichka Bordes\, professeur de flûte à bec : Nathalie Audonnet\n\nLe titre de Figuras en la memoria (figures dans la mémoire) fait référence à la manière dont la mémoire change la forme dans laquelle nous nous rappelons des faits vécus\, donc ce souvenir est différent de la réalité\, et comment il change au cours du temps. De cette façon\, l’œuvre présente une série de sections constituées par le même matériel évoluant progressivement jusqu’à se détacher de l’idée musicale initiale. Le rôle de la flûte à bec  et son lien avec l’électronique font aussi référence à cette idée germinale en rendant le son de la flûte chaque fois plus déformé et plus proche du son de l’électronique. Ainsi\, Figuras en la memoria se présente comme une métaphore de la mémoire et l’évolution du souvenir. \n\nYaman\ndurée : 5-7 minutes\nChœur de neuf voix dirigé et transformé par Erwan Picquet et Laurent Di Biase qui en est également le compositeur.\nAvec Eleanor Ait Youcef\, Stella Courcoux\, Maïa David Bouche-Florin\, Lili Hanequin\, Jenna Kebair\, Louise Mebarki\, Sarah Mouhamad\, Violette Radureau\, Constantin Sirota-Baumajs.\n\nYamuna\, la fille du Seigneur à la beauté noire\, est considérée comme l’une des rivières les plus sacrées. Elle est animée comme la création d’un ciel de tranquillité empli d’étoiles de bonheur. Sans limite\, aucune berge ne sait contenir son expansion. On dit ainsi qu’elle réside sous la peau du ciel du soir et qu’elle s’éveille au moment où les lumières s’illuminent. \ninformations pratiques\nJournée du vendredi 4 juin 2021\nde 13h à 19h\nJardin de la MSH Paris Nord\nEntrée libre sur réservation (avant le 4 juin) \n>> télécharger l’affiche (pdf) \n>> Places limitées sur réservation auprès de l’office de tourisme de St-Denis (dans le respect des recommandations sanitaires) :\nhttps://www.tourisme93.com/document.php?pagendx=815&engine_zoom=FMAIDFC930028856
URL:https://www.mshparisnord.fr/event/rendez-vous-aux-jardins-2021/
LOCATION:MSH Paris Nord\, 20\, avenue George Sand\, La Plaine Saint-Denis\, Métro ligne 12 : « Front populaire »\, accessible aux personnes à mobilité réduite\, 93210\, France
CATEGORIES:Manifestations scientifiques
ATTACH;FMTTYPE=image/jpeg:https://www.mshparisnord.fr/wp-content/uploads/2021/05/rdv-jardins2021-250px.jpg
END:VEVENT
BEGIN:VEVENT
DTSTART;TZID=Europe/Paris:20210604T153000
DTEND;TZID=Europe/Paris:20210604T183000
DTSTAMP:20260421T171001
CREATED:20201211T141913Z
LAST-MODIFIED:20210521T135347Z
UID:10006938-1622820600-1622831400@www.mshparisnord.fr
SUMMARY:Séminaire\, Faire communauté(s) face à l'écran de cinéma\, 4 juin 2021 (visio)
DESCRIPTION:Programme\nAydın Çam et İlke Şanlıer Yüksel (Université Çukurova\, Adana)\nCinema activities of People’s Houses as a means of nation versus community building in the Çukurova Region during 1933–1951 \nLina Kaminskaitė-Jančorienė (Lithuanian Culture Research Institute)\nBuilding Soviet identity: changing film exhibition practices and audience in Lithuania \n– séances de recherche précédentes\n19 février 2021\nhttps://www.mshparisnord.fr/event/seminaire-faire-communautes-face-a-lecran-de-cinema/ \n26 mars 2021\nhttps://www.mshparisnord.fr/event/seminaire-faire-communautes-face-a-lecran-de-cinema-26-mars-2021/ \n7 mai 2021\nhttps://www.mshparisnord.fr/event/seminaire-faire-communautes-face-a-lecran-de-cinema-7-mai-2021/ \n>> télécharger le programme des 4 séances publics (pdf) \n– quatre séances avec les étudiants\nles 29 janvier 2021\, 5 mars 2021\, 2 avril 2021 et 18 juin 2021\nAttention : séances non ouvertes au public \nComité d’organisation\nMorgan Corriou\, Caroline Damiens\, Mélisande Leventopoulos \nSéminaire Faire communauté(s) face à l’écran de cinéma dans le cadre du programme homonyme de recherche de l’EUR ArTeC et de la MSH Paris Nord\, avec le soutien des laboratoires CEMTI et ESTCA de l’université Paris 8\, HAR de l’université Paris Nanterre \nContacts\nmorgan.corriou@univ-paris8.fr\, caroline.damiens@parisnanterre.fr\, melisande.leventopoulos@gmail.com \nPhoto : Centre des archives diplomatiques de Nantes\, Protectorat Maroc\, série C : section d’iconographie\, 20MA/102/105. Séance de cinéma donnée par une caravane cinématographique à Téroual (photographe anonyme). \nUn projet de recherche qui bénéficie du soutien de la MSH Paris Nord dans le cadre de son appel à projets. \nCe travail a bénéficié d’une aide de l’État gérée par l’Agence Nationale de la Recherche au titre du programme d’Investissements d’avenir portant la référence ANR-17-EURE-0008.
URL:https://www.mshparisnord.fr/event/seminaire-faire-communautes-face-a-lecran-de-cinema-4-juin-2021/
LOCATION:visio-conférence
CATEGORIES:Manifestations scientifiques
ATTACH;FMTTYPE=image/jpeg:https://www.mshparisnord.fr/wp-content/uploads/2020/12/faire-communautes-lecran-cinema-250px.jpg
END:VEVENT
BEGIN:VEVENT
DTSTART;TZID=Europe/Paris:20210605T150000
DTEND;TZID=Europe/Paris:20210605T170000
DTSTAMP:20260421T171001
CREATED:20201217T092257Z
LAST-MODIFIED:20210603T064841Z
UID:10006941-1622905200-1622912400@www.mshparisnord.fr
SUMMARY:Atelier\, Vers une ethnographie de la performance art-sport (Paris 2024) (visio)
DESCRIPTION:À l’occasion de la publication d’un dossier spécial art-sport de la revue L’Ethnographie\, le samedi 5 juin en ligne sur Zoom se tiendra le deuxième rendez-vous de l’année\, avec la réalisation d’un plateau radio sur : Vers une ethnographie de la performance art-sport (Paris 2024). \nCe plateau radio sera l’occasion de faire connaissance avec les différent·e·s acteur·ice·s sportif·ve·s et culturel·le·s sur le territoire des Jeux Olympiques et Paralympiques de 2024 et d’échanger sur les pratiques performatives urbaines et spectaculaires se développant à la fois dans la rue et en ligne (jonglante\, freestyle ball\, breakdance\, skate\, sabar…) en articulation avec les politiques publiques territoriales et les acteurs associatifs locaux. \nCet atelier questionnera notamment le rapport entre le mouvement de l’écosystème olympique local et le spectacle vivant\, la mise en scène de la dramaturgie sportive et ses effets sur les territoires. Le podcast\, introduit et conclu par le sociologue Patrick Mignon\, sera suivi de la réalisation d’une revue express en direct\, croisant les savoirs des participants avec l’approche scientifique de la revue “L’Ethnographie”\, Vers une ethnographie de la performance art-sport (Paris 2024). Avec l’intervention de Mériem Derkaoui\, Vice-présidente du Département chargée de la culture et de Mathieu Hanotin\, Conseiller départemental délégué au sport et à l’organisation des grands événements (sous réserve). \nAu programme : interventions radio\, intermède vidéo et réalisation d’une revue express en direct. \n>> télécharger le programme (pdf) \nOrganisé par GONGLE*\, la Société Française d’Ethnoscénologie\, la Société Francophone de Philosophie du Sport\, la Maison des Jonglages\, l’Université de Leeds Beckett ; en partenariat avec le Campus Condorcet et avec le soutien de la Maison des Sciences de l’Homme Paris Nord\, du Département de la Seine-Saint-Denis et de la Ville de Paris. \n*GONGLE anime un réseau art-sport\, pour favoriser la rencontre entre les milieux de l’art et du sport à l’horizon des JOP 2024\, ainsi que pour permettre une lecture fine des transformations à l’œuvre sur le territoire. Le réseau s’intéresse à des pratiques art-sport déjà existantes\, notamment dans l’espace public et sur le Web et s’applique à comprendre la façon dont la crise sanitaire nous transforme pour travailler les thématiques qui lui sont chères : appropriation de l’espace public\, handicap\, écritures numériques\, jeunesse. \nContributions à la revue\n\nArticles des artistes et des chercheurs : Marco Antonio Coelho Bortoleto\, Professeur associé\, University of Campinas (UNICAMP\, Brazil) – Marc-Antoine Boutin\, Doctorant en sociomusicologie\, Université de Montréal et Sorbonne Université – Aurélie Doignon\, Docteure en Sciences de l’éducation\, Université de Caen\, Normandie – Lisa Stansbie\, Professeure-Doyennne\, Leeds Beckett School of Arts – Laurent Berger\, MCF au département d’arts du spectacle\, UPVM.\nEntretiens de Vincent Berhault\, Directeur\, Maison des Jonglages – Adriana Martinez\, aka BGirl Campanita\, breakeuse – Charly Melloul\, Basketball freestyler\, danseur et comédien – Florence Huet\, Jongleuse et fondatrice de la revue YANA spécialisée dans le jonglage – Cyrille Roussial\, Doctorant en arts de la scène\, Université Lyon 2; et l’entretien croisé de Carine Rolland\, adjointe à la Maire de Paris\, en charge de la Culture et de la ville du quart d’heure et Pierre Rabadan\, adjoint à la Maire de Paris\, en charge du sport et des Jeux Olympiques et Paralympiques de 2024.\n\n\n\n\n\n\nComité d’organisation de la revue\n\n\n\n\nVincent BERHAULT (Maison des jonglages)\nNil DINÇ (GONGLE)\nPatrick MIGNON (GONGLE)\nPierre PHILIPPE-MEDEN (RiRRa 21\, Montpellier 3\, SOFETH)\n\n\n\n\n\n\nPartenariat\n\n\n\n\nMaison des Jonglages http://maisondesjonglages.fr/fr\nle Campus Condorcet\nMaison des Sciences de l’Homme Paris Nord (USR 3258 CNRS UP8 USPN) https://www.mshparisnord.fr/\nl’Université de Leeds-Beckett (UK)\n\n\n\n\nInformations pratiques\n\n\n\nsamedi 5 juin 2021 de 15h à 17h (accueil hotline dès 14h30) en ligne sur Zoom  \n>> inscriptions : chiara.soldati@gongle.fr \n>> lien de connexionhttps://us02web.zoom.us/j/84569494992ID de réunion : 845 6949 4992 \n>> consulter la revue Ethnographiehttps://revues.mshparisnord.fr/ethnographie/ \nRessources en ligne utiles sur l’ « art-sport »\n\n\n \n>> Radio Art-Sporthttps://www.r22.fr/antennes/reseau-art-sport \n>> TV Art-Sporthttps://www.artsport2024.com/ \n>> Bibliothèque Art-Sporthttps://www.zotero.org/groups/2512886/art-sport_2024/library \n>> Actualité Art-Sport https://www.instagram.com/artsport2024/ \nUn projet de recherche qui bénéficie du soutien de la MSH Paris Nord dans le cadre de son appel à projets.
URL:https://www.mshparisnord.fr/event/journee-detude-ethnographie-de-la-performance-art-sport-vers-paris-2024/
LOCATION:visio-conférence
CATEGORIES:Manifestations scientifiques
ATTACH;FMTTYPE=image/jpeg:https://www.mshparisnord.fr/wp-content/uploads/2020/12/ArtSport-250px-1.jpg
END:VEVENT
END:VCALENDAR