



BEGIN:VCALENDAR
VERSION:2.0
PRODID:-//Maison des Sciences Humaines et sociales Paris Nord - ECPv6.8.2.1//NONSGML v1.0//EN
CALSCALE:GREGORIAN
METHOD:PUBLISH
X-WR-CALNAME:Maison des Sciences Humaines et sociales Paris Nord
X-ORIGINAL-URL:https://www.mshparisnord.fr
X-WR-CALDESC:Évènements pour Maison des Sciences Humaines et sociales Paris Nord
REFRESH-INTERVAL;VALUE=DURATION:PT1H
X-Robots-Tag:noindex
X-PUBLISHED-TTL:PT1H
BEGIN:VTIMEZONE
TZID:Europe/Paris
BEGIN:DAYLIGHT
TZOFFSETFROM:+0100
TZOFFSETTO:+0200
TZNAME:CEST
DTSTART:20260329T010000
END:DAYLIGHT
BEGIN:STANDARD
TZOFFSETFROM:+0200
TZOFFSETTO:+0100
TZNAME:CET
DTSTART:20261025T010000
END:STANDARD
END:VTIMEZONE
BEGIN:VEVENT
DTSTART;TZID=Europe/Paris:20260225T140000
DTEND;TZID=Europe/Paris:20260225T160000
DTSTAMP:20260420T060859
CREATED:20260130T154058Z
LAST-MODIFIED:20260330T160535Z
UID:10008382-1772028000-1772035200@www.mshparisnord.fr
SUMMARY:Séminaire | La « fabrication » de la loi ou l’art de légiférer dans tous ses états
DESCRIPTION:À propos de la réglementation juridique des « JONUM » (jeux à objets numériques monétisables)\nLe législateur français a récemment fait entrer les jeux à objets numériques monétisables dans le paysage des jeux légaux en France à titre expérimental et pour une durée de trois ans à compter de la promulgation de la loi n° 2024-449 du 21 mai 2024. Il s’agit donc d’une réglementation destinée à promouvoir des jeux dits web 3\, aux interstices des jeux d’argent et de hasard et des jeux vidéo. Compte tenu du processus législatif adopté\, et bien que la loi s’affiche comme étant protecteur\, la loi JONUM n’introduit-elle pas un régime très favorable à un « objet non identifié » dans le cadre juridique des jeux\, traditionnellement imprégné d’un ordre public de protection (santé mentale\, protection des personnes vulnérables\, éducation). \nChaque séminaire\, consacré à une branche du droit\, fait l’objet d’une intervention d’un enseignant·e-chercheur·e. Ce dernier sous le prisme de son expertise porte un regard sur la loi JONUM. Puis\, s’en suit une discussion avec le public en présentiel ou en ligne. \nProgramme\n\n18 février 2026\, de 15h à 17h\ninscription à la séance : https://colloques.dsps.univ-paris13.fr/user/sinscrire/86\n\nJONUM et droit public\navec M. J-J Menuret \nJean-Jacques Menuret est maître de conférences de droit public à l’université Sorbonne Paris Nord\, membre de l’Institut de Droit public\, sciences politiques et sociales (IDPS) et de la MSH Paris Nord. Ses travaux s’intéressent aux mutations du droit public\, et spécialement à la transformation de la production et des producteurs de la norme (État\, administrations\, juridictions\, autorités indépendantes) et à l’apparition et au développement de procédés plus souples qui accompagnent ces changements (régulation\, compliance\, droit souple\, participation). Parmi les plus récents\, plusieurs ont porté sur le phénomène de la compliance qui semble toucher l’ensemble des branches du droit et conduire à une forme de régulation privée\, laissant de côté les autorités publiques normalement compétentes pour édicter la règle de droit. \n\n\n 25 février 2026\, de 14h à 16h\ninscription à la séance : https://colloques.dsps.univ-paris13.fr/user/sinscrire/87\n\nDroit belge\navec M. E. Marique \nÉtienne Marique est magistrat honoraire\, il a dirigé pendant 20 ans la Commission des jeux de hasard en Belgique. Expert du secteur et de la réglementation. \n\n\n18 mars 2026\, de 14h à 16h\n\nJONUM et droit civil\navec Mme. C. Bloud-Rey \n\n\n8 avril 2026\, de 15h à 17h\ninscription à la séance : https://colloques.dsps.univ-paris13.fr/user/sinscrire/91\n\nJONUM et cryptomonnaie\navec Mme M. Boutron-Collinot et Mme A. Riano Saad \n\n\n17 avril 2026\, de 15h à 17h\ninscription à la séance : https://colloques.dsps.univ-paris13.fr/user/sinscrire/92\n\nJONUM et santé\navec Mme S. Sandré \n\n\n20 mai 2026\, de 14h à 16h\n\nJONUM et droit pénal\navec M. S. Husser et Mme O. Bonnard \n\n\n17 juin 2026\, de 15h à 17h\n\nJONUM et enjeux économiques\navec M. Ph. Barbet \n\n\n26 juin 2026\, de 14h à 16h\n\nJONUM et histoire des jeux\navec Mme E. Belmas \n\nInformations pratiques\n\nles 18 et 25 février\, 18 mars\, 8 et 17 avril\, 20 mai\, 17 et 26 juin 2026\nà la MSH Paris Nord\, salle panoramique\, et en visioconférence\nle lien est communiqué avant l’événement\, sur inscription (lien à venir)\nséminaires de recherche ouverts aux enseignant·es-chercheur·es\, aux chercheur·es\, aux doctorant·es\, aux étudiant·es inscrit·es en Master\, aux professionnel·les intéressé·es par les aspects théoriques et pratiques sous l’angle juridique\n\nResponsable scientifique : Céline Bloud-Rey est maître de conférence en droit privé\, membre de l’IRDA (Institut de recherche pour un droit attractif\, EA3970\, USPN)\, co-responsable du thème D Régulations\, financiarisation\, justice de l’axe 3 Transitions\, régulations\, innovations de la MSH Paris Nord\, membre du conseil scientifique du GIS Jeu et Sociétés \nUn projet de recherche qui bénéficie du soutien de la MSH Paris Nord dans le cadre de son appel à projets annuel.
URL:https://www.mshparisnord.fr/event/seminaire-jonum/2026-02-25/
LOCATION:MSH Paris Nord\, 20\, avenue George Sand\, La Plaine Saint-Denis\, Métro ligne 12 : « Front populaire »\, accessible aux personnes à mobilité réduite\, 93210\, France
CATEGORIES:Manifestations scientifiques
ATTACH;FMTTYPE=image/png:https://www.mshparisnord.fr/wp-content/uploads/2026/01/A3-JONUM.png
END:VEVENT
BEGIN:VEVENT
DTSTART;TZID=Europe/Paris:20260226T180000
DTEND;TZID=Europe/Paris:20260226T200000
DTSTAMP:20260420T060859
CREATED:20260105T140025Z
LAST-MODIFIED:20260415T142551Z
UID:10008362-1772128800-1772136000@www.mshparisnord.fr
SUMMARY:Séminaire | L’art de la démonstration
DESCRIPTION:Enjeux méthodologiques et épistémologiques en Histoire de l’Art\nLe séminaire L’art de la démonstration. Enjeux méthodologiques et épistémologiques en Histoire de l’Art\, réunit mensuellement des chercheur·ses en histoire de l’art\, mais aussi en histoire\, en archéologie\, en philosophie et en sociologie\, ainsi que des ingénieur·es de recherche et d’études et des professionnel·les du patrimoine (conservateur·rices\, conservateur·rices-restaurateur·rices\, scientifiques de la conservation\, médiateur·rices et commissaires d’exposition) afin d’interroger la spécificité de la méthode de démonstration en histoire de l’art. Il s’agit ainsi d’interroger les outils employés pour démontrer\, des archives aux nouvelles technologies numériques ; les lieux de la démonstration\, en termes géographiques et institutionnels\, et la manière dont ceux-ci conditionnent le procédé ; ou les énoncés sur lesquels portent la démonstration en histoire de l’art\, de l’artiste à l’oeuvre même\, dans sa matérialité et son caractère sensible. \nProgramme\n\nSéance 9 – 29 janvier 2026\n\nDé-montrer : l’Histoire de l’art en institutions patrimoniales\navec Sina Phan (Paris Musées) et Sophie Derrot (INHA) \n\nSéance 10 – 26 février 2026\n\nQuali versus Quanti : le cas des peintres parisiens à l’époque moderne\navec Vladimir Nestorov (Musée des Arts Décoratifs) et Maël Tauziède-Espariat (université Paris Nanterre) \n\nSéance 11 – 26 mars 2026\n\nQuestions de corpus : aux limites de l’Histoire de l’art\navec Marie Colas des Francs (INHA) et Nicholas Zmelty (université Picardie-Jules Verne d’Amiens) \n\nSéance 12 – 23 avril 2026\n\nMatérialité et sensibilité : perception\, interprétation et transmission\navec Mecthilde Airiau et Anne Michelin (Museum national d’histoire naturelle) \nInformations pratiques\n\nle jeudi 29 janvier 2026\, de 18h à 20h\, à la MSH Paris Nord\nle jeudi 26 février 2026\, de 18h à 20h\, à la MSH Paris Nord\nle jeudi 26 mars 2026\, de 18h à 20h\, à la MSH Paris Nord\nle jeudi 23 avril 2026\, de 18h à 20h\, à la MSH Paris Nord\nséances hybrides en présentiel et visioconférence\npour recevoir les informations de connexion\, vous pouvez vous abonner à la liste de diffusion via le lien suivant : https://groupes.renater.fr/sympa/subscribe/seminaire_artdelademonstration\n\nLe séminaire est organisé par Mecthilde Airiau et Claire Dupin de Beyssat. \nUn projet de recherche qui bénéficie du soutien de la MSH Paris Nord dans le cadre de son appel à projets annuel.
URL:https://www.mshparisnord.fr/event/art-demonstration-printemps-26/2026-02-26/
LOCATION:MSH Paris Nord\, 20\, avenue George Sand\, La Plaine Saint-Denis\, Métro ligne 12 : « Front populaire »\, accessible aux personnes à mobilité réduite\, 93210\, France
CATEGORIES:Manifestations scientifiques
ATTACH;FMTTYPE=image/jpeg:https://www.mshparisnord.fr/wp-content/uploads/2026/01/A3-art-demonstration-2026-1.jpg
END:VEVENT
END:VCALENDAR