BEGIN:VCALENDAR
VERSION:2.0
PRODID:-//Maison des Sciences Humaines et sociales Paris Nord - ECPv6.8.2.1//NONSGML v1.0//EN
CALSCALE:GREGORIAN
METHOD:PUBLISH
X-ORIGINAL-URL:https://www.mshparisnord.fr
X-WR-CALDESC:Évènements pour Maison des Sciences Humaines et sociales Paris Nord
REFRESH-INTERVAL;VALUE=DURATION:PT1H
X-Robots-Tag:noindex
X-PUBLISHED-TTL:PT1H
BEGIN:VTIMEZONE
TZID:Europe/Paris
BEGIN:DAYLIGHT
TZOFFSETFROM:+0100
TZOFFSETTO:+0200
TZNAME:CEST
DTSTART:20170326T010000
END:DAYLIGHT
BEGIN:STANDARD
TZOFFSETFROM:+0200
TZOFFSETTO:+0100
TZNAME:CET
DTSTART:20171029T010000
END:STANDARD
BEGIN:DAYLIGHT
TZOFFSETFROM:+0100
TZOFFSETTO:+0200
TZNAME:CEST
DTSTART:20180325T010000
END:DAYLIGHT
BEGIN:STANDARD
TZOFFSETFROM:+0200
TZOFFSETTO:+0100
TZNAME:CET
DTSTART:20181028T010000
END:STANDARD
END:VTIMEZONE
BEGIN:VEVENT
DTSTART;VALUE=DATE:20171217
DTEND;VALUE=DATE:20180103
DTSTAMP:20260421T052227
CREATED:20171208T080603Z
LAST-MODIFIED:20171221T163540Z
UID:10006506-1513468800-1514937599@www.mshparisnord.fr
SUMMARY:Bonnes fêtes
DESCRIPTION:Toute l’équipe de la MSH Paris Nord vous souhaite une excellente fin d’année 2017. \nNous vous informons que le bâtiment sera fermé le vendredi 22 décembre à 20h et ouvrira mardi 2 janvier 2018 à 8h30. \nBonnes fêtes et à l’année prochaine !
URL:https://www.mshparisnord.fr/event/bonnes-fetes/
CATEGORIES:Autres évènements liés aux recherches de la MSHPN
END:VEVENT
BEGIN:VEVENT
DTSTART;TZID=Europe/Paris:20171222T173000
DTEND;TZID=Europe/Paris:20180102T083000
DTSTAMP:20260421T052227
CREATED:20171205T161302Z
LAST-MODIFIED:20171208T091749Z
UID:10006500-1513963800-1514881800@www.mshparisnord.fr
SUMMARY:Fermeture de la MSH Paris Nord
DESCRIPTION:Du 23 décembre 2017\nau 2 janvier 2018\nLa MSH Paris Nord sera exceptionnellement fermée.
URL:https://www.mshparisnord.fr/event/fermeture-de-msh-paris-nord/
CATEGORIES:Autres évènements
END:VEVENT
BEGIN:VEVENT
DTSTART;TZID=Europe/Paris:20180119T150000
DTEND;TZID=Europe/Paris:20180119T190000
DTSTAMP:20260421T052227
CREATED:20171212T090318Z
LAST-MODIFIED:20180206T101520Z
UID:10006510-1516374000-1516388400@www.mshparisnord.fr
SUMMARY:Madagascar... l’énigme
DESCRIPTION:• Programme de la journée\nde 15h à 17h\nPrésentation de l’ouvrage L’énigme et le paradoxe\, Économie politique de Madagascar\nde Mireille Razafindrakoto\, François Roubaud et Jean-Michel Wachsberger \n17h-17h 15 pause café \n17h15-18h15\nLa partie musicale de l’énigme… :\nRéseaux locaux\, branchement global et vice versa à Madagascar\npar Julien Mallet \n18h15 – 18h30 pause \n18h30-19h\nProjection d’un film vidéo (26mn) : Tsapiky 1 : Aurevoir grand-père\, nous ne te verrons plus\nde Julien Mallet \n19h Pot convivial sur place \n>> télécharger l’affiche de la journée (pdf) \n>>Facebook de l’évènement à partager https://www.facebook.com/events/374040843022610 \n• Présentation des conférences\nMireille Razafindrakoto\, François Roubaud et Jean-Michel Wachsberger\nL’énigme et le paradoxe\, Économie politique de Madagascar\nLa situation économique de Madagascar est singulière à plus d’un titre. D’une part\, le niveau de vie des Malgaches ne cesse de régresser depuis l’indépendance en 1960\, un cas unique pour un pays qui n’a pas connu de conflits majeurs ; d’autre part\, à chaque fois que le pays s’est engagé sur la voie de la croissance\, celle-ci a été brutalement interrompue par une crise socio-politique mettant à bas les espoirs suscités. Pour éclairer ce contexte spécifique\, les auteurs décryptent l’« énigme » et le « paradoxe » malgaches en procédant à une lecture d’économie politique dans le temps long et en s’appuyant sur des données statistiques de première main.\n>> télécharger la présentation de l’ouvrage L’énigme et le paradoxe (pdf) \nJulien Mallet\n Réseaux locaux\, branchement global et vice versa à Madagascar\nUne réalité économique alarmante\, un ordre social inégalitaire\, des rapports de domination et de dépendance forts à l’échelle locale\, nationale et mondiale\, sont des réalités qui marquent fortement Madagascar. Pourtant\, les acteurs de différentes pratiques musicales viennent en partie et à leur manière défier ce contexte.\nNous verrons comment la musique tsapiky de la région de Tuléar s’inscrit dans un type inédit de rapport entre la ville et la campagne\, entre l’espace cérémoniel villageois et celui d’un marché local (mp3\, vidéo-clips) témoignant d’une relative autonomie. À partir de l’analyse des musiques regroupées sous la catégorie commerciale « musiques mafana » (musiques « chaudes »)\, nous nous attacherons à comprendre comment des musiciens originaires de régions (« côtes ») parmi les plus pauvres et dominées de Madagascar deviennent des « stars » nationales.\nAu cœur de reformulations identitaires\, ces musiques bousculent les catégories et l’ordre établit. Prises dans des marchés naissants\, se déployant à travers de nouveaux réseaux et des circulations « par le bas »\, elles sont au centre des mutations contemporaines. \n>> Le tsapiky\, une jeune musique de Madagascar\, 2009\, de Julien Mallet  est disponible sur le site de l’éditeur Kartala\nhttp://www.karthala.com/2085-le-tsapiky-une-jeune-musique-de-madagascar-ancetres-cassettes-et-bals-poussieres-avec-cd-9782811102098.html \n>> CD audio Tsapiky\, panorama d’une jeune musique de Tuléar\, 2004\, de Julien Mallet est également disponible (Arion\, ARN64661) \nJulien Mallet\nfilm vidéo\,  Tsapiky 1 : Aurevoir grand-père\, nous ne te verrons plus\nMusique moderne\, emblème de Tuléar (sud-ouest de Madagascar)\, le tsapiky est aussi une musique de rituel. Il occupe une place centrale dans les cérémonies durant lesquelles les musiciens\, au son des pavillons et guitares électriques\, conduisent une quasi transe collective. Le film plonge le spectateur au sein de l’orchestre\, au cœur d’une cérémonie d’enterrement. \n• Présentation des auteurs\nJulien Mallet\, ethnomusicologue est chercheur à l’Institut de recherche pour le développement (IRD) au laboratoire Urmis de Paris VII-Diderot. Il travaille sur Madagascar depuis 1999. \nMireille Razafindrakoto est économiste et statisticienne\, directrice de recherche à l’IRD et membre de l’UMR Dial. Madagascar est l’un des champs privilégiés de ses recherches qui portent sur les liens entre le marché du travail et les multiples dimensions de la pauvreté\, ainsi que sur le rôle des institutions et la gouvernance. \nFrançois Roubaud est économiste et statisticien\, directeur de recherche à l’IRD et membre de l’UMR Dial\, dont il a été le directeur entre 2000 et 2003. Spécialiste de Madagascar\, il étudie plus particulièrement le marché du travail et l’économie informelle\, la gouvernance\, les institutions et l’économie politique du développement. \nJean-Michel Wachsberger est agrégé de sciences sociales et maître de conférences en sociologie à l’université de Lille-3. Il est chercheur au Ceries et chercheur associé à l’UMR Dial. Engagé depuis 2003 sur des recherches à Madagascar\, il travaille sur les effets de quartier\, les dimensions de l’intégration sociale\, la participation citoyenne et la sociologie des élites.
URL:https://www.mshparisnord.fr/event/madagascar-lenigme/
LOCATION:MSH Paris Nord\, 20\, avenue George Sand\, La Plaine Saint-Denis\, Métro ligne 12 : « Front populaire »\, accessible aux personnes à mobilité réduite\, 93210\, France
CATEGORIES:Actualités,Manifestations scientifiques
END:VEVENT
BEGIN:VEVENT
DTSTART;TZID=Europe/Paris:20180126T084500
DTEND;TZID=Europe/Paris:20180126T170000
DTSTAMP:20260421T052227
CREATED:20180116T121639Z
LAST-MODIFIED:20180116T121906Z
UID:10006520-1516956300-1516986000@www.mshparisnord.fr
SUMMARY:Le sang : montrer ou occulter ?
DESCRIPTION:Cette journée d’étude sur Le sang : montrer ou occulter ? s’inscrit dans un programme de recherche plus vaste intitulé Le sang : représentations symboliques\, scientifiques et sociales dans l’Europe moderne (France\, Italie\, Espagne\, XVe-XVIIIe siècles (responsables : Élisabeth Belmas de Paris 13 et Corinne Lucas Fiorato de Paris 3). \nL’amorce de cette collaboration interuniversitaire fut un colloque international (organisé par le CIRRI/LECEMO et conçu dans le cadre du programme IDEX sur Métiers et professions dans l’Europe des XVe-XVIIIe siècles)\, qui s’intitulait Métiers liés au sang dans l’Europe des XVe-XVIIIe siècles (février 2016). \nCette Journée\, organisée par l’université Paris 3\, est la troisième d’une série de quatre manifestations\, réunissant deux Équipes de recherche au sein d’USPC. Les deux premières ont été prises en charge par l’université Paris 13 et par la MSH Paris Nord. \n\nL’une s’intitulait Sang bleu et sang noble\, pureté et impureté : l’identité définie par le sang ? (30 juin 2017) et\nl’autre Les représentations du sang dans les théories et la pratique médicales et chirurgicales (13 octobre 2017).\nLa quatrième journée\, prévue le 22 juin 2018 concernera les approches religieuses\, métaphysiques et philosophiques du sang.\n\nSi la question du sang\, sous tous ses angles d’approche\, a suscité de nombreux écrits ponctuels\, peu de travaux inter et pluridisciplinaires portent sur le sujet. Le sang est en effet un thème récurrent qui traverse les littératures médicale\, religieuse\, romanesque\, théâtrale\, poétique\, artistique de l’Europe moderne ; les artistes n’hésitent pas à le mettre en scène au théâtre\, dans la peinture. Mais le sang interpelle le regard également dans de grandes manifestations de la vie civile comme les condamnations à mort publiques ou bien dans l’ordre du quotidien (boucherie\, cuisine\, médecine\, etc.). Au moment où les sciences médicales font progresser la connaissance du fluide vital\, plusieurs questions se posent et des attitudes diverses se dessinent au sein des sociétés considérées : de la manifestation d’un vif intérêt pour les spectacles sanglants à un rejet et à une mise à distance sociale des activités liées au sang\, des débats sur sa présence réelle dans la célébration de l’eucharistie. À partir de documents en tous genres\, on se proposera d’aborder les rapports dialectiques entre exhiber et dissimuler le sang dans les sociétés italienne\, française et espagnole de la Première modernité. \nComité scientifique du programme :\nÉlisabeth Belmas (université Paris 13\, IRIS\, UMR 8156-U997\, MSH Paris-Nord)\nConstance Jori (université Sorbonne Nouvelle – Paris 3\, CIRRI/LECEMO\, EA 3979)\nCorinne Lucas-Fiorato (université Sorbonne Nouvelle – Paris 3\, CIRRI/LECEMO\, EA 397\nJennifer Ruimi (FNS/université de Lausanne et Université Sorbonne Nouvelle –Paris 3\, FIRL\, EA 174)\nHélène Tropé (université Sorbonne Nouvelle – Paris 3\, CRES/LECEMO\, EA 3979). \n>> télécharger le programme de la journée (pdf)
URL:https://www.mshparisnord.fr/event/sang-montrer-occulter/
LOCATION:Maison de la Recherche de la Sorbonne Nouvelle\, 4 rue des Irlandais\, PARIS\, 75005\, France
CATEGORIES:Actualités,Manifestations scientifiques
END:VEVENT
END:VCALENDAR