BEGIN:VCALENDAR
VERSION:2.0
PRODID:-//Maison des Sciences Humaines et sociales Paris Nord - ECPv6.8.2.1//NONSGML v1.0//EN
CALSCALE:GREGORIAN
METHOD:PUBLISH
X-ORIGINAL-URL:https://www.mshparisnord.fr
X-WR-CALDESC:Évènements pour Maison des Sciences Humaines et sociales Paris Nord
REFRESH-INTERVAL;VALUE=DURATION:PT1H
X-Robots-Tag:noindex
X-PUBLISHED-TTL:PT1H
BEGIN:VTIMEZONE
TZID:Europe/Paris
BEGIN:DAYLIGHT
TZOFFSETFROM:+0100
TZOFFSETTO:+0200
TZNAME:CEST
DTSTART:20170326T010000
END:DAYLIGHT
BEGIN:STANDARD
TZOFFSETFROM:+0200
TZOFFSETTO:+0100
TZNAME:CET
DTSTART:20171029T010000
END:STANDARD
END:VTIMEZONE
BEGIN:VEVENT
DTSTART;TZID=Europe/Paris:20171010T093000
DTEND;TZID=Europe/Paris:20171010T170000
DTSTAMP:20260421T125337
CREATED:20171124T133411Z
LAST-MODIFIED:20171124T142841Z
UID:10006440-1507627800-1507654800@www.mshparisnord.fr
SUMMARY:Huma-Num > MSH PN
DESCRIPTION:La MSH Paris Nord organise une journée de présentation des services HUMA-NUM offerts aux chercheurs : stockage\, archivage des données de la recherche\, outils de traitement logiciel\, diffusion et exposition en ligne…\nIl sera également question de la plateforme Huma-Num Box qui sera mise en place prochainement à la MSH Paris Nord dans le cadre du partenariat entre nos deux institutions. \nProgramme : \n10h ◗ Mot d’introduction par Alain Bertho\, directeur de la MSH Paris Nord \n10h15-12h15 ◗ Présentation générale de la TGIR Huma-Num\, son infrastructure\nde services et ses communautés\nStéphane Pouyllau\, ingénieur de recherche\, directeur technique Huma-Num et\nElifsu Sabuncu\, ingénieure de recherche en charge des relations avec les utilisateurs d’Huma-Num \n– Enjeux du numérique en SHS ; cycle de vie des données ; écosystème Huma-Num\,\nsuivi de questions \n– Quelques exemples de corpus hébergés et valorisés à la TGIR\, suivi de questions \n– Comment participer ? suivi de questions \n– Présentation détaillée des services fournis par Huma-Num\, suivi de questions \n14h-16h30 ◗ Présentation de projets soutenus par la MSH Paris Nord\nsuivi de questions/réponses avec les porteurs de projets sur les enjeux de l’archivage\ndes données de la recherche\nModération Alain Bertho\, Bertrand Muller\, Stépane Pouyllau \n– Présentation du projet d’archivage de l’ethnoscénologie « Skenos »\nHyun Joo Lee\, Ariana de Sanctis\, Paul Forigua et Mehdi Bourgeois\nQuestions sur le stockage et l’archivage des données \n– Présentation du portail d’archivage « Studens » soutenu par la « Cité des mémoires étudiantes » : Jean-Philippe Legois et Ioanna Kasapi\nQuestions sur le traitement des données\, l’annotation\, les aspects sémantiques \n– Présentation du projet « HyperOtlet » : Bertrand Muller\nQuestions sur la diffusion de corpus sur le web \n17h30 ◗ Inauguration du site Skenos “Fonds Ethnoscénologie” (projet du Labex Arts H2H\, 2014-2016)\nPerspective de recherche innovante entre sciences de l’homme\, sciences de la vie\, esthétique et pratique l’ethnoscénologie a donné lieu à de nombreux travaux depuis le colloque de fondation\, en 1995. La pluridisciplinarité a eu pour conséquence l’éparpillement des archives. Le projet SKENOS répond à la nécessité de créer un fond documentaire à la disposition des chercheurs. \nhttp://skenos.mshparisnord.fr/ \nContacts : Gabriel Popovici\, 01 55 93 93 31\, gabriel.popovici@mshparisnord.fr\nMarianne Hérard\, 01 55 93 93 36\, marianne.herard@mshparisnord.fr \n\nMardi 10 Octobre 2017\, de 9:30 à 17:00\,  Amphithéâtre   [ Journée d’études ] \n\n\n\n\nInvité(s)\nAlain Bertho\nBertrand Muller\nStépane Pouyllau\nElifsu Sabuncu\nHyun Joo Lee\nAriana de Sanctis\nPaul Forigua\nMehdi Bourgeois\nJean-Philippe Legois\nIoanna Kasapi\n\n\n\n\nLieu(x)\nMSH Paris Nord\n20 av George Sand\n93210 St-Denis la Plaine\ntél : 01 55 93 93 00Métro ligne 12 : « Front populaire »\nRER B : « La Plaine – Stade de France »Accessible aux personnes à mobilité réduite.\n\n\n\n\n\n\n\n\n\n\n>> inscription obligatoire sur ce lien\n>> site Skenos (fond Ethnoscénologie)\n\n\n\n\n human-num-10octobre2017-web.pdf\n prog-10octobre17-web.pdf\n\n\n\n\n\n\nEnregistrer \nEnregistrer
URL:https://www.mshparisnord.fr/event/huma-num-msh-pn/
LOCATION:Métro ligne 12 : « Front populaire »\, accessible aux personnes à mobilité réduite
CATEGORIES:Actualités,Manifestations scientifiques
END:VEVENT
END:VCALENDAR