BEGIN:VCALENDAR
VERSION:2.0
PRODID:-//Maison des Sciences Humaines et sociales Paris Nord - ECPv6.8.2.1//NONSGML v1.0//EN
CALSCALE:GREGORIAN
METHOD:PUBLISH
X-ORIGINAL-URL:https://www.mshparisnord.fr
X-WR-CALDESC:Évènements pour Maison des Sciences Humaines et sociales Paris Nord
REFRESH-INTERVAL;VALUE=DURATION:PT1H
X-Robots-Tag:noindex
X-PUBLISHED-TTL:PT1H
BEGIN:VTIMEZONE
TZID:Europe/Paris
BEGIN:DAYLIGHT
TZOFFSETFROM:+0100
TZOFFSETTO:+0200
TZNAME:CEST
DTSTART:20180325T010000
END:DAYLIGHT
BEGIN:STANDARD
TZOFFSETFROM:+0200
TZOFFSETTO:+0100
TZNAME:CET
DTSTART:20181028T010000
END:STANDARD
END:VTIMEZONE
BEGIN:VEVENT
DTSTART;TZID=Europe/Paris:20180301T093000
DTEND;TZID=Europe/Paris:20180301T123000
DTSTAMP:20260421T071356
CREATED:20180129T141731Z
LAST-MODIFIED:20180129T141859Z
UID:10006303-1519896600-1519907400@www.mshparisnord.fr
SUMMARY:Mises en récit et corps souffrant : perspectives croisées
DESCRIPTION:Série d’ateliers pour approfondir l’étude des questions relatives aux « mises en récit et corps souffrant ». \nLe premier atelier aura lieu le jeudi 1er mars à la MSH Paris Nord\, salle 401. \nÀ cette occasion\, Bernard Andrieu\, co-directeur de la revue Corps\, philosophe et professeur en STAPS à l’université Paris Descartes\, évoquera son parcours de recherche\, notamment son ouvrage Malade encore vivant. \nLa deuxième partie de cet atelier sera dédiée à une réflexion collective autour des travaux du sociologue américain Arthur W. Frank\, spécialiste des mises en récit de l’expérience de maladie\, de l’éthique narrative et de la « socio-narratologie ». Les textes de Frank qui seront discutés durant l’atelier seront communiqués lors de l’inscription. \nEnfin\, un temps d’échange est prévu à la fin de l’atelier afin de discuter des projets communs autour de cette thématique. \nMerci de vous inscrire  à cette adresse : recits.corpssouffrants@gmail.com \n>> consulter la page de présentation
URL:https://www.mshparisnord.fr/event/mises-recit-corps-souffrant/
LOCATION:MSH Paris Nord\, 20\, avenue George Sand\, La Plaine Saint-Denis\, Métro ligne 12 : « Front populaire »\, accessible aux personnes à mobilité réduite\, 93210\, France
END:VEVENT
END:VCALENDAR