BEGIN:VCALENDAR
VERSION:2.0
PRODID:-//Maison des Sciences Humaines et sociales Paris Nord - ECPv6.8.2.1//NONSGML v1.0//EN
CALSCALE:GREGORIAN
METHOD:PUBLISH
X-WR-CALNAME:Maison des Sciences Humaines et sociales Paris Nord
X-ORIGINAL-URL:https://www.mshparisnord.fr
X-WR-CALDESC:Évènements pour Maison des Sciences Humaines et sociales Paris Nord
REFRESH-INTERVAL;VALUE=DURATION:PT1H
X-Robots-Tag:noindex
X-PUBLISHED-TTL:PT1H
BEGIN:VTIMEZONE
TZID:Europe/Paris
BEGIN:DAYLIGHT
TZOFFSETFROM:+0100
TZOFFSETTO:+0200
TZNAME:CEST
DTSTART:20200329T010000
END:DAYLIGHT
BEGIN:STANDARD
TZOFFSETFROM:+0200
TZOFFSETTO:+0100
TZNAME:CET
DTSTART:20201025T010000
END:STANDARD
END:VTIMEZONE
BEGIN:VEVENT
DTSTART;TZID=Europe/Paris:20201109T103000
DTEND;TZID=Europe/Paris:20201109T163000
DTSTAMP:20260420T023359
CREATED:20201116T160746Z
LAST-MODIFIED:20201116T161135Z
UID:10006423-1604917800-1604939400@www.mshparisnord.fr
SUMMARY:La tension comme moteur de création et de transformation dans les arts du spectacle vivant (visio)
DESCRIPTION:Doctorant.e.s et jeunes docteur.e.s en arts du spectacle et ethnoscénologie s’associent pour proposer une série de séminaires alliant recherche universitaire et pratique théâtrale. \nAxes de recherche\n– Tension dans le jeu : le jeu des corps sur scène. Mise en tension dans la dramaturgie et la mise en scène.\n– La mise en jeu du rapport scène / salle\n– Le rapport de l’artiste au réel\, de la création au politique\n– Tension psychologique dans la représentation\n– Tension narrative ou dramatique \nLors de ce premier cycle\, nous aborderons la notion de tension en jouant avec les différentes acceptions de ce terme (tension dramatique\,narrative\, physique\, psychologique\, etc.). \nProgramme\n10h30 – Introduction \n10h45 – « La tension “contre-narrative” » par Hanna Lasserre\, docteure\, ATER Université Paris 8/Vincennes-Saint Denis. \nEn regard de la « tension narrative » (Baroni) et la capacité du public à rester suspendu à l’intrigue en anticipant les suites et conséquences des actions des personnages\, nous nous interrogerons ici sur la réception critique du spectateur dans des formes dramaturgiques non-narratives et sur l’hypothèse d’une mise en tension physique\, sensible et symbolique dans le rapport de la scène avec la salle. \n11h30 – « Le théâtre anthropologique en tension – entre tradition orale et création » par Jean-François Favreau\, Docteur ès lettres de l’université Paris 7. \nDans les pratiques performatives qui ressortent de la transmission orale\, on constate une forme de dissensus entre d’un côté l’effectuation de gestes de l’ordre traditionnel (voués à réitérer\, en lui prêtant vie\, un processus)\, et de l’autre côté le geste de création (voué à faire émerger une instance\nsingulière\, en rupture avec son environnement). Pour autant\, cette tension innerve chacun des deux domaines : d’une part\, le monde traditionnel au 21e siècle est renvoyé à la question de son adaptation à un monde modifié\, où les frontières bougent\, à un environnement rhizomatique. D’autre part\,\nles arts de la scène\, habituellement organisés autour de la notion d’auteur se mettent à regarder du côté de l’effacement de celui-ci (théâtre rituel\, performance\, arts durationnels\, participatifs…). Jean-François Favreau illustrera cette réflexion à partir d’observations faites dans le “domaine Européen” (Méditerrannée\, monde Slave jusqu’au Caucase…). \n12h15-14h – Pause \n14h00 – Présentation des formats numériques qui seront disponibles sur le serveur HumNum : \n« Archéologie de la tension théâtrale (XVIIIe – XXIe siècles) »\, Guillaume Cot\, doctorant sous la direction de Martial Poirson\, Paris 8/Vincennes-Saint Denis et Charline Granger\, docteure\, thèse sous la direction Christian Biet\, Paris Nanterre. \n« La mise en tension de l’idéologie dans les pratiques artistiques. Théâtre anarchiste\, théâtre écologiste : ça existe ? »\, Camille Mayer\, doctorante sous la direction de Martial Poirson\, Paris 8/Vincennes-Saint Denis\, Climène Perrin\, doctorante sous la direction d’Isabelle Moindrot et Eliane Beaufils\, Université Paris 8/Vincennes-Saint Denis. \n14h30 – « Le paradoxe de l’émancipation et de la contrainte dans l’innervation\, comparaison du théâtre prolétarien pour enfant d’Asja Lacis et du soundpainting » par Sophie-Aurore Roussel\, doctorante sous la direction de J.F. Dusigne\, Université Paris 8/Vincennes-Saint Denis. \nNous interrogerons la tension qui articule contrainte et émancipation dans le geste artistique. Cette étude s’appuiera sur le concept d’innervation chez Walter Benjamin. En quoi la tension peut-elle être la force motrice de l’innervation? En étudiant les principes théorisés par Walter Benjamin et mis en oeuvre par Asja Lacis au sein d’une école visant à éduquer par le théâtre de jeunes enfants et adolescents marginaux\, orphelins\,délinquants\, abandonnés à la rue juste après la révolution russe\, en comparant ces principes à ceux qui régissent le « soundpainting »\, langage des signes dévolu à la création en temps réel d’une performance artistique pluridisciplinaire (danse\, musique\, théâtre\, chant\, arts plastiques…)\, nous verrons en quoi le paradoxe d’une contrainte émancipatrice peut nourrir la question de l’individu et du collectif dans la création artistique. \n15h15 – « La nécessité de tension pour l’énergie créatrice de l’acteur » par Samir Reyad-Mamdoh\, doctorant sous la direction de J.F. Dusigne\, Paris 8/Vincennes-Saint Denis. \nSe mettre en tension\, tout le temps\, peut empêcher l’acteur d’avoir le pouvoir d’agir\, la capacité à entreprendre des actions\, en toute spontanéité\, et donc de créer. Mais paradoxalement\, il faudrait un certain niveau de tension\, pour pousser l’acteur à sortir de son état d’inaction.C’est une tension utile\, voire indispensable\, pour garder l’énergie de création\, dont a besoin l’acteur\, avant et au cours du jeu.Tension comme fil relationnel entre plusieurs personnes\, conserver pour garder l’énergie de création. La Sophrologie Caycédienne\, une partie de la préparation avant les exercices de théâtre. Cette communication de 30minutes sera suivie d’une vingtaine de minutes d’exercices de sophrologie(à distance) pour celles et ceux qui le désire. \n16h30 – Clôture \ninformations pratiques\nEn raison de la crise sanitaire\, les séminaires sont dématérialisées (via Zoom). \n>> https://us02web.zoom.us/j/86089576202?pwd=TldReXF2UjljaWVzK21aTzJPMUZpQT09\nCode: 123456 \nUn projet de recherche qui bénéficie du soutien de la MSH Paris Nord dans le cadre de son appel à projets.
URL:https://www.mshparisnord.fr/event/la-tension-comme-moteur-de-creation-et-de-transformation-dans-les-arts-du-spectacle-vivant-visio/
LOCATION:visio-conférence
CATEGORIES:Manifestations scientifiques
END:VEVENT
BEGIN:VEVENT
DTSTART;VALUE=DATE:20201112
DTEND;VALUE=DATE:20201113
DTSTAMP:20260420T023359
CREATED:20201012T130301Z
LAST-MODIFIED:20210901T094702Z
UID:10006418-1605139200-1605225599@www.mshparisnord.fr
SUMMARY:Exposition\, Le document dans tous ses états
DESCRIPTION:Exposition\, Le document dans tous ses états. Recherche\, création\, instrumentalisations dans le cadre du projet ANR HyperOtlet. \nLes documents sont les compagnons de voyage de l’activité humaine\, qu’elle soit intellectuelle ou manuelle. Leurs formes et leurs usages\, jusqu’à la manière dont ils sont collectés\, classés\, archivés\, sont liés aux progrès techniques et technologiques\, et révèlent une façon d’appréhender le monde. L’exposition souhaite créer un pont entre le début du XXe siècle\, qui constitue une période charnière pour le document suite à la révolution industrielle\, et notre époque. Dans notre époque\, le rapport au document est déterminé par un « régime numérique ». Dans une perspective transversale qui articule recherche\, recherche-création et création\, l’exposition met en regard des œuvres d’artistes contemporains\, des archives issues de la collection du documentaliste Belge Paul Otlet (1868 – 1944) et certains travaux produits dans le cadre du programme de recherche HyperOtlet (ANR 2017-2020). Ce programme de recherche a développé différentes méthodes de recherches\, issues notamment des humanités digitales pour ouvrir de nouvelles potentialités d’études sur des objets et concepts très contemporains liés à la documentation. \nCommissariat d’exposition : Rime Fetnan\nÉquipe / conception : Flavie Jeannin\, Marianne Hérard\, Henri Sergent\nRéalisation : David Delaunay\, société 19h42\nMontage : Bérangère Elie \nFilm de l’exposition\, exposition virtuelle : \n \nInformations pratiques\nà la MSH Paris Nord\ndu 12 novembre 2020 au 20 juin 2021\nentrée libre de 8h30 à 18h\nmerci de respecter les mesures sanitaires en vigueur\, port du masque obligatoire \nCette exposition se déroule dans le cadre du colloque international\, Documents et documentation : approche rétro-prospective\, mars 2021 à la MSH Paris Nord\n>> voir la présentation du colloque https://www.mshparisnord.fr/event/documents-documentation/ \n>> présentation du projet ANR HyperOtlet\nhttps://www.mshparisnord.fr/programmes/projet-hyperotlet-anr/ \n>> carnet de recherche de l’ANR HyperOtlet\nhttps://hyperotlet.hypotheses.org/
URL:https://www.mshparisnord.fr/event/exposition-le-document-dans-tous-ses-etats/
LOCATION:MSH Paris Nord\, 20\, avenue George Sand\, La Plaine Saint-Denis\, Métro ligne 12 : « Front populaire »\, accessible aux personnes à mobilité réduite\, 93210\, France
CATEGORIES:Manifestations scientifiques
END:VEVENT
BEGIN:VEVENT
DTSTART;TZID=Europe/Paris:20201113T100000
DTEND;TZID=Europe/Paris:20201113T100000
DTSTAMP:20260420T023359
CREATED:20200914T132857Z
LAST-MODIFIED:20201109T075656Z
UID:10006411-1605261600-1605261600@www.mshparisnord.fr
SUMMARY:Séminaire "Corps" et sciences sociales\, 13 novembre 2020 (visio)
DESCRIPTION:Présentation critique d’ouvrages en présence de leurs auteurs\nSéminaire 2020 / 2021\nCe séminaire vise à rendre raison de la floraison saisissante depuis le milieu des années 90 en histoire\, sociologie\, anthropologie\, science politique\, d’ouvrages consacrés aux questions du corps\, de la santé\, de l’administration du vivant. Elle incite à inventorier\, par delà singularités apparentes et spécificités disciplinaires\, les pensés et impensés communs à cette humeur du temps si soucieuse du destin du corps et du biologique. Ce séminaire se tient sous l’égide conjointe de la MSH-Paris Nord et de la Fondation MSH-Paris\, et a été intégré dans deux masters de l’EHESS. \n> télécharger le programme complet (pdf) \nSéance du 13 novembre 2020 (visio)\nI. Émotions et sciences sociales\nSéance 2. Amour et sciences sociales\nEva Illouz\, La Fin de l’amour. Enquête sur un désarroi contemporain\, Paris\, Seuil\, 2020\, 416 p.\nMarie Bergström\, Les nouvelles lois de l’amour. Sexualité\, couple et rencontres au temps du numérique\, Paris\, La Découverte\, 2019\, 220 p.\nLecteurs : Marc Joly / Gérard Rimbert (lectures croisées) \nProchaines séances\n4 décembre 2020 (à Paris II)\n3. Émotions et politique\nLoïc Blondiaux\, Christophe Traïni (dir.)\, La démocratie des émotions. Dispositifs participatifs et gouvernabilité des affects\, Paris\, Presses de Sciences Po\, 2018\, 245 p.\nChristian Le Bart\, Les émotions du pouvoir : larmes\, rires\, colères des politiques\, Paris\, A. Colin\, 2018\, 254 p.\nGérôme Truc\, Sidérations. Une sociologie des attentats\, Paris\, Presses universitaires de France\, Paris\, 2016\, 354 p.\nLecteurs : Gérôme Truc / Emmanuel Cayre \nII. Divers\n8 janvier 2021 (à Paris II)\n4. Elias vs Foucault : la fabrique du sujet\nSabine Delzescaux\, Norbert Elias. Distinction\, conscience et violence\, Paris\, A.Colin\, 288 p.\nClaire Pagès\, Elias\, Paris\, Les Belles Lettres\, 2017\, 286 p.\nMichel Foucault\, Discours et vérité\, Paris\, Vrin\, 2016\, 314 p. et\nMichel Foucault\, L’origine de l’herméneutique de soi\, Paris\, Vrin\, 1980\, 158 p.\nLecteurs : Baptiste Brossard / Aubrie Jouanno / Anne Vincent-Buffaut \nIII. Immobiliser les sujets\n5 février 2021 (à Paris II)\n5. Contrôler les mobilités\nClaude Quétel\, Histoire des murs. Une autre histoire des hommes\, Paris\, Perrin\, 2012\, 320 p.\nAnne Conchon\, Laurence Montel\, Céline Regnard (dir.)\,\nPolicer les mobilités. Europe – États-Unis\, XVIIIe-XXIe siècle\, Paris\, Éditions de la Sorbonne\, 2018\, 184 p.\nLecteurs : Nicolas Dyonet / Mathias Dambuyant \n12 mars 2021 (à Pouchet)\n6. Mobilités/Immobilités féminine\nAlain Viala\, La galanterie française\, Paris\, Seuil\, 2019\, 400 p. (avec retour sur Claude Habib\, Galanterie française\, Paris\, Gallimard\, 2006\, 443 p.)\nFélix Bathon\, « Holding doors for others. A history of the emergence of a polite behavior »\, Interdisciplines. Journal of History and Sociology\, Vol.9\, n°2\, 2018\, pp.57-87.\nLecteurs : Irène Théry / Abigail Bourguignon \nIV. Corps et droit\n2 avril 2021 (à Pouchet)\n7. Identifier\nClaire Bouglé-Le Roux\, Corps et droit: Des cheveux du roi mérovingien à l’homo numericus\, Paris\, Lexis-Nexis\, 2019\, 164 p.\nMarc Sztulman\, La biométrie saisie par le droit public. Étude sur l’identification et la localisation des personnes physiques\, Paris\, LGDJ\, 2019\, 468 p.\nLecteurs : Catherine Puigelier / Jean-François Laé \n14 mai 2021 (à Pouchet)\n8. Classer\nMarie-Xavière Catto\, Le principe d’indisponibilité du corps humain\, limite de l’usage économique du corps\, Paris\, LGDJ\, 2018\, 750 p.\nLisa Carayon. La catégorisation des corps : étude sur l’humain avant la naissance et après la mort\, Paris\, IRJS Editions\, 2019\, 787 p.\nLecteurs : Kim Khanh Pham / Marie Mathieu \nInformations pratiques\nLes vendredis de 10h à 13h\, entrée libre et gratuite \nSéance du 13 novembre 2020 en visio uniquement\, compte tenu de la situation sanitaire.\nSi vous souhaitez y assister\, merci de vous inscrire au préalable (c’est très rapide ! ) à l’adresse suivante:\nhttps://u-paris2-fr.zoom.us/meeting/register/tJYrdeCpqj4iHNYBOSaQARQP0thQ6-2hHj_6\nAprès votre inscription\, vous recevrez un e-mail de confirmation contenant les instructions pour rejoindre la réunion.\nNB : si le système venait à avoir un problème\, nous avons une solution de rechange\, et sans inscription préalable\, cette fois :  https://rendez-vous.renater.fr/dominique \nSéances 1 à 5 : les séances auront lieu à Paris II\n12 place du Panthéon\, 75005 (M° : Luxembourg\, Maubert-Mutualité ou Cardinal Lemoine)\nsalle des actes du Panthéon (aile Cujas\, escalier J\, 3e étage)\nSignalez à l’entrée que vous venez pour le séminaire Corps et sciences sociales\, et prévoyez une carte d’identité. \nSéances 6 à 8 : à partir de mars 2021\nau CNRS\, 59/61 rue Pouchet\, 75017\, salle 214 \nOrganisatrices scientifiques\nDominique Memmi\, directrice de recherche\, sciences sociales\, CNRS\nGéraldine Aïdan\, chargée de recherche CNRS\, CERSA-CNRS\, Paris II-Panthéon-Assas\nEn collaboration avec Anne-Lise DALL’AGNOLA\, doctorante\, CSU/ Paris 8\, annelise.dallagnola@gmail.com \nPartenaires\nMaison des Sciences de l’Homme Paris Nord\nFondation MSH\nCresppa\nCERSA \nUn projet de recherche qui bénéficie du soutien de la MSH Paris Nord dans le cadre de son appel à projets.
URL:https://www.mshparisnord.fr/event/seminaire-corps-et-sciences-sociales-13-novembre-2020/
LOCATION:université Paris II\, 12 place du Panthéon\, Paris\, 75005\, France
CATEGORIES:Manifestations scientifiques
END:VEVENT
BEGIN:VEVENT
DTSTART;TZID=Europe/Paris:20201113T180000
DTEND;TZID=Europe/Paris:20201113T200000
DTSTAMP:20260420T023359
CREATED:20201009T133441Z
LAST-MODIFIED:20201103T112557Z
UID:10006928-1605290400-1605297600@www.mshparisnord.fr
SUMMARY:Séminaire\, Histoire(s) de la visibilité selon Harun Farocki\, 13 novembre 2020 (visio)
DESCRIPTION:On abordera dans ce séminaire le travail du cinéaste\, artiste et essayiste Harun Farocki (1944-2014). \nArpenteur infatigable des diverses strates de visibilité de nos sociétés\, il a cherché aussi bien à nous dévoiler l’envers du visible ordinaire qu’à débusquer un visible opératoire qui innerve la réalité sociale en étant invisible pour tout un chacun. Il s’est intéressé aux images qui prennent la mesure du monde\, celles du domaine de la technique\, celles qui produisent comme celles qui détruisent (les techniques de production\, les techniques militaires). \nUne recherche qui se déploie dans l’horizon de la pensée de Marx\, d’Adorno\, de Heidegger et de Foucault. Artisan d’une archéologie (Bellour\, Blümlinger) de notre présent visuel\, Farocki a également patiemment sondé les institutions pour y découvrir les «images opératoires» qui les font fonctionner et qui pilotent le comportement des individus ; on rencontre alors Foucault et ce qu’en dit Deleuze à propos des «sociétés de contrôle». Grâce à ses fouilles\, Farocki recueille les images produites par le monde d’aujourd’hui : photographies\, images d’archives\, images de synthèse\, vidéosurveillance\, imagerie militaire\, cinéma et jeux vidéo\, etc. Il explore ainsi divers milieux sociaux\, l’usine\, la prison\, la communication\, le marketing\, la finance\, mais aussi le sport et l’architecture… En tissant les unes avec les autres ces images provenant de sources hétérogènes\, c’est une lecture critique de l’histoire du siècle dernier et du début du XXIe que nous offre l’œuvre. Une histoire des événements\, leur médiatisation et le rôle des images opératoires (guerre du Vietnam\, Seconde Guerre mondiale\, Révolution roumaine\, chute du Mur de Berlin\, guerre du Golfe\, etc.)\, une histoire industrielle et technique\, aussi bien l’histoire du travail que l’histoire militaire\, et bien sûr une histoire des images\, celles des médias\, les images de l’art\, les images photographiques et cinématographiques\, ainsi que ces toutes nouvelles images de synthèse détachées du regard humain (que «voit» une machine ?). \nDates et lieux\n13 novembre 2020 de 18h à 20h\nVisio conférence à suivre sur Zoom\nhttps://us02web.zoom.us/j/82550292200 \n10 février 2020 amphithéâtre\, MSH Paris Nord\, de 18h à 20h \n16 mars 2020 amphithéâtre\, MSH Paris Nord\, de 18h à 20h \n20 avril 2020 amphithéâtre\, MSH Paris Nord\, de 18h à 20h \n12 mai 2020 amphithéâtre\, MSH Paris Nord\, de 18h à 20h \nUn projet de recherche qui bénéficie du soutien de la MSH Paris Nord dans le cadre de son appel à projets.
URL:https://www.mshparisnord.fr/event/seminaire-histoires-de-la-visibilite-selon-harun-farocki-13-novembre-2020/
LOCATION:visio-conférence
CATEGORIES:Manifestations scientifiques
END:VEVENT
END:VCALENDAR