BEGIN:VCALENDAR
VERSION:2.0
PRODID:-//Maison des Sciences Humaines et sociales Paris Nord - ECPv6.8.2.1//NONSGML v1.0//EN
CALSCALE:GREGORIAN
METHOD:PUBLISH
X-ORIGINAL-URL:https://www.mshparisnord.fr
X-WR-CALDESC:Évènements pour Maison des Sciences Humaines et sociales Paris Nord
REFRESH-INTERVAL;VALUE=DURATION:PT1H
X-Robots-Tag:noindex
X-PUBLISHED-TTL:PT1H
BEGIN:VTIMEZONE
TZID:Europe/Paris
BEGIN:DAYLIGHT
TZOFFSETFROM:+0100
TZOFFSETTO:+0200
TZNAME:CEST
DTSTART:20210328T010000
END:DAYLIGHT
BEGIN:STANDARD
TZOFFSETFROM:+0200
TZOFFSETTO:+0100
TZNAME:CET
DTSTART:20211031T010000
END:STANDARD
END:VTIMEZONE
BEGIN:VEVENT
DTSTART;TZID=Europe/Paris:20211101T090000
DTEND;TZID=Europe/Paris:20211101T170000
DTSTAMP:20260424T013918
CREATED:20200622T085941Z
LAST-MODIFIED:20211214T144132Z
UID:10006886-1635757200-1635786000@www.mshparisnord.fr
SUMMARY:Exposition\, Narra : la face cachée des textes littéraires
DESCRIPTION:Installations artistiques et vidéo par Claude-CLd (Claude Patricia Tardif)\nLes créations visuelles de Narra donnent à voir le rythme des textes littéraires en fonction de la longueur de leurs paragraphes. Elles ont été réalisées avec différents algorithmes\, dont le logiciel Narra 2.0 développé afin de mesurer les séquences textuelles (paragraphes alinéaires et chapitres). \nLes œuvres de Narra montrent qu’un texte littéraire n’est pas qu’un message ; il est aussi un enchaînement de séquences de longueurs et de durées variables qui lui donne sa morphologie. \nLes textes littéraires sont les cocréateurs des œuvres de Narra. Selon la longueur de leurs paragraphes\, ils déterminent les formes et les couleurs à partir d’une palette prédéfinie suivante : du rouge pour un paragraphe court\, passant par un jaune-vert pour un paragraphe de moyenne longueur\, jusqu’au bleu pour un paragraphe long. \nDe façon inédite\, les œuvres de Narra dévoilent une facette des textes littéraires : leur morphologie et leur rythme\, constitutifs de leur identité. C’est tout l’enjeu de cette recherche-création dont les œuvres exposées font partie : rendre visible une autre réalité des textes littéraires\, visuelle et temporelle\, au moyen d’un langage visuel. Dans cette exposition aux médiums variés – vidéo\, art numérique\, peinture\, lumière et électronique – les œuvres ne relèvent ni du registre de l’expression de l’artiste\, ni d’une vision du monde à travers son prisme\, ni du sensible\, elles sont un moyen de découverte et de connaissances en opérant comme un révélateur d’une propriété du texte littéraire qui les a en partie produites. \n>> télécharger la présentation en image de Narra (pdf) \nInformations pratiques\nExposition sur 4 niveaux ouverte du 15 septembre au 15 décembre 2021\nde 9h à 17h du lundi au vendredi.\nEntrée libre et gratuite\, merci de respecter les consignes sanitaires en cours. \n\nVisite commentée et rencontre avec l’artiste lundi 29 novembre 2021 de 17h à 19h suivi d’un cocktail.\nOuvert à tous et gratuit.\nProfitez des journées européennes du patrimoine\, le samedi 18 septembre 2021 à la MSH Paris Nord pour visiter l’exposition commentée par Claude Tardif (sur réservation).\n>> consulter le programme des journées européennes du patrimoine à la MSH Paris Nord et réserver sur\nhttps://www.mshparisnord.fr/event/journees-europeennes-du-patrimoine-a-la-msh-paris-nord-2021/\n\nNarra est un projet de recherche-création qui bénéficie du soutien de la MSH Paris Nord dans le cadre de son appel à projets.
URL:https://www.mshparisnord.fr/event/exposition-narra/2021-11-01/
LOCATION:MSH Paris Nord\, 20\, avenue George Sand\, La Plaine Saint-Denis\, Métro ligne 12 : « Front populaire »\, accessible aux personnes à mobilité réduite\, 93210\, France
CATEGORIES:Manifestations scientifiques
ATTACH;FMTTYPE=image/jpeg:https://www.mshparisnord.fr/wp-content/uploads/2020/06/narra2021-250px.jpg
END:VEVENT
BEGIN:VEVENT
DTSTART;TZID=Europe/Paris:20211102T090000
DTEND;TZID=Europe/Paris:20211102T170000
DTSTAMP:20260424T013918
CREATED:20200622T085941Z
LAST-MODIFIED:20211214T144132Z
UID:10006887-1635843600-1635872400@www.mshparisnord.fr
SUMMARY:Exposition\, Narra : la face cachée des textes littéraires
DESCRIPTION:Installations artistiques et vidéo par Claude-CLd (Claude Patricia Tardif)\nLes créations visuelles de Narra donnent à voir le rythme des textes littéraires en fonction de la longueur de leurs paragraphes. Elles ont été réalisées avec différents algorithmes\, dont le logiciel Narra 2.0 développé afin de mesurer les séquences textuelles (paragraphes alinéaires et chapitres). \nLes œuvres de Narra montrent qu’un texte littéraire n’est pas qu’un message ; il est aussi un enchaînement de séquences de longueurs et de durées variables qui lui donne sa morphologie. \nLes textes littéraires sont les cocréateurs des œuvres de Narra. Selon la longueur de leurs paragraphes\, ils déterminent les formes et les couleurs à partir d’une palette prédéfinie suivante : du rouge pour un paragraphe court\, passant par un jaune-vert pour un paragraphe de moyenne longueur\, jusqu’au bleu pour un paragraphe long. \nDe façon inédite\, les œuvres de Narra dévoilent une facette des textes littéraires : leur morphologie et leur rythme\, constitutifs de leur identité. C’est tout l’enjeu de cette recherche-création dont les œuvres exposées font partie : rendre visible une autre réalité des textes littéraires\, visuelle et temporelle\, au moyen d’un langage visuel. Dans cette exposition aux médiums variés – vidéo\, art numérique\, peinture\, lumière et électronique – les œuvres ne relèvent ni du registre de l’expression de l’artiste\, ni d’une vision du monde à travers son prisme\, ni du sensible\, elles sont un moyen de découverte et de connaissances en opérant comme un révélateur d’une propriété du texte littéraire qui les a en partie produites. \n>> télécharger la présentation en image de Narra (pdf) \nInformations pratiques\nExposition sur 4 niveaux ouverte du 15 septembre au 15 décembre 2021\nde 9h à 17h du lundi au vendredi.\nEntrée libre et gratuite\, merci de respecter les consignes sanitaires en cours. \n\nVisite commentée et rencontre avec l’artiste lundi 29 novembre 2021 de 17h à 19h suivi d’un cocktail.\nOuvert à tous et gratuit.\nProfitez des journées européennes du patrimoine\, le samedi 18 septembre 2021 à la MSH Paris Nord pour visiter l’exposition commentée par Claude Tardif (sur réservation).\n>> consulter le programme des journées européennes du patrimoine à la MSH Paris Nord et réserver sur\nhttps://www.mshparisnord.fr/event/journees-europeennes-du-patrimoine-a-la-msh-paris-nord-2021/\n\nNarra est un projet de recherche-création qui bénéficie du soutien de la MSH Paris Nord dans le cadre de son appel à projets.
URL:https://www.mshparisnord.fr/event/exposition-narra/2021-11-02/
LOCATION:MSH Paris Nord\, 20\, avenue George Sand\, La Plaine Saint-Denis\, Métro ligne 12 : « Front populaire »\, accessible aux personnes à mobilité réduite\, 93210\, France
CATEGORIES:Manifestations scientifiques
ATTACH;FMTTYPE=image/jpeg:https://www.mshparisnord.fr/wp-content/uploads/2020/06/narra2021-250px.jpg
END:VEVENT
BEGIN:VEVENT
DTSTART;TZID=Europe/Paris:20211103T090000
DTEND;TZID=Europe/Paris:20211103T170000
DTSTAMP:20260424T013918
CREATED:20200622T085941Z
LAST-MODIFIED:20211214T144132Z
UID:10006888-1635930000-1635958800@www.mshparisnord.fr
SUMMARY:Exposition\, Narra : la face cachée des textes littéraires
DESCRIPTION:Installations artistiques et vidéo par Claude-CLd (Claude Patricia Tardif)\nLes créations visuelles de Narra donnent à voir le rythme des textes littéraires en fonction de la longueur de leurs paragraphes. Elles ont été réalisées avec différents algorithmes\, dont le logiciel Narra 2.0 développé afin de mesurer les séquences textuelles (paragraphes alinéaires et chapitres). \nLes œuvres de Narra montrent qu’un texte littéraire n’est pas qu’un message ; il est aussi un enchaînement de séquences de longueurs et de durées variables qui lui donne sa morphologie. \nLes textes littéraires sont les cocréateurs des œuvres de Narra. Selon la longueur de leurs paragraphes\, ils déterminent les formes et les couleurs à partir d’une palette prédéfinie suivante : du rouge pour un paragraphe court\, passant par un jaune-vert pour un paragraphe de moyenne longueur\, jusqu’au bleu pour un paragraphe long. \nDe façon inédite\, les œuvres de Narra dévoilent une facette des textes littéraires : leur morphologie et leur rythme\, constitutifs de leur identité. C’est tout l’enjeu de cette recherche-création dont les œuvres exposées font partie : rendre visible une autre réalité des textes littéraires\, visuelle et temporelle\, au moyen d’un langage visuel. Dans cette exposition aux médiums variés – vidéo\, art numérique\, peinture\, lumière et électronique – les œuvres ne relèvent ni du registre de l’expression de l’artiste\, ni d’une vision du monde à travers son prisme\, ni du sensible\, elles sont un moyen de découverte et de connaissances en opérant comme un révélateur d’une propriété du texte littéraire qui les a en partie produites. \n>> télécharger la présentation en image de Narra (pdf) \nInformations pratiques\nExposition sur 4 niveaux ouverte du 15 septembre au 15 décembre 2021\nde 9h à 17h du lundi au vendredi.\nEntrée libre et gratuite\, merci de respecter les consignes sanitaires en cours. \n\nVisite commentée et rencontre avec l’artiste lundi 29 novembre 2021 de 17h à 19h suivi d’un cocktail.\nOuvert à tous et gratuit.\nProfitez des journées européennes du patrimoine\, le samedi 18 septembre 2021 à la MSH Paris Nord pour visiter l’exposition commentée par Claude Tardif (sur réservation).\n>> consulter le programme des journées européennes du patrimoine à la MSH Paris Nord et réserver sur\nhttps://www.mshparisnord.fr/event/journees-europeennes-du-patrimoine-a-la-msh-paris-nord-2021/\n\nNarra est un projet de recherche-création qui bénéficie du soutien de la MSH Paris Nord dans le cadre de son appel à projets.
URL:https://www.mshparisnord.fr/event/exposition-narra/2021-11-03/
LOCATION:MSH Paris Nord\, 20\, avenue George Sand\, La Plaine Saint-Denis\, Métro ligne 12 : « Front populaire »\, accessible aux personnes à mobilité réduite\, 93210\, France
CATEGORIES:Manifestations scientifiques
ATTACH;FMTTYPE=image/jpeg:https://www.mshparisnord.fr/wp-content/uploads/2020/06/narra2021-250px.jpg
END:VEVENT
BEGIN:VEVENT
DTSTART;TZID=Europe/Paris:20211104T090000
DTEND;TZID=Europe/Paris:20211104T170000
DTSTAMP:20260424T013918
CREATED:20200622T085941Z
LAST-MODIFIED:20211214T144132Z
UID:10006889-1636016400-1636045200@www.mshparisnord.fr
SUMMARY:Exposition\, Narra : la face cachée des textes littéraires
DESCRIPTION:Installations artistiques et vidéo par Claude-CLd (Claude Patricia Tardif)\nLes créations visuelles de Narra donnent à voir le rythme des textes littéraires en fonction de la longueur de leurs paragraphes. Elles ont été réalisées avec différents algorithmes\, dont le logiciel Narra 2.0 développé afin de mesurer les séquences textuelles (paragraphes alinéaires et chapitres). \nLes œuvres de Narra montrent qu’un texte littéraire n’est pas qu’un message ; il est aussi un enchaînement de séquences de longueurs et de durées variables qui lui donne sa morphologie. \nLes textes littéraires sont les cocréateurs des œuvres de Narra. Selon la longueur de leurs paragraphes\, ils déterminent les formes et les couleurs à partir d’une palette prédéfinie suivante : du rouge pour un paragraphe court\, passant par un jaune-vert pour un paragraphe de moyenne longueur\, jusqu’au bleu pour un paragraphe long. \nDe façon inédite\, les œuvres de Narra dévoilent une facette des textes littéraires : leur morphologie et leur rythme\, constitutifs de leur identité. C’est tout l’enjeu de cette recherche-création dont les œuvres exposées font partie : rendre visible une autre réalité des textes littéraires\, visuelle et temporelle\, au moyen d’un langage visuel. Dans cette exposition aux médiums variés – vidéo\, art numérique\, peinture\, lumière et électronique – les œuvres ne relèvent ni du registre de l’expression de l’artiste\, ni d’une vision du monde à travers son prisme\, ni du sensible\, elles sont un moyen de découverte et de connaissances en opérant comme un révélateur d’une propriété du texte littéraire qui les a en partie produites. \n>> télécharger la présentation en image de Narra (pdf) \nInformations pratiques\nExposition sur 4 niveaux ouverte du 15 septembre au 15 décembre 2021\nde 9h à 17h du lundi au vendredi.\nEntrée libre et gratuite\, merci de respecter les consignes sanitaires en cours. \n\nVisite commentée et rencontre avec l’artiste lundi 29 novembre 2021 de 17h à 19h suivi d’un cocktail.\nOuvert à tous et gratuit.\nProfitez des journées européennes du patrimoine\, le samedi 18 septembre 2021 à la MSH Paris Nord pour visiter l’exposition commentée par Claude Tardif (sur réservation).\n>> consulter le programme des journées européennes du patrimoine à la MSH Paris Nord et réserver sur\nhttps://www.mshparisnord.fr/event/journees-europeennes-du-patrimoine-a-la-msh-paris-nord-2021/\n\nNarra est un projet de recherche-création qui bénéficie du soutien de la MSH Paris Nord dans le cadre de son appel à projets.
URL:https://www.mshparisnord.fr/event/exposition-narra/2021-11-04/
LOCATION:MSH Paris Nord\, 20\, avenue George Sand\, La Plaine Saint-Denis\, Métro ligne 12 : « Front populaire »\, accessible aux personnes à mobilité réduite\, 93210\, France
CATEGORIES:Manifestations scientifiques
ATTACH;FMTTYPE=image/jpeg:https://www.mshparisnord.fr/wp-content/uploads/2020/06/narra2021-250px.jpg
END:VEVENT
BEGIN:VEVENT
DTSTART;TZID=Europe/Paris:20211104T100000
DTEND;TZID=Europe/Paris:20211104T150000
DTSTAMP:20260424T013918
CREATED:20210927T132209Z
LAST-MODIFIED:20210927T132603Z
UID:10006483-1636020000-1636038000@www.mshparisnord.fr
SUMMARY:Théâtres de quartier - Rencontres à La P.L.A.I.N.E !
DESCRIPTION:Deuxième édition des Théâtres de quartier – Rencontres à La P.L.A.I.N.E ! \nLe Plateau Latino-américain Artistique Itinérant Nourrissant et Engagé revient à la Plaine Saint-Denis d’octobre à décembre 2021. Avec des ateliers animés par des artistes d’Espagne et de Bolivie\, des rencontres avec goûters et repas (offerts)\, des projections cinématographiques et des discussions autour des enjeux du théâtre dans les quartiers d’Europe et d’Amérique latine. \nAmateurs\, artistes\, chercheurs\, jeunes et moins jeunes bienvenu.e.s ! Participation gratuite. \nInauguration\nGratuit\, autour d’un gouter le vendredi 22 octobre 2021 à 16h à la Maison de quartier de La Plaine\n5 Rue Saint-Just\, 93210 Saint-Denis\nLigne 12 arrêt Front Populaire \nAteliers théâtre de quartier\nJeudi 4\, vendredi 5 et samedi 6 novembre\, 10h-15h\nà l’Espace Associatif et Culturel du Campus Condorcet\n15 Cours des Humanités\, 93300 Aubervilliers\nLigne 12 arrêt Front Populaire\navec Virginia Martínez et Sebastián Ramirez (La Imaquinaria\, teatro comunitario San José & Luis Buñuel\, Saragosse – Espagne) \nDimanche 14\, 21 et 28 novembre ainsi que les dimanches 5 et 12 décembre\, 15h – 18h\nà la Maison de Quartier de La Plaine (5 Rue Saint-Just\, 93210 Saint-Denis)\nLigne 12 Arrêt FRONT POPULAIRE\navec Shezenia Hannover Valda (Teatro Trono – Compa\, El Alto La Paz\, Bolivie) \nCoordination\nLouise Roux et Baptiste Mongis \ninformations pratiques\n>> site des rencontres\nhttps://www.rencontresalaplaine.fr/ \n>> réservation conseillée mais pas obligatoire\nrencontresalaplaine@gmail.com \nBaptiste : 06 21 63 94 48\nLouise : 06 76 36 50 22 \nUn projet de recherche qui bénéficie du soutien de la MSH Paris Nord dans le cadre de son appel à projets.
URL:https://www.mshparisnord.fr/event/theatres-de-quartier-edition2/2021-11-04/
LOCATION:Métro ligne 12 : « Front populaire »\, accessible aux personnes à mobilité réduite
CATEGORIES:Manifestations scientifiques
ATTACH;FMTTYPE=image/jpeg:https://www.mshparisnord.fr/wp-content/uploads/2021/09/rencontres-plaine-250px.jpg
END:VEVENT
BEGIN:VEVENT
DTSTART;TZID=Europe/Paris:20211104T100000
DTEND;TZID=Europe/Paris:20211104T203000
DTSTAMP:20260424T013918
CREATED:20211013T144943Z
LAST-MODIFIED:20211022T081954Z
UID:10006502-1636020000-1636057800@www.mshparisnord.fr
SUMMARY:Atelier\, Mémoires d'objets\, autour des restitutions
DESCRIPTION:Ce dernier Rendez-Vous Condorcet de 2021 clôt le cycle « Mémoire\, langues\, territoires » qui explore la manière dont nous habitons les évènements du passé et ceux du présent\, comment ils nous atteignent et nous constituent à travers les récits\, les images\, les musiques\, les langues\, la mode\, les objets. De quoi nous souvenons-nous\, dans quel(s) « nous » avons-nous le sentiment de nous reconnaître\, et comment se dessine un territoire dans l’entrelacement des mémoires et des langues ?\nIl prend la forme singulière d’une journée internationale pluridisciplinaire\, et inaugure une exposition-pilote proposée par l’association Les Maisons de la sagesse-Traduire (MSH Paris Nord\, Maison des Associations du Campus Condorcet) et accueillie par le Grand Établissement Documentaire. \nIl est consacré à des biographies d’objets : il s’agit de suivre le trajet\, non seulement matériel quant aux lieux\, mais aussi mental\, quant à la perception et à la valeur\, de quelques « objets migrateurs » choisis comme des symptômes\, depuis le lieu de leur fabrication ou de leur découverte\, jusqu’à celui de leur exposition\, de leur vente\, de leurs nouveaux usages et appropriations. La problématique est très directement en prise sur celle des restitutions\, et permet d’ouvrir une réflexion sur ce que pourrait être une « banque culturelle » ou « muséo-banque » à la française\, mettant en travail un modèle venu d’Afrique. \nProgramme\nAtelier\n10h-12h Retour d’expériences avec les étudiants\nVers un référentiel architectural pour une « muséo-banque » ? Du territoire à l’objet\nModérateur : Julien Bastoen \nUn projet de recherche qui bénéficie du soutien de la MSH Paris Nord dans le cadre de son appel à projets commun avec le Campus Condorcet. \nProjection\n12h-12h30 Moi\, Dionysienne – moi Dionysien de Claire Doutriaux\n365 habitants de Saint-Denis se présentent à travers un objet qui leur tient à cœur.\nProduction ARTE hors les murs – 2021 \nJournée de travail internationale\nBiographies d’objets\, objets restitués\, objets partagés \n14h15 Introduction : Barbara Cassin (Conseil scientifique\, Campus Condorcet) \n\n14h30 – 16h00 – 1ère table ronde : Biographies d’objets\, banques culturelles et muséo-banques\nModérateurs : Carlos Semedo (Maisons de la sagesse-Traduire) et Jean-Philippe Antoine (philosophe\, Labo AIAC\, Université Paris 8)\n16h00 -16h 45 – 2e table ronde : Le partage des mémoires et ses outils\nModérateur : Danièle Wozny (Maisons de la sagesse-Traduire) \n\n17h -18h15 : 3e table-ronde : Restitutions\, circulations\, réciprocités\nModérateurs : El Hadj Malick Ndiaye (directeur du musée Théodore Monod\, Dakar\, Sénégal) et Saskia Cousin (anthropologue\, ANR ReTours\, Paris-Nanterre)\n\nExposition\nL’Interface du Grand équipement documentaire (GED)\, « Muséo-banque : une expérience pilote »\n18h15-18h30 accueil puis visite avec Adrien Gardère\nVernissage et verre de l’amitié\, clôture 20h30 \nCommissariat : Maisons de la sagesse-Traduire\nDesign et scénographie : Studio Adrien Gardère\nDesign sonore : Joris Lacoste \n>> télécharger le programme complet (pdf) \nInformations pratiques\nJeudi 4 novembre 2021\nBâtiment de recherche Sud du Campus Condorcet – Salle 0.010\n5 cours des Humanités\, 93322 Aubervilliers Cedex \n>> information et inscription maisonsdelasagessetraduire@gmail.com \n>> site de la Maison de la sagesse – Traduire\nwww.maisonsdelasagessetraduire.com \n>> présentation de la Maison de la sagesse – Traduire\nhttps://www.mshparisnord.fr/valorisation-partenariats/maison-de-la-sagesse/
URL:https://www.mshparisnord.fr/event/atelier-memoires-dobjets-autour-des-restitutions/
LOCATION:Campus Condorcet\, Place du Front Populaire\, Aubervilliers\, 93322
CATEGORIES:Manifestations scientifiques
ATTACH;FMTTYPE=image/jpeg:https://www.mshparisnord.fr/wp-content/uploads/2021/10/memoires-objets-250px.jpg
END:VEVENT
BEGIN:VEVENT
DTSTART;TZID=Europe/Paris:20211105T090000
DTEND;TZID=Europe/Paris:20211105T170000
DTSTAMP:20260424T013918
CREATED:20200622T085941Z
LAST-MODIFIED:20211214T144132Z
UID:10006890-1636102800-1636131600@www.mshparisnord.fr
SUMMARY:Exposition\, Narra : la face cachée des textes littéraires
DESCRIPTION:Installations artistiques et vidéo par Claude-CLd (Claude Patricia Tardif)\nLes créations visuelles de Narra donnent à voir le rythme des textes littéraires en fonction de la longueur de leurs paragraphes. Elles ont été réalisées avec différents algorithmes\, dont le logiciel Narra 2.0 développé afin de mesurer les séquences textuelles (paragraphes alinéaires et chapitres). \nLes œuvres de Narra montrent qu’un texte littéraire n’est pas qu’un message ; il est aussi un enchaînement de séquences de longueurs et de durées variables qui lui donne sa morphologie. \nLes textes littéraires sont les cocréateurs des œuvres de Narra. Selon la longueur de leurs paragraphes\, ils déterminent les formes et les couleurs à partir d’une palette prédéfinie suivante : du rouge pour un paragraphe court\, passant par un jaune-vert pour un paragraphe de moyenne longueur\, jusqu’au bleu pour un paragraphe long. \nDe façon inédite\, les œuvres de Narra dévoilent une facette des textes littéraires : leur morphologie et leur rythme\, constitutifs de leur identité. C’est tout l’enjeu de cette recherche-création dont les œuvres exposées font partie : rendre visible une autre réalité des textes littéraires\, visuelle et temporelle\, au moyen d’un langage visuel. Dans cette exposition aux médiums variés – vidéo\, art numérique\, peinture\, lumière et électronique – les œuvres ne relèvent ni du registre de l’expression de l’artiste\, ni d’une vision du monde à travers son prisme\, ni du sensible\, elles sont un moyen de découverte et de connaissances en opérant comme un révélateur d’une propriété du texte littéraire qui les a en partie produites. \n>> télécharger la présentation en image de Narra (pdf) \nInformations pratiques\nExposition sur 4 niveaux ouverte du 15 septembre au 15 décembre 2021\nde 9h à 17h du lundi au vendredi.\nEntrée libre et gratuite\, merci de respecter les consignes sanitaires en cours. \n\nVisite commentée et rencontre avec l’artiste lundi 29 novembre 2021 de 17h à 19h suivi d’un cocktail.\nOuvert à tous et gratuit.\nProfitez des journées européennes du patrimoine\, le samedi 18 septembre 2021 à la MSH Paris Nord pour visiter l’exposition commentée par Claude Tardif (sur réservation).\n>> consulter le programme des journées européennes du patrimoine à la MSH Paris Nord et réserver sur\nhttps://www.mshparisnord.fr/event/journees-europeennes-du-patrimoine-a-la-msh-paris-nord-2021/\n\nNarra est un projet de recherche-création qui bénéficie du soutien de la MSH Paris Nord dans le cadre de son appel à projets.
URL:https://www.mshparisnord.fr/event/exposition-narra/2021-11-05/
LOCATION:MSH Paris Nord\, 20\, avenue George Sand\, La Plaine Saint-Denis\, Métro ligne 12 : « Front populaire »\, accessible aux personnes à mobilité réduite\, 93210\, France
CATEGORIES:Manifestations scientifiques
ATTACH;FMTTYPE=image/jpeg:https://www.mshparisnord.fr/wp-content/uploads/2020/06/narra2021-250px.jpg
END:VEVENT
BEGIN:VEVENT
DTSTART;TZID=Europe/Paris:20211105T100000
DTEND;TZID=Europe/Paris:20211105T150000
DTSTAMP:20260424T013918
CREATED:20210927T132209Z
LAST-MODIFIED:20210927T132603Z
UID:10006484-1636106400-1636124400@www.mshparisnord.fr
SUMMARY:Théâtres de quartier - Rencontres à La P.L.A.I.N.E !
DESCRIPTION:Deuxième édition des Théâtres de quartier – Rencontres à La P.L.A.I.N.E ! \nLe Plateau Latino-américain Artistique Itinérant Nourrissant et Engagé revient à la Plaine Saint-Denis d’octobre à décembre 2021. Avec des ateliers animés par des artistes d’Espagne et de Bolivie\, des rencontres avec goûters et repas (offerts)\, des projections cinématographiques et des discussions autour des enjeux du théâtre dans les quartiers d’Europe et d’Amérique latine. \nAmateurs\, artistes\, chercheurs\, jeunes et moins jeunes bienvenu.e.s ! Participation gratuite. \nInauguration\nGratuit\, autour d’un gouter le vendredi 22 octobre 2021 à 16h à la Maison de quartier de La Plaine\n5 Rue Saint-Just\, 93210 Saint-Denis\nLigne 12 arrêt Front Populaire \nAteliers théâtre de quartier\nJeudi 4\, vendredi 5 et samedi 6 novembre\, 10h-15h\nà l’Espace Associatif et Culturel du Campus Condorcet\n15 Cours des Humanités\, 93300 Aubervilliers\nLigne 12 arrêt Front Populaire\navec Virginia Martínez et Sebastián Ramirez (La Imaquinaria\, teatro comunitario San José & Luis Buñuel\, Saragosse – Espagne) \nDimanche 14\, 21 et 28 novembre ainsi que les dimanches 5 et 12 décembre\, 15h – 18h\nà la Maison de Quartier de La Plaine (5 Rue Saint-Just\, 93210 Saint-Denis)\nLigne 12 Arrêt FRONT POPULAIRE\navec Shezenia Hannover Valda (Teatro Trono – Compa\, El Alto La Paz\, Bolivie) \nCoordination\nLouise Roux et Baptiste Mongis \ninformations pratiques\n>> site des rencontres\nhttps://www.rencontresalaplaine.fr/ \n>> réservation conseillée mais pas obligatoire\nrencontresalaplaine@gmail.com \nBaptiste : 06 21 63 94 48\nLouise : 06 76 36 50 22 \nUn projet de recherche qui bénéficie du soutien de la MSH Paris Nord dans le cadre de son appel à projets.
URL:https://www.mshparisnord.fr/event/theatres-de-quartier-edition2/2021-11-05/
LOCATION:Métro ligne 12 : « Front populaire »\, accessible aux personnes à mobilité réduite
CATEGORIES:Manifestations scientifiques
ATTACH;FMTTYPE=image/jpeg:https://www.mshparisnord.fr/wp-content/uploads/2021/09/rencontres-plaine-250px.jpg
END:VEVENT
BEGIN:VEVENT
DTSTART;TZID=Europe/Paris:20211106T100000
DTEND;TZID=Europe/Paris:20211106T150000
DTSTAMP:20260424T013918
CREATED:20210927T132209Z
LAST-MODIFIED:20210927T132603Z
UID:10006485-1636192800-1636210800@www.mshparisnord.fr
SUMMARY:Théâtres de quartier - Rencontres à La P.L.A.I.N.E !
DESCRIPTION:Deuxième édition des Théâtres de quartier – Rencontres à La P.L.A.I.N.E ! \nLe Plateau Latino-américain Artistique Itinérant Nourrissant et Engagé revient à la Plaine Saint-Denis d’octobre à décembre 2021. Avec des ateliers animés par des artistes d’Espagne et de Bolivie\, des rencontres avec goûters et repas (offerts)\, des projections cinématographiques et des discussions autour des enjeux du théâtre dans les quartiers d’Europe et d’Amérique latine. \nAmateurs\, artistes\, chercheurs\, jeunes et moins jeunes bienvenu.e.s ! Participation gratuite. \nInauguration\nGratuit\, autour d’un gouter le vendredi 22 octobre 2021 à 16h à la Maison de quartier de La Plaine\n5 Rue Saint-Just\, 93210 Saint-Denis\nLigne 12 arrêt Front Populaire \nAteliers théâtre de quartier\nJeudi 4\, vendredi 5 et samedi 6 novembre\, 10h-15h\nà l’Espace Associatif et Culturel du Campus Condorcet\n15 Cours des Humanités\, 93300 Aubervilliers\nLigne 12 arrêt Front Populaire\navec Virginia Martínez et Sebastián Ramirez (La Imaquinaria\, teatro comunitario San José & Luis Buñuel\, Saragosse – Espagne) \nDimanche 14\, 21 et 28 novembre ainsi que les dimanches 5 et 12 décembre\, 15h – 18h\nà la Maison de Quartier de La Plaine (5 Rue Saint-Just\, 93210 Saint-Denis)\nLigne 12 Arrêt FRONT POPULAIRE\navec Shezenia Hannover Valda (Teatro Trono – Compa\, El Alto La Paz\, Bolivie) \nCoordination\nLouise Roux et Baptiste Mongis \ninformations pratiques\n>> site des rencontres\nhttps://www.rencontresalaplaine.fr/ \n>> réservation conseillée mais pas obligatoire\nrencontresalaplaine@gmail.com \nBaptiste : 06 21 63 94 48\nLouise : 06 76 36 50 22 \nUn projet de recherche qui bénéficie du soutien de la MSH Paris Nord dans le cadre de son appel à projets.
URL:https://www.mshparisnord.fr/event/theatres-de-quartier-edition2/2021-11-06/
LOCATION:Métro ligne 12 : « Front populaire »\, accessible aux personnes à mobilité réduite
CATEGORIES:Manifestations scientifiques
ATTACH;FMTTYPE=image/jpeg:https://www.mshparisnord.fr/wp-content/uploads/2021/09/rencontres-plaine-250px.jpg
END:VEVENT
END:VCALENDAR