BEGIN:VCALENDAR
VERSION:2.0
PRODID:-//Maison des Sciences Humaines et sociales Paris Nord - ECPv6.8.2.1//NONSGML v1.0//EN
CALSCALE:GREGORIAN
METHOD:PUBLISH
X-ORIGINAL-URL:https://www.mshparisnord.fr
X-WR-CALDESC:Évènements pour Maison des Sciences Humaines et sociales Paris Nord
REFRESH-INTERVAL;VALUE=DURATION:PT1H
X-Robots-Tag:noindex
X-PUBLISHED-TTL:PT1H
BEGIN:VTIMEZONE
TZID:Europe/Paris
BEGIN:DAYLIGHT
TZOFFSETFROM:+0100
TZOFFSETTO:+0200
TZNAME:CEST
DTSTART:20230326T010000
END:DAYLIGHT
BEGIN:STANDARD
TZOFFSETFROM:+0200
TZOFFSETTO:+0100
TZNAME:CET
DTSTART:20231029T010000
END:STANDARD
END:VTIMEZONE
BEGIN:VEVENT
DTSTART;TZID=Europe/Paris:20230123T083000
DTEND;TZID=Europe/Paris:20230123T173000
DTSTAMP:20260419T202459
CREATED:20220608T080413Z
LAST-MODIFIED:20221102T091639Z
UID:10007482-1674462600-1674495000@www.mshparisnord.fr
SUMMARY:Exposition\, In the Banlieues: Oakland/Saint-Denis
DESCRIPTION:In the Banlieues: Oakland / Saint-Denisécrire la ville collectivement\nSérie d’expositions internationales autour des banlieues en France et aux États-Unis\, In the Banlieues: Oakland/Saint-Denis est présentée simultanément à Paris\, à Saint-Denis notamment à la MSH Paris Nord\, à San Francisco et à Oakland. \nQuelle que soit la manière de les nommer – banlieues\, périphéries\, suburbs\, franges urbaines… cette exposition met en lumière le retournement symbolique du centre à la périphérie. Mouvements artistiques\, luttes sociales\, innovations urbaines : les banlieues d’Oakland en Californie et de Saint-Denis imposent aujourd’hui leur influence et inventent des solutions aux enjeux de pauvreté et de développement urbain accéléré auxquels les métropoles font face. \n“Rassemblant un corpus hybride d’images d’archives\, maquettes\, tableaux\, installations artistiques\, objets\, vidéos\, cette exposition explore les pratiques culturelles et habitantes en urbanisme. Des lieux\, des personnes\, des histoires les constituent\, dessinant\, loin des clichés\, des portraits de banlieues composites. Il y a urgence à reconnaître celles et ceux qui y vivent au jour le jour\, celles et ceux qui y travaillent et qui y créent.” June Grant et Laure Gayet\, co-commissaires de l’exposition. \nDates\n\n\nà Saint-Denis\n\nExposition à la Maison des Sciences de l’Homme Paris Nord du 17 septembre au 15 mars 2023 (prolongation)(attention\, la visite du 4e étage est possible seulement de 12h30 à 14h\, merci de votre compréhension)Vernissage festif et visites guidées lors des journées européennes du patrimoine\, le samedi 17 septembre 2022informations sur la page https://www.mshparisnord.fr/event/journees-europeennes-du-patrimoine-a-la-msh-paris-nord-2022/\ndans des espaces publics de Saint-Denis à partir de septembre 2022\nPerformances Spaces 25\, 29\, 30 juin et 1\, 2\, 6\, 7\, 9 juillet 2022 entre la Halle du Marché et la Basilique de Saint-Denis\n\n\nà San Francisco et à Oakland : de juillet à décembre 2022\nen ligne : City/Cité – le cycle de conférences invite plusieurs villes du monde à partager leurs innovations culturelles et urbaines à partir de septembre (dates à confirmer)\nà Paris\, au Pavillon de l’Arsenal du 15 juin à fin août 2022\n\n\n>> site du programme de coopération https://www.oaklandsaintdenis.org \nUn projet de recherche qui bénéficie du soutien de la MSH Paris Nord et de Plaine Commune dans le cadre de leur appel à projets commun. \nL’exposition est coproduite par le Pavillon de l’Arsenal\, la Villa Albertine San Francisco et California Humanities ; en partenariat avec SPUR San Francisco\, la Maison des Sciences de l’Homme Paris Nord ; avec le soutien de la fondation 836M\, l’Institut Français\, la Fondation Art Explora ; en collaboration avec les villes d’Oakland et de Saint-Denis\, Périféeries et avec la complicité d’Arte.
URL:https://www.mshparisnord.fr/event/exposition-in-the-banlieues-oakland-saint-denis/2023-01-23/
LOCATION:MSH Paris Nord\, 20\, avenue George Sand\, La Plaine Saint-Denis\, Métro ligne 12 : « Front populaire »\, accessible aux personnes à mobilité réduite\, 93210\, France
CATEGORIES:Manifestations scientifiques
ATTACH;FMTTYPE=image/jpeg:https://www.mshparisnord.fr/wp-content/uploads/2022/06/oaklandsaintdenis-2022-250px.jpg
END:VEVENT
BEGIN:VEVENT
DTSTART;TZID=Europe/Paris:20230124T083000
DTEND;TZID=Europe/Paris:20230124T173000
DTSTAMP:20260419T202459
CREATED:20220608T080413Z
LAST-MODIFIED:20221102T091639Z
UID:10007483-1674549000-1674581400@www.mshparisnord.fr
SUMMARY:Exposition\, In the Banlieues: Oakland/Saint-Denis
DESCRIPTION:In the Banlieues: Oakland / Saint-Denisécrire la ville collectivement\nSérie d’expositions internationales autour des banlieues en France et aux États-Unis\, In the Banlieues: Oakland/Saint-Denis est présentée simultanément à Paris\, à Saint-Denis notamment à la MSH Paris Nord\, à San Francisco et à Oakland. \nQuelle que soit la manière de les nommer – banlieues\, périphéries\, suburbs\, franges urbaines… cette exposition met en lumière le retournement symbolique du centre à la périphérie. Mouvements artistiques\, luttes sociales\, innovations urbaines : les banlieues d’Oakland en Californie et de Saint-Denis imposent aujourd’hui leur influence et inventent des solutions aux enjeux de pauvreté et de développement urbain accéléré auxquels les métropoles font face. \n“Rassemblant un corpus hybride d’images d’archives\, maquettes\, tableaux\, installations artistiques\, objets\, vidéos\, cette exposition explore les pratiques culturelles et habitantes en urbanisme. Des lieux\, des personnes\, des histoires les constituent\, dessinant\, loin des clichés\, des portraits de banlieues composites. Il y a urgence à reconnaître celles et ceux qui y vivent au jour le jour\, celles et ceux qui y travaillent et qui y créent.” June Grant et Laure Gayet\, co-commissaires de l’exposition. \nDates\n\n\nà Saint-Denis\n\nExposition à la Maison des Sciences de l’Homme Paris Nord du 17 septembre au 15 mars 2023 (prolongation)(attention\, la visite du 4e étage est possible seulement de 12h30 à 14h\, merci de votre compréhension)Vernissage festif et visites guidées lors des journées européennes du patrimoine\, le samedi 17 septembre 2022informations sur la page https://www.mshparisnord.fr/event/journees-europeennes-du-patrimoine-a-la-msh-paris-nord-2022/\ndans des espaces publics de Saint-Denis à partir de septembre 2022\nPerformances Spaces 25\, 29\, 30 juin et 1\, 2\, 6\, 7\, 9 juillet 2022 entre la Halle du Marché et la Basilique de Saint-Denis\n\n\nà San Francisco et à Oakland : de juillet à décembre 2022\nen ligne : City/Cité – le cycle de conférences invite plusieurs villes du monde à partager leurs innovations culturelles et urbaines à partir de septembre (dates à confirmer)\nà Paris\, au Pavillon de l’Arsenal du 15 juin à fin août 2022\n\n\n>> site du programme de coopération https://www.oaklandsaintdenis.org \nUn projet de recherche qui bénéficie du soutien de la MSH Paris Nord et de Plaine Commune dans le cadre de leur appel à projets commun. \nL’exposition est coproduite par le Pavillon de l’Arsenal\, la Villa Albertine San Francisco et California Humanities ; en partenariat avec SPUR San Francisco\, la Maison des Sciences de l’Homme Paris Nord ; avec le soutien de la fondation 836M\, l’Institut Français\, la Fondation Art Explora ; en collaboration avec les villes d’Oakland et de Saint-Denis\, Périféeries et avec la complicité d’Arte.
URL:https://www.mshparisnord.fr/event/exposition-in-the-banlieues-oakland-saint-denis/2023-01-24/
LOCATION:MSH Paris Nord\, 20\, avenue George Sand\, La Plaine Saint-Denis\, Métro ligne 12 : « Front populaire »\, accessible aux personnes à mobilité réduite\, 93210\, France
CATEGORIES:Manifestations scientifiques
ATTACH;FMTTYPE=image/jpeg:https://www.mshparisnord.fr/wp-content/uploads/2022/06/oaklandsaintdenis-2022-250px.jpg
END:VEVENT
BEGIN:VEVENT
DTSTART;TZID=Europe/Paris:20230124T160000
DTEND;TZID=Europe/Paris:20230124T173000
DTSTAMP:20260419T202459
CREATED:20230120T084905Z
LAST-MODIFIED:20230123T103437Z
UID:10007558-1674576000-1674581400@www.mshparisnord.fr
SUMMARY:Webinaire\, (Dés)Humanisations numériques
DESCRIPTION:Le webinaire Canevas accueille Laurence McFalls pour une communication intitulée :\n(Dés)Humanisations numériques : Open Memory Box et les dangers d’une intervention numérique dans la politique mémorielle.  \nTout en présentant le dispositif numérique ayant permis la mise en ligne d’une collection de 415 heures de films de famille est-allemands\, cette présentation jettera un regard (auto)critique sur les techniques et pratiques de l’archivage audiovisuelle numérique. Malgré (ou à cause de) ses tentatives de combattre les effets de pouvoir de l’archive – d’autant plus totalitaire à l’époque du numérique\, le projet Open Memory Box\, avec son principe de « l’anti-archive »\, a réussi à raviver le travail mémoriel dans le contexte d’une Allemagne en mal d’unification plus de 30 ans après la chute de mur\, mais court aussi le risque de décontextualiser et de ré-assujettir les Allemands de l’est dont il s’agissait de revaloriser le passé. \nDiplômé de UCLA et de Harvard\, Laurence McFalls est depuis 1991 professeur de science politique à l’université de Montréal\, où il a co-fondé et dirigé le centre canadien d’études allemandes et européennes. Ses recherches et publications porte sur l’unification allemande; les théories sociales et épistémologies de Max Weber et de Michel Foucault ; et la critique du pouvoir « thérapeutique » de l’humanitarisme et du néolibéralisme. Avec le cinéaste-documentariste Alberto Herskovits\, il est co-créateur depuis 2012 de l’anti-archive numérique  www.Open-Memory-Box.de \nInformations pratiques\nmardi 24 janvier 2023\nconférence en distanciel via zoom\nde 16h à 17h30 \nPour participer\, demander un lien de connexion à Laurent Tessier l.tessier@icp.fr \n>> présentation du consortium Humanum Cannevas\nhttps://www.mshparisnord.fr/programmes/consortium-humanum-cannevas/
URL:https://www.mshparisnord.fr/event/webinaire-deshumanisations-numeriques/
LOCATION:MSH Paris Nord\, 20\, avenue George Sand\, La Plaine Saint-Denis\, Métro ligne 12 : « Front populaire »\, accessible aux personnes à mobilité réduite\, 93210\, France
CATEGORIES:Manifestations scientifiques
ATTACH;FMTTYPE=image/jpeg:https://www.mshparisnord.fr/wp-content/uploads/2023/01/canevas-webinaire-250px.jpg
END:VEVENT
BEGIN:VEVENT
DTSTART;TZID=Europe/Paris:20230125T083000
DTEND;TZID=Europe/Paris:20230125T173000
DTSTAMP:20260419T202459
CREATED:20220608T080413Z
LAST-MODIFIED:20221102T091639Z
UID:10007484-1674635400-1674667800@www.mshparisnord.fr
SUMMARY:Exposition\, In the Banlieues: Oakland/Saint-Denis
DESCRIPTION:In the Banlieues: Oakland / Saint-Denisécrire la ville collectivement\nSérie d’expositions internationales autour des banlieues en France et aux États-Unis\, In the Banlieues: Oakland/Saint-Denis est présentée simultanément à Paris\, à Saint-Denis notamment à la MSH Paris Nord\, à San Francisco et à Oakland. \nQuelle que soit la manière de les nommer – banlieues\, périphéries\, suburbs\, franges urbaines… cette exposition met en lumière le retournement symbolique du centre à la périphérie. Mouvements artistiques\, luttes sociales\, innovations urbaines : les banlieues d’Oakland en Californie et de Saint-Denis imposent aujourd’hui leur influence et inventent des solutions aux enjeux de pauvreté et de développement urbain accéléré auxquels les métropoles font face. \n“Rassemblant un corpus hybride d’images d’archives\, maquettes\, tableaux\, installations artistiques\, objets\, vidéos\, cette exposition explore les pratiques culturelles et habitantes en urbanisme. Des lieux\, des personnes\, des histoires les constituent\, dessinant\, loin des clichés\, des portraits de banlieues composites. Il y a urgence à reconnaître celles et ceux qui y vivent au jour le jour\, celles et ceux qui y travaillent et qui y créent.” June Grant et Laure Gayet\, co-commissaires de l’exposition. \nDates\n\n\nà Saint-Denis\n\nExposition à la Maison des Sciences de l’Homme Paris Nord du 17 septembre au 15 mars 2023 (prolongation)(attention\, la visite du 4e étage est possible seulement de 12h30 à 14h\, merci de votre compréhension)Vernissage festif et visites guidées lors des journées européennes du patrimoine\, le samedi 17 septembre 2022informations sur la page https://www.mshparisnord.fr/event/journees-europeennes-du-patrimoine-a-la-msh-paris-nord-2022/\ndans des espaces publics de Saint-Denis à partir de septembre 2022\nPerformances Spaces 25\, 29\, 30 juin et 1\, 2\, 6\, 7\, 9 juillet 2022 entre la Halle du Marché et la Basilique de Saint-Denis\n\n\nà San Francisco et à Oakland : de juillet à décembre 2022\nen ligne : City/Cité – le cycle de conférences invite plusieurs villes du monde à partager leurs innovations culturelles et urbaines à partir de septembre (dates à confirmer)\nà Paris\, au Pavillon de l’Arsenal du 15 juin à fin août 2022\n\n\n>> site du programme de coopération https://www.oaklandsaintdenis.org \nUn projet de recherche qui bénéficie du soutien de la MSH Paris Nord et de Plaine Commune dans le cadre de leur appel à projets commun. \nL’exposition est coproduite par le Pavillon de l’Arsenal\, la Villa Albertine San Francisco et California Humanities ; en partenariat avec SPUR San Francisco\, la Maison des Sciences de l’Homme Paris Nord ; avec le soutien de la fondation 836M\, l’Institut Français\, la Fondation Art Explora ; en collaboration avec les villes d’Oakland et de Saint-Denis\, Périféeries et avec la complicité d’Arte.
URL:https://www.mshparisnord.fr/event/exposition-in-the-banlieues-oakland-saint-denis/2023-01-25/
LOCATION:MSH Paris Nord\, 20\, avenue George Sand\, La Plaine Saint-Denis\, Métro ligne 12 : « Front populaire »\, accessible aux personnes à mobilité réduite\, 93210\, France
CATEGORIES:Manifestations scientifiques
ATTACH;FMTTYPE=image/jpeg:https://www.mshparisnord.fr/wp-content/uploads/2022/06/oaklandsaintdenis-2022-250px.jpg
END:VEVENT
BEGIN:VEVENT
DTSTART;TZID=Europe/Paris:20230125T140000
DTEND;TZID=Europe/Paris:20230125T170000
DTSTAMP:20260419T202459
CREATED:20230216T114840Z
LAST-MODIFIED:20230216T130853Z
UID:10006753-1674655200-1674666000@www.mshparisnord.fr
SUMMARY:Séminaire\, Pair-aidance : entre engagement et professionnalisation
DESCRIPTION:Alors que le concept de pair-aidance émerge graduellement dans le discours des politiques publiques de santé\, il importe que des chercheurs et des acteurs de terrain s’en saisissent. Si l’on peut définir rapidement la « pair-aidance » par l’aide et l’accompagnement entre personnes connaissant ou ayant connu les mêmes problèmes\, le concept conserve néanmoins de nombreuses ambiguïtés que ce séminaire se propose d’aborder\, dans une démarche exploratoire. Dans une perspective de science communautaire\, les invités sont aussi bien des universitaires que des acteurs de terrain (associatifs ou individuels) ; il est ouvert à ces deux populations conjointement. \nprogramme\n\nmercredi 21 septembre 2022\n◦ Benoît Eyraud\, Hélène Chiron – collectif CapDroit\n◦ La Trame\, plateforme d’inclusion citoyenne\nmercredi 23 novembre 2022\n◦ Olivia Gili – collectif de patient-e-s HUMAPSY\n◦ Jean-Michel Malouet – association Gaïa\, réduction des risques liés à la drogue\nmercredi 25 janvier 2023\n◦ Aurore Margat\, MCF sciences infirmières – USPN\, LEPS\n◦ Adriana Cassani\, Laetitia Regat\, Pascal Sauteron – Un chez-soi d’abord\, dispositif  d’appartements de coordination thérapeutique\nmercredi 29 mars 2023\n◦ Stéphane Zygart\, docteur en philosophie\, enseignant en philosophie et psychologie – Université de Lille\, UMR Savoirs Textes Langage\, Sciences Po Lille – Différenciations\, pluralités et seuils dans les relations d’aide et de pair-aidance\n◦ Alexandra Rinaldi et Aline Arnoux – Fondation Progetto Itaca\, dispositifs de pair-aidance et clubhouses (Italie) – projet Ending the Silence (NAMI)\nmercredi 24 mai 2023\n◦ Laura Chartain\, pair-aidance au Secours Populaire\n◦ Johann Cailhol et Frédérique Trévidy\, MCF en sciences de l’éducation – projet EVIDENSS de médiation en santé en pied d’immeubles\, USPN\, LEPS\n\nProjet porté par Fabien Hildwein\, Olivia Gross et Pascale Molinier \nInformations pratiques\nà la MSH Paris Nord\nde 14h à 17h \nUn projet de recherche qui bénéficie du soutien de la MSH Paris Nord dans le cadre de son appel à projets.
URL:https://www.mshparisnord.fr/event/seminaire-pair-aidance/2023-01-25/
LOCATION:MSH Paris Nord\, 20\, avenue George Sand\, La Plaine Saint-Denis\, Métro ligne 12 : « Front populaire »\, accessible aux personnes à mobilité réduite\, 93210\, France
CATEGORIES:Manifestations scientifiques
ATTACH;FMTTYPE=image/jpeg:https://www.mshparisnord.fr/wp-content/uploads/2023/02/pair-aidance-250px.jpg
END:VEVENT
BEGIN:VEVENT
DTSTART;TZID=Europe/Paris:20230126T083000
DTEND;TZID=Europe/Paris:20230126T173000
DTSTAMP:20260419T202459
CREATED:20220608T080413Z
LAST-MODIFIED:20221102T091639Z
UID:10007485-1674721800-1674754200@www.mshparisnord.fr
SUMMARY:Exposition\, In the Banlieues: Oakland/Saint-Denis
DESCRIPTION:In the Banlieues: Oakland / Saint-Denisécrire la ville collectivement\nSérie d’expositions internationales autour des banlieues en France et aux États-Unis\, In the Banlieues: Oakland/Saint-Denis est présentée simultanément à Paris\, à Saint-Denis notamment à la MSH Paris Nord\, à San Francisco et à Oakland. \nQuelle que soit la manière de les nommer – banlieues\, périphéries\, suburbs\, franges urbaines… cette exposition met en lumière le retournement symbolique du centre à la périphérie. Mouvements artistiques\, luttes sociales\, innovations urbaines : les banlieues d’Oakland en Californie et de Saint-Denis imposent aujourd’hui leur influence et inventent des solutions aux enjeux de pauvreté et de développement urbain accéléré auxquels les métropoles font face. \n“Rassemblant un corpus hybride d’images d’archives\, maquettes\, tableaux\, installations artistiques\, objets\, vidéos\, cette exposition explore les pratiques culturelles et habitantes en urbanisme. Des lieux\, des personnes\, des histoires les constituent\, dessinant\, loin des clichés\, des portraits de banlieues composites. Il y a urgence à reconnaître celles et ceux qui y vivent au jour le jour\, celles et ceux qui y travaillent et qui y créent.” June Grant et Laure Gayet\, co-commissaires de l’exposition. \nDates\n\n\nà Saint-Denis\n\nExposition à la Maison des Sciences de l’Homme Paris Nord du 17 septembre au 15 mars 2023 (prolongation)(attention\, la visite du 4e étage est possible seulement de 12h30 à 14h\, merci de votre compréhension)Vernissage festif et visites guidées lors des journées européennes du patrimoine\, le samedi 17 septembre 2022informations sur la page https://www.mshparisnord.fr/event/journees-europeennes-du-patrimoine-a-la-msh-paris-nord-2022/\ndans des espaces publics de Saint-Denis à partir de septembre 2022\nPerformances Spaces 25\, 29\, 30 juin et 1\, 2\, 6\, 7\, 9 juillet 2022 entre la Halle du Marché et la Basilique de Saint-Denis\n\n\nà San Francisco et à Oakland : de juillet à décembre 2022\nen ligne : City/Cité – le cycle de conférences invite plusieurs villes du monde à partager leurs innovations culturelles et urbaines à partir de septembre (dates à confirmer)\nà Paris\, au Pavillon de l’Arsenal du 15 juin à fin août 2022\n\n\n>> site du programme de coopération https://www.oaklandsaintdenis.org \nUn projet de recherche qui bénéficie du soutien de la MSH Paris Nord et de Plaine Commune dans le cadre de leur appel à projets commun. \nL’exposition est coproduite par le Pavillon de l’Arsenal\, la Villa Albertine San Francisco et California Humanities ; en partenariat avec SPUR San Francisco\, la Maison des Sciences de l’Homme Paris Nord ; avec le soutien de la fondation 836M\, l’Institut Français\, la Fondation Art Explora ; en collaboration avec les villes d’Oakland et de Saint-Denis\, Périféeries et avec la complicité d’Arte.
URL:https://www.mshparisnord.fr/event/exposition-in-the-banlieues-oakland-saint-denis/2023-01-26/
LOCATION:MSH Paris Nord\, 20\, avenue George Sand\, La Plaine Saint-Denis\, Métro ligne 12 : « Front populaire »\, accessible aux personnes à mobilité réduite\, 93210\, France
CATEGORIES:Manifestations scientifiques
ATTACH;FMTTYPE=image/jpeg:https://www.mshparisnord.fr/wp-content/uploads/2022/06/oaklandsaintdenis-2022-250px.jpg
END:VEVENT
BEGIN:VEVENT
DTSTART;TZID=Europe/Paris:20230126T163000
DTEND;TZID=Europe/Paris:20230126T183000
DTSTAMP:20260419T202459
CREATED:20221212T131021Z
LAST-MODIFIED:20230608T100908Z
UID:10006599-1674750600-1674757800@www.mshparisnord.fr
SUMMARY:Séminaire | Santé numérique en sciences humaines et sociales
DESCRIPTION:Le séminaire pluridisciplinaire sur la santé numérique en sciences humaines et sociales de notre groupe de travail a pour principale vocation l’élargissement des horizons théoriques\, conceptuels\, méthodologiques et pratiques en sciences sociales sur le thème de la santé impliquant l’usage d’une technologie numérique\, par le partage de réflexions\, de travaux de recherche\, de retour d’expérience. \n\nQuels peuvent être les apports des sciences sociales sur le sujet ?\nQuelles sont les perspectives en termes d’objets de recherche et de champ d’étude pour les sciences sociales ?\n\nDepuis plusieurs années\, le numérique transforme à la fois l’accès et le rapport à la santé et participe aux mutations de ce secteur dans la société. La covid-19 a accéléré ce mouvement et ouvert de nouveaux usages dont les conséquences concernent au premier chef les SHS (RGPD\, inégalités sociales de santé\, fracture numérique\, etc.). \nLa « santé numérique » est donc une notion protéiforme désignant un ensemble varié de technologies tels que les « big data »\, la télémédecine\, les téléphones mobiles et les applications santé associées\, les objets connectés (IoT)\, la robotique\, les technologies de réalité virtuelle\, l’Intelligence Artificielle (IA) et la génomique. \nLe recours à ces technologies en santé est présenté comme une solution à la fois par les décideurs politiques et les acteurs économiques de ce secteur. La transformation du domaine du numérique apparaît ainsi comme un défi que tous les acteurs de la société doivent relever : aussi bien les institutions et les entreprises que les individus\, qu’ils soient patient×es\, praticien×nes ou encore aidant.es. \nLeurs usages dans le domaine de la santé sont de plus en plus souvent considérés par les décideurs politiques comme « des solutions » aux différents défis posés par un système de santé à rationaliser\, afin d’assurer sa performance et son efficience. \nDans ce contexte\, les sciences sociales sont largement interrogées par l’ensemble des acteurs qui concourent au développement de nouveaux services numériques à destination de la santé humaine (physique comme psychique). Ces sollicitations concernent principalement l’enjeu du déploiement de ces services et concernent autant l’analyse des usages en situation réelle\, les questions d’acceptabilité\, d‘utilisabilité\, que celles des interactions entre les êtres humains et les machines. \nOutre les questions de bénéfices\, d’acceptabilité ou d’utilisabilité des outils numériques\, le séminaire abordera également les aspects socio-historiques du développement du secteur de la santé numérique. La connexité entre les méthodes utilisées en sociologie de la santé et du champ médical et en histoire comparative des sciences et des techniques contemporaines permet d’enrichir l’analyse de l’innovation et des acteurs dans le domaine de la santé numérique. \nProgramme\nVendredi 16 décembre 2022\, en distanciel \n\nSarah SANDRÉ\, historienne des sciences et des techniques contemporaines\, Laboratoire IRIS\nUne brève histoire des usages des réseaux sociaux\n\nJeudi 26 janvier 2023\, en distanciel \n\nFanny THOMAS\, sociologue\, université de Limoges\, Laboratoire HAVAE\nQuel capital symbolique pour la filière économique du numérique en santé ?\n\nMercredi 8 mars 2023 \n\n Laurène ASSAILLY\, politiste\, université de Strasbourg\, laboratoire SAGE\nDes soignants pour traiter des données : construire les entrepôts de données hospitaliers\, un travail médical\, en hybride\n\nVendredi 9 juin 2023\, en distanciel \n\nCécile THOMÉ\, post-doctorante en sociologie (Labex SMS/LISST-CERS)\n“Moi je voulais juste rentrer mes règles à la base.” Genèse et usages des applications de suivi du cycle menstruel\n\nVendredi 23 juin 2023 \n\nClôture du séminaire par une journée d’étude sur les « promesses technoscientifiques » à la MSH Paris Nord et en visio\nhttps://www.mshparisnord.fr/event/journee-detude-les-promesses-technoscientifiques-en-sante-numerique/\n\ninformations pratiques\nvendredi 16 décembre 2022\, en distanciel\nJeudi 26 janvier 2023\, en distanciel\nMercredi 8 mars 2023\nVendredi 9 juin 2023\, en distanciel\nVendredi 23 juin 2023 \nde 16h30 à 18h30\nlien de visio donné après inscription via l’adresse sandre.sarah@laposte.net ou lsarah12@gmail.com  \n>> télécharger la présentation du séminaire (docx)\nhttps://calenda.org/1038307?file=1 \n>> consulter la présentation du Réseau des Jeunes Chercheurs en Santé et Société\nhttps://www.mshparisnord.fr/partenaires/reseau-sante-societe/ \n>> consulter le carnet de recherche hypotheses du RJCSS\nhttps://rjcss.hypotheses.org/ \nOrganisé avec le groupe de travail ‘Santé Numérique’ du RJCSS. \nUn projet de recherche qui bénéficie du soutien de la MSH Paris Nord dans le cadre de son appel à projets.
URL:https://www.mshparisnord.fr/event/seminaire/2023-01-26/
LOCATION:MSH Paris Nord\, 20\, avenue George Sand\, La Plaine Saint-Denis\, Métro ligne 12 : « Front populaire »\, accessible aux personnes à mobilité réduite\, 93210\, France
ATTACH;FMTTYPE=image/jpeg:https://www.mshparisnord.fr/wp-content/uploads/2022/12/sante-numerique-250px-1.jpg
END:VEVENT
BEGIN:VEVENT
DTSTART;TZID=Europe/Paris:20230127T083000
DTEND;TZID=Europe/Paris:20230127T173000
DTSTAMP:20260419T202459
CREATED:20220608T080413Z
LAST-MODIFIED:20221102T091639Z
UID:10007486-1674808200-1674840600@www.mshparisnord.fr
SUMMARY:Exposition\, In the Banlieues: Oakland/Saint-Denis
DESCRIPTION:In the Banlieues: Oakland / Saint-Denisécrire la ville collectivement\nSérie d’expositions internationales autour des banlieues en France et aux États-Unis\, In the Banlieues: Oakland/Saint-Denis est présentée simultanément à Paris\, à Saint-Denis notamment à la MSH Paris Nord\, à San Francisco et à Oakland. \nQuelle que soit la manière de les nommer – banlieues\, périphéries\, suburbs\, franges urbaines… cette exposition met en lumière le retournement symbolique du centre à la périphérie. Mouvements artistiques\, luttes sociales\, innovations urbaines : les banlieues d’Oakland en Californie et de Saint-Denis imposent aujourd’hui leur influence et inventent des solutions aux enjeux de pauvreté et de développement urbain accéléré auxquels les métropoles font face. \n“Rassemblant un corpus hybride d’images d’archives\, maquettes\, tableaux\, installations artistiques\, objets\, vidéos\, cette exposition explore les pratiques culturelles et habitantes en urbanisme. Des lieux\, des personnes\, des histoires les constituent\, dessinant\, loin des clichés\, des portraits de banlieues composites. Il y a urgence à reconnaître celles et ceux qui y vivent au jour le jour\, celles et ceux qui y travaillent et qui y créent.” June Grant et Laure Gayet\, co-commissaires de l’exposition. \nDates\n\n\nà Saint-Denis\n\nExposition à la Maison des Sciences de l’Homme Paris Nord du 17 septembre au 15 mars 2023 (prolongation)(attention\, la visite du 4e étage est possible seulement de 12h30 à 14h\, merci de votre compréhension)Vernissage festif et visites guidées lors des journées européennes du patrimoine\, le samedi 17 septembre 2022informations sur la page https://www.mshparisnord.fr/event/journees-europeennes-du-patrimoine-a-la-msh-paris-nord-2022/\ndans des espaces publics de Saint-Denis à partir de septembre 2022\nPerformances Spaces 25\, 29\, 30 juin et 1\, 2\, 6\, 7\, 9 juillet 2022 entre la Halle du Marché et la Basilique de Saint-Denis\n\n\nà San Francisco et à Oakland : de juillet à décembre 2022\nen ligne : City/Cité – le cycle de conférences invite plusieurs villes du monde à partager leurs innovations culturelles et urbaines à partir de septembre (dates à confirmer)\nà Paris\, au Pavillon de l’Arsenal du 15 juin à fin août 2022\n\n\n>> site du programme de coopération https://www.oaklandsaintdenis.org \nUn projet de recherche qui bénéficie du soutien de la MSH Paris Nord et de Plaine Commune dans le cadre de leur appel à projets commun. \nL’exposition est coproduite par le Pavillon de l’Arsenal\, la Villa Albertine San Francisco et California Humanities ; en partenariat avec SPUR San Francisco\, la Maison des Sciences de l’Homme Paris Nord ; avec le soutien de la fondation 836M\, l’Institut Français\, la Fondation Art Explora ; en collaboration avec les villes d’Oakland et de Saint-Denis\, Périféeries et avec la complicité d’Arte.
URL:https://www.mshparisnord.fr/event/exposition-in-the-banlieues-oakland-saint-denis/2023-01-27/
LOCATION:MSH Paris Nord\, 20\, avenue George Sand\, La Plaine Saint-Denis\, Métro ligne 12 : « Front populaire »\, accessible aux personnes à mobilité réduite\, 93210\, France
CATEGORIES:Manifestations scientifiques
ATTACH;FMTTYPE=image/jpeg:https://www.mshparisnord.fr/wp-content/uploads/2022/06/oaklandsaintdenis-2022-250px.jpg
END:VEVENT
END:VCALENDAR