









BEGIN:VCALENDAR
VERSION:2.0
PRODID:-//Maison des Sciences Humaines et sociales Paris Nord - ECPv6.8.2.1//NONSGML v1.0//EN
CALSCALE:GREGORIAN
METHOD:PUBLISH
X-ORIGINAL-URL:https://www.mshparisnord.fr
X-WR-CALDESC:Évènements pour Maison des Sciences Humaines et sociales Paris Nord
REFRESH-INTERVAL;VALUE=DURATION:PT1H
X-Robots-Tag:noindex
X-PUBLISHED-TTL:PT1H
BEGIN:VTIMEZONE
TZID:Europe/Paris
BEGIN:DAYLIGHT
TZOFFSETFROM:+0100
TZOFFSETTO:+0200
TZNAME:CEST
DTSTART:20260329T010000
END:DAYLIGHT
BEGIN:STANDARD
TZOFFSETFROM:+0200
TZOFFSETTO:+0100
TZNAME:CET
DTSTART:20261025T010000
END:STANDARD
END:VTIMEZONE
BEGIN:VEVENT
DTSTART;TZID=Europe/Paris:20260114T183000
DTEND;TZID=Europe/Paris:20260114T203000
DTSTAMP:20260422T032307
CREATED:20260105T164050Z
LAST-MODIFIED:20260126T153305Z
UID:10008369-1768415400-1768422600@www.mshparisnord.fr
SUMMARY:Ateliers | Hommage à André Gorz
DESCRIPTION:Ateliers de recherche-création en écologie mentale\, sociale et environnementale\nCe cycle d’ateliers s’inscrit dans le cadre d’un projet de recherche de deux ans\, soutenu par la MSH Paris Nord et dirigé par Antonella Corsani. Le projet porte sur l’articulation éthico-politique des trois registres écologiques : celui de l’environnement\, celui des rapports sociaux\, celui de la subjectivité humaine (Guattari\, 1989) et s’inscrit dans une double perspective: celle de Félix Guattari et celle d’André Gorz. Pour Félix Guattari l’écologie politique ne doit pas se cantonner aux questions environnementales\, car elle serait non seulement inefficace mais aussi dangereuse. Félix Guattari percevait deux dérives possibles d’une écologie purement environnementale : une écologie droitière et conservatrice\, voire réactionnaire\, et l’écobusiness. Dans cette même perspective\, André Gorz a toujours insisté sur un point : il faut partir de la critique du capitalisme\, qui conduit nécessairement à l’écologie politique et pas l’inverse. \nL’objectif du projet est de contribuer à donner de la consistance théorique et politique à la notion d’écosophie en recherchant les articulations possibles entre l’écologie sociale\, l’écologie mentale et l’écologie environnementale à l’intérieur de la littérature critique de l’écologie politique et en poursuivant de cette sorte le chemin tracé par André Gorz et Félix Guattari. \nProgramme\n\n14 janvier\n\nMarx\, introduction par Michael Löwy \n\n\n11 février\n\nIvan Illich\, introduction par Raphaël Bourdier \n\n\n18 mars\n\nMurray Bookchin\, introduction par Antonella Corsani \n\n\n15 avril\n\nSerge Latouche\, introduction par Michel Lepesant \n\n\n20 mai\n\nSéance de clôture \n>> télécharger le flyer de présentation des ateliers (pdf) \nInformations pratiques\n\nles 14 janvier\, 11 février\, 18 mars\, 15 avril et 20 mai 2026\, de 18h30 à 20h30\nà la librairie Utopia\, 1 rue Frédéric Sauton\, Paris 5ème\nouvert à tous·tes\, dans la limite des places disponibles\n\nUn projet de recherche qui bénéficie du soutien de la MSH Paris Nord dans le cadre de son appel à projets annuel.
URL:https://www.mshparisnord.fr/event/hommage-gorz-2026/2026-01-14/
LOCATION:Librairie Utopia\, 1\, rue Frédéric Sauton\, Paris\, 75005\, France
CATEGORIES:Manifestations scientifiques
ATTACH;FMTTYPE=image/png:https://www.mshparisnord.fr/wp-content/uploads/2026/01/Ateliers-Hommage-a-Andre-Gorz-2026.png
END:VEVENT
BEGIN:VEVENT
DTSTART;TZID=Europe/Paris:20260115T090000
DTEND;TZID=Europe/Paris:20260115T163000
DTSTAMP:20260422T032307
CREATED:20251203T111333Z
LAST-MODIFIED:20260106T143239Z
UID:10008346-1768467600-1768494600@www.mshparisnord.fr
SUMMARY:Journée d’étude | Usages du droit & mobilisations écologiques
DESCRIPTION:GIS démocratie & participation\nLe 3 octobre 2024\, le Tribunal administratif de Poitiers annule deux projets visant à créer 15 réserves d’eau dites de « substitution »\, appelées « méga-bassines » par leurs opposant·es\, suite à sa saisine par des associations\, qui dénonçaient leur inadaptation aux effets du changement climatique. Ce cas illustre la connexion possible entre les mobilisations environnementales de terrain et les actions en justice. \nDe fait\, l’élargissement du répertoire d’action écologique comme sa conflictualisation ne signifient pas forcément une rupture avec des formes d’action plus institutionnalisées\, qui évoluent elles aussi\, comme en témoignent l’ampleur et les formes prises par les recours judiciaires. Si l’action en justice a toujours accompagné celle des mouvements écologistes\, désormais\, les luttes contre les grands projets\, contre des politiques publiques ou contre des acteurs économiques donnent particulièrement à voir les alliances possibles nouées entre les divers modes d’action qui sont loin d’être hermétiques. \nL’objectif de la journée d’étude est d’examiner\, dans leur diversité\, les effets de ces mobilisations du droit et de la justice par ou contre les mouvements écologistes\, mais aussi de chercher à mesurer leurs effets sur le droit lui-même. \nProgramme\n\n9h-9h15 : Accueil et présentation de la journée\n9h15-11h15 : Session 1 Les recours à la justice\nAnimée par Marine Fleury (maitresse de conférences de droit public\, université de Picardie Jules Verne\, CURAPP)\n\nChristophe Traïni (professeur de science politique\, Sciences po Aix\, MESOPOLHIS)\, Laura Canali (maitresse de conférences en droit public\, Nîmes université\, CHROME)\, Emma Feyeux (juriste\, responsable de projet inégalités et santé\, Notre affaire à Tous) et Clara Gonzales (juriste\, co-directrice du programme Entreprises et droits humains\, European Center for Constitutional and Human Rights (ECCHR)) \n\n11h30-13h30 : Session 2 La répression des mouvements écologistes\nAnimée par Patrice Melé (professeur de géographie\, université de Tours\, CITERES\, IUF)\n\nPablo Corroyer (chercheur associé au CERAPS (université de Lille) et au CERI (Sciences-Po))\, Julien Lagoutte (maître de conférences de droit privé\, HDR\, université de Bordeaux\, ISCJ) et Michel Prieur (professeur émérite de droit public\, université de Limoges\, CIDCE) \n\n14h30-16h30 : Session 3 La reconnaissance de droits à la Nature\nAnimée par Loïc Blondiaux (professeur de science politique\, Université Paris I\, CESSP)\n\nNadia Belaïdi (directrice de recherche\, droit et anthropologie\, CNRS\, MNHN)\, Pierre Brunet (professeur de droit public\, université Paris 1 Panthéon Sorbonne\, IRJS) et Carine David (professeure de droit public\, Aix Marseille université\, ILF – GERJC) \n>> télécharger le programme complet (pdf) \n>> accéder à la page de la journée d’étude sur le site du GIS démocratie et participation \n>> en savoir plus sur le GIS démocratie et participation \nInformations pratiques\n\nle jeudi 15 janvier 2026\, de 9h à 16h30\nà la MSH Paris Nord\nentrée libre sur inscription via ce lien
URL:https://www.mshparisnord.fr/event/droit-mobilisations-ecologiques/
LOCATION:MSH Paris Nord\, 20\, avenue George Sand\, La Plaine Saint-Denis\, Métro ligne 12 : « Front populaire »\, accessible aux personnes à mobilité réduite\, 93210\, France
CATEGORIES:Manifestations scientifiques
ATTACH;FMTTYPE=image/jpeg:https://www.mshparisnord.fr/wp-content/uploads/2026/01/usage-des-droits_mobilisations-ecologiques_15janvier2026.jpg
END:VEVENT
BEGIN:VEVENT
DTSTART;TZID=Europe/Paris:20260115T193000
DTEND;TZID=Europe/Paris:20260115T203000
DTSTAMP:20260422T032307
CREATED:20260114T170024Z
LAST-MODIFIED:20260114T170024Z
UID:10008374-1768505400-1768509000@www.mshparisnord.fr
SUMMARY:Spectacle | Bani Volta
DESCRIPTION:Issu d’un dialogue entre un artiste chorégraphique\, une vidéaste et quatre chercheur·ses en sciences humaines et sociales (anthropologie et études en danse)\, le projet de création et de recherche Bani-Volta s’inscrit dans une double actualité. Il rejoint\, d’une part\, des débats anciens mais de plus en plus audibles\, tant en Afrique qu’en Europe\, sur la question coloniale et ses enjeux politiques contemporains. Il tisse\, d’autre part\, des liens entre la guerre anti-coloniale du Bani-Volta (1915-1916) qui sert de point de départ au processus de recherche-création et les conflits du présent qui articulent attaques terroristes sans précédents et refus de l’arrogance et des dominations postcoloniales. À l’aune d’une pièce chorégraphique qui interroge et performe non seulement l’archive coloniale mais aussi les récits oraux de cette guerre et d’une série documentaire qui retrace l’ensemble de ce processus de recherche-création\, Bani-Volta entend constituer un espace réflexif et dialogique pour penser « en actes » les mémoires de la violence coloniale ainsi que les récits contemporains qu’elle peut faire émerger. Comment l’histoire de la violence coloniale\, traversée de non-dits et de silence\, peut-elle aujourd’hui faire surgir de nouvelles subjectivités tant au Burkina Faso qu’en France ? Quel peut être le rôle des artistes et des chercheurs pour faire advenir ces nouvelles dynamiques mémorielles ? Comment le corps constitue une archive vivante capable de soutenir l’élaboration de récits contemporains sur le passé colonial ? Comment\, à travers la réception d’un spectacle\, peut-on stimuler la production de mémoires plurielles ? \n>> accéder au cycle de séminaires Mémoires postcoloniales et pouvoir d’agir en danse \nProgramme du spectacle\nLe danseur et chorégraphe Bienvenue Bazié croit fermement en la puissance de la danse pour raviver les mémoires enfouies. Ainsi\, il convoque récits et témoignages de la guerre du Bani-Volta\, événement majeur de la résistance anti-coloniale au Burkina Faso pour entamer\, avec dix danseurs\, un dialogue plus vaste sur l’écriture de l’histoire et ses oublis. \n>> voir le spectacle sur le site du Théâtre national de la danse – Chaillot \nInformations pratiques\n\njeudi 15\, vendredi 16 janvier 2026 à 19h30 ; samedi 17 janvier 2026 à 17h\nau Théâtre national de la danse – Chaillot\nréservation obligatoire\, billet disponibles ici\n\nUn projet de recherche qui bénéficie du soutien de la MSH Paris Nord dans le cadre de son appel à projets annuel.
URL:https://www.mshparisnord.fr/event/bani-volta-2/2026-01-15/
LOCATION:Théâtre national de la danse – Chaillot\, 1 place du Trocadéro\, Paris\, 75116\, France
CATEGORIES:Manifestations scientifiques
ATTACH;FMTTYPE=image/png:https://www.mshparisnord.fr/wp-content/uploads/2026/01/Bani-Volta-Chaillot.png
END:VEVENT
BEGIN:VEVENT
DTSTART;TZID=Europe/Paris:20260116T193000
DTEND;TZID=Europe/Paris:20260116T203000
DTSTAMP:20260422T032307
CREATED:20260114T170024Z
LAST-MODIFIED:20260114T170024Z
UID:10008375-1768591800-1768595400@www.mshparisnord.fr
SUMMARY:Spectacle | Bani Volta
DESCRIPTION:Issu d’un dialogue entre un artiste chorégraphique\, une vidéaste et quatre chercheur·ses en sciences humaines et sociales (anthropologie et études en danse)\, le projet de création et de recherche Bani-Volta s’inscrit dans une double actualité. Il rejoint\, d’une part\, des débats anciens mais de plus en plus audibles\, tant en Afrique qu’en Europe\, sur la question coloniale et ses enjeux politiques contemporains. Il tisse\, d’autre part\, des liens entre la guerre anti-coloniale du Bani-Volta (1915-1916) qui sert de point de départ au processus de recherche-création et les conflits du présent qui articulent attaques terroristes sans précédents et refus de l’arrogance et des dominations postcoloniales. À l’aune d’une pièce chorégraphique qui interroge et performe non seulement l’archive coloniale mais aussi les récits oraux de cette guerre et d’une série documentaire qui retrace l’ensemble de ce processus de recherche-création\, Bani-Volta entend constituer un espace réflexif et dialogique pour penser « en actes » les mémoires de la violence coloniale ainsi que les récits contemporains qu’elle peut faire émerger. Comment l’histoire de la violence coloniale\, traversée de non-dits et de silence\, peut-elle aujourd’hui faire surgir de nouvelles subjectivités tant au Burkina Faso qu’en France ? Quel peut être le rôle des artistes et des chercheurs pour faire advenir ces nouvelles dynamiques mémorielles ? Comment le corps constitue une archive vivante capable de soutenir l’élaboration de récits contemporains sur le passé colonial ? Comment\, à travers la réception d’un spectacle\, peut-on stimuler la production de mémoires plurielles ? \n>> accéder au cycle de séminaires Mémoires postcoloniales et pouvoir d’agir en danse \nProgramme du spectacle\nLe danseur et chorégraphe Bienvenue Bazié croit fermement en la puissance de la danse pour raviver les mémoires enfouies. Ainsi\, il convoque récits et témoignages de la guerre du Bani-Volta\, événement majeur de la résistance anti-coloniale au Burkina Faso pour entamer\, avec dix danseurs\, un dialogue plus vaste sur l’écriture de l’histoire et ses oublis. \n>> voir le spectacle sur le site du Théâtre national de la danse – Chaillot \nInformations pratiques\n\njeudi 15\, vendredi 16 janvier 2026 à 19h30 ; samedi 17 janvier 2026 à 17h\nau Théâtre national de la danse – Chaillot\nréservation obligatoire\, billet disponibles ici\n\nUn projet de recherche qui bénéficie du soutien de la MSH Paris Nord dans le cadre de son appel à projets annuel.
URL:https://www.mshparisnord.fr/event/bani-volta-2/2026-01-16/
LOCATION:Théâtre national de la danse – Chaillot\, 1 place du Trocadéro\, Paris\, 75116\, France
CATEGORIES:Manifestations scientifiques
ATTACH;FMTTYPE=image/png:https://www.mshparisnord.fr/wp-content/uploads/2026/01/Bani-Volta-Chaillot.png
END:VEVENT
BEGIN:VEVENT
DTSTART;TZID=Europe/Paris:20260117T170000
DTEND;TZID=Europe/Paris:20260117T180000
DTSTAMP:20260422T032307
CREATED:20260114T170024Z
LAST-MODIFIED:20260114T170024Z
UID:10008376-1768669200-1768672800@www.mshparisnord.fr
SUMMARY:Spectacle | Bani Volta
DESCRIPTION:Issu d’un dialogue entre un artiste chorégraphique\, une vidéaste et quatre chercheur·ses en sciences humaines et sociales (anthropologie et études en danse)\, le projet de création et de recherche Bani-Volta s’inscrit dans une double actualité. Il rejoint\, d’une part\, des débats anciens mais de plus en plus audibles\, tant en Afrique qu’en Europe\, sur la question coloniale et ses enjeux politiques contemporains. Il tisse\, d’autre part\, des liens entre la guerre anti-coloniale du Bani-Volta (1915-1916) qui sert de point de départ au processus de recherche-création et les conflits du présent qui articulent attaques terroristes sans précédents et refus de l’arrogance et des dominations postcoloniales. À l’aune d’une pièce chorégraphique qui interroge et performe non seulement l’archive coloniale mais aussi les récits oraux de cette guerre et d’une série documentaire qui retrace l’ensemble de ce processus de recherche-création\, Bani-Volta entend constituer un espace réflexif et dialogique pour penser « en actes » les mémoires de la violence coloniale ainsi que les récits contemporains qu’elle peut faire émerger. Comment l’histoire de la violence coloniale\, traversée de non-dits et de silence\, peut-elle aujourd’hui faire surgir de nouvelles subjectivités tant au Burkina Faso qu’en France ? Quel peut être le rôle des artistes et des chercheurs pour faire advenir ces nouvelles dynamiques mémorielles ? Comment le corps constitue une archive vivante capable de soutenir l’élaboration de récits contemporains sur le passé colonial ? Comment\, à travers la réception d’un spectacle\, peut-on stimuler la production de mémoires plurielles ? \n>> accéder au cycle de séminaires Mémoires postcoloniales et pouvoir d’agir en danse \nProgramme du spectacle\nLe danseur et chorégraphe Bienvenue Bazié croit fermement en la puissance de la danse pour raviver les mémoires enfouies. Ainsi\, il convoque récits et témoignages de la guerre du Bani-Volta\, événement majeur de la résistance anti-coloniale au Burkina Faso pour entamer\, avec dix danseurs\, un dialogue plus vaste sur l’écriture de l’histoire et ses oublis. \n>> voir le spectacle sur le site du Théâtre national de la danse – Chaillot \nInformations pratiques\n\njeudi 15\, vendredi 16 janvier 2026 à 19h30 ; samedi 17 janvier 2026 à 17h\nau Théâtre national de la danse – Chaillot\nréservation obligatoire\, billet disponibles ici\n\nUn projet de recherche qui bénéficie du soutien de la MSH Paris Nord dans le cadre de son appel à projets annuel.
URL:https://www.mshparisnord.fr/event/bani-volta-2/2026-01-17/
LOCATION:Théâtre national de la danse – Chaillot\, 1 place du Trocadéro\, Paris\, 75116\, France
CATEGORIES:Manifestations scientifiques
ATTACH;FMTTYPE=image/png:https://www.mshparisnord.fr/wp-content/uploads/2026/01/Bani-Volta-Chaillot.png
END:VEVENT
END:VCALENDAR