

BEGIN:VCALENDAR
VERSION:2.0
PRODID:-//Maison des Sciences Humaines et sociales Paris Nord - ECPv6.8.2.1//NONSGML v1.0//EN
CALSCALE:GREGORIAN
METHOD:PUBLISH
X-WR-CALNAME:Maison des Sciences Humaines et sociales Paris Nord
X-ORIGINAL-URL:https://www.mshparisnord.fr
X-WR-CALDESC:Évènements pour Maison des Sciences Humaines et sociales Paris Nord
REFRESH-INTERVAL;VALUE=DURATION:PT1H
X-Robots-Tag:noindex
X-PUBLISHED-TTL:PT1H
BEGIN:VTIMEZONE
TZID:Europe/Paris
BEGIN:DAYLIGHT
TZOFFSETFROM:+0100
TZOFFSETTO:+0200
TZNAME:CEST
DTSTART:20260329T010000
END:DAYLIGHT
BEGIN:STANDARD
TZOFFSETFROM:+0200
TZOFFSETTO:+0100
TZNAME:CET
DTSTART:20261025T010000
END:STANDARD
END:VTIMEZONE
BEGIN:VEVENT
DTSTART;TZID=Europe/Paris:20260402T090000
DTEND;TZID=Europe/Paris:20260402T210000
DTSTAMP:20260420T102503
CREATED:20260323T174849Z
LAST-MODIFIED:20260325T092501Z
UID:10008439-1775120400-1775163600@www.mshparisnord.fr
SUMMARY:Atelier | La santé fluviale\, une nouvelle question pour les sciences humaines et sociales
DESCRIPTION:Atelier de lancement du projet Fluvioscope\nLe projet Fluvioscope\, prendre soin des fleuves\, regards croisés en France et en Europe\, coordonné par la MSH Val de Loire en partenariat inter-MSH (MSH Ange Guépin\, MSH Clermont-Ferrand\, MSH Paris Nord\, MSH Mondes\, MISHA) et avec l’équipe du projet BatoLabo\, a pour objectif d’interroger la notion de « santé des fleuves » qui implique un renouvellement des approches en sciences humaines et sociales. \nLe projet vise à initier une réflexion interdisciplinaire sur la santé des fleuves autour de trois axes : explorer les relations entre humains et non-humains\, questionner le partage des savoirs\, et interroger la fabrique des droits de la nature. Il s’appuie sur des ateliers thématiques organisés au sein de MSH partenaires et sur des résidences embarquées et des escales en lien avec Batolabo\, un projet de navigation artistique et scientifique sur les fleuves\, les rivières et les canaux d’Europe – de la Loire au delta du Danube – à bord de La Fillonnerie\, un chaland de Loire\, de septembre 2025 à juin 2026. \nCe premier atelier a pour objectif de poser un cadre de réflexion\, d’analyse et de conceptualisation autour de la notion de « santé des fleuves ». Plusieurs présentations permettront d’introduire et d’alimenter cette réflexion\, avant un temps d’échanges entre les participants\, dont un moment dédié à la pause méridienne avec l’équipe BatoLabo. \nUn atelier de co-écriture sera ensuite proposé afin de construire collectivement ce cadre dans la perspective de la rédaction d’un article scientifique. \nLa journée se conclura par un banquet festif organisé par les étudiants de la HEAR et l’équipe BatoLabo\, qui présenteront leur travail en lien avec le Festival du Rhin\, des fleuves et des rivières. \nProgramme\n\n9h00 : Mot d’accueil\n9h15 : Le Rhin\, une histoire naturelle et culturelle\, et perspectives de gestion durable\n\navec Laurent Schmitt (professeur de géographie\, université de Strasbourg) \n\n9h45 : Apports des études anthropologiques des relations nature/société. Quel(s) savoir(s) pour quel(s) partage(s)\n\navec Émilie Mariat-Roy (maître de conférences en anthropologie de l’environnement\, MSH Val de Loire\, université de Tours) \n\n10h15 : La perception par le droit des relations entre humains et autres qu’humains (droit positif-droit prospectif)\n\nMarie-Pierre Camproux Duffrene (professeur de droit privé\, université de Strasbourg) \n\n10h45 : Eau… au-delà des frontières\n\navec Matthias Wantzen (professeur d’écologie\, université de Strasbourg/université de Tours) \n\n11h15 : Fluvioscope : Prendre soin des fleuves\, regards croisés en France et en Europe\n\navec Mathieu Bonnefond (maître de conférences en géographie de l’environnement\, université de Tours) \n\n11h45 : Présentation du projet BatoLabo\n\navec Ninon Bardet et Lucas Spadaro\, équipe du projet Batolabo \n\n12h30 – 14h : Temps d’échange avec l’équipe du projet Batolabo\n14h – 17h : Atelier d’écriture réservé aux scientifiques\n\nSe basant sur les présentations et les échanges de la matinée\, cet atelier d’écriture a pour but d’initier une discussion autour de la « santé des fleuves »\, pour établir un cadre structuré dans le but de produire une publication scientifique interdisciplinaire.\nObjectif : co-écriture d’un article scientifique sur la santé fluviale du type opinion paper. \n\n18h00 – 19h30 : Émission de radio en direct animé par un groupe d’étudiants de la HEAR\n19h30 : Banquet festif\n\nInformations pratiques\n\nle jeudi 2 avril\, dès 9h\nà la MISHA – université de Strasbourg\nouvert à tous·tes\n\n>> en savoir plus sur la MISHA \n>> en savoir plus sur le RnMSH \n>> accéder à l’événement Batolabo organisé sur l’Île-Saint-Denis en octobre 2025 \nUn projet de recherche qui bénéficie du soutien du Réseau National des Maisons des Sciences sociales et des Humanités dans le cadre de son appel à projets inter-MSH.
URL:https://www.mshparisnord.fr/event/atelier-lancement-fluvioscope/
LOCATION:Maison interuniversitaire des sciences de l’homme – Alsace (MISHA)\, Allée du Général Rouvillois\, Strasbourg\, 67000\, France
CATEGORIES:Manifestations scientifiques
ATTACH;FMTTYPE=image/jpeg:https://www.mshparisnord.fr/wp-content/uploads/2026/03/Fluvioscope-2-avril-2026.jpg
END:VEVENT
BEGIN:VEVENT
DTSTART;TZID=Europe/Paris:20260403T093000
DTEND;TZID=Europe/Paris:20260403T180000
DTSTAMP:20260420T102503
CREATED:20260325T134945Z
LAST-MODIFIED:20260414T141502Z
UID:10008455-1775208600-1775239200@www.mshparisnord.fr
SUMMARY:Colloque | La démocratie militante
DESCRIPTION:Libéralisme politique\, autoritarisme et la figure de l’ennemi intérieur\nLe colloque du GIS Démocratie & Participation La démocratie militante. Libéralisme politique\, autoritarisme et la figure de l’ennemi intérieur se tient à Lille les 2 et 3 avril 2026. \n>> télécharger le programme complet (pdf) \nProgramme\nJeudi 2 avril – Sciences Po Lille \n\n9h15 : Introduction\nCécile Leconte (Sciences Po Lille\, Ceraps)\, Christophe Parent (université de Lille\, CRDP)\, Julien Talpin (CNRS\, Ceraps)\n9h30 : Keynote Militant Democracy US-Style\nMark Graber (university of Maryland\, Carey School of Law)\n10h : Panel 1 Sociogenèse et théorisation\nDiscutant : Christophe Parent (Université de Lille\, CRDP)\n\navec Erwan Sommerer (université d’Angers\, Centre Jean Bodin)\, Uwe Backes (TU Dresden\, Hannah-Arendt Zentrum für Totalitarismusfoschung)\, Myriam Ait Aoudia (université de Picardie Jules Verne\, Curapp-Ess) et Clotilde Nouet \n\n14h : Panel 2 Échelles\nDiscutant : Emmanuel Cartier (Université de Lille\, CRDP)\n\navec Augustin Berthout (université de Nîmes)\, Cynthia Boyer (INU Champollion\, université de Toulouse) et Yann Lorans \n\n16h15 : Panel 3 Instruments\nDiscutante : Céleste Bonnmamy (Sciences Po Lille\, Ceraps) ; Modératrice : Cécile Leconte (Sciences Po Lille\, Ceraps)\n\navec Ruth Weber (Deutsche Universität für Verwaltungswissenschaften Speyer)\, Hugues Dumont (UCLouvain Saint-Louis Bruxelles)\, Johanna Fink et Marc André Bovermann \n\n18h15 : Conférence 37 years of editing the Jahrbuch für Extremismus und Demokratie\npar le professeur Uwe Backes\n\n\nVendredi 3 avril – université de Lille (Faculté des Sciences Juridiques\, Politiques et Sociales) \n\n9h30 : Panel 4 Les acteurs de la démocratie militante\nDiscutantes : Dorothée Reignier et Cécile Leconte (Sciences Po Lille\, Ceraps)\n\navec Angela Bourne (Roskilde University)\, Markoni Gonzalez Pichihua (université Panthéon Assas)\, Antonio Athayde Sauandaj (université Paris 1 Panthéon-Sorbonne\, CESSP) et Lucas Lemaitre (université Panthéon Assas) \n\n14h : Panel 5 Représentations de « l’ennemi intérieur »\nDiscutant : Dietmar Loch (université de Lille\, Clersé)\n\navec Justine Guichard (université Paris Cité\, Centre de Recherche sur la Corée\, EHESS-CNRS-UP Cité)\, Alexis Blouët (université d’Aix en Provence\, Institut Louis Favoreu – GERJC) et Bénédicte Laumont (université de Versailles St-Quentin-en-Yvelines\, CESDIP) \n\n16h15 : Panel 6 Extension du domaine de la démocratie militante\nDiscutant : Julien Talpin (université de Lille\, Ceraps)\n\navec Matthias Levalet (Sciences Po Bordeaux\, Centre Emile Durkheim) et Vincent Valentin (Sciences Po Rennes) \n\n17h30 : Conclusions\n\nInformations pratiques\n\nles jeudi 2 et vendredi 3 avril 2026\nle 2 avril à Sciences Po Lille et le 3 avril à l’université de Lille\nouvert à tous·tes\, sur inscription à ce lien\n\n>> en savoir plus sur le GIS Démocratie & Participation
URL:https://www.mshparisnord.fr/event/colloque-democratie-militante/2026-04-03/
LOCATION:MSH Paris Nord\, 20\, avenue George Sand\, La Plaine Saint-Denis\, Métro ligne 12 : « Front populaire »\, accessible aux personnes à mobilité réduite\, 93210\, France
CATEGORIES:Manifestations scientifiques
ATTACH;FMTTYPE=image/jpeg:https://www.mshparisnord.fr/wp-content/uploads/2026/03/democratiemilitante_2-3avril2026.jpg
END:VEVENT
BEGIN:VEVENT
DTSTART;TZID=Europe/Paris:20260403T140000
DTEND;TZID=Europe/Paris:20260403T170000
DTSTAMP:20260420T102503
CREATED:20260218T154509Z
LAST-MODIFIED:20260320T152522Z
UID:10008394-1775224800-1775235600@www.mshparisnord.fr
SUMMARY:Workshop | Comment se dit la souffrance psychique aujourd’hui ?
DESCRIPTION:Psychanalyse et Sciences Sociales\, regards croisés\nDans notre travail clinique\, nous écoutons la manière dont le sujet exprime sa souffrance\, la comprend et lui donne forme aujourd’hui. En effet\, la façon de structurer la souffrance\, de se la représenter\, de la dire et de lui donner corps\, de formuler une demande varient et changent. Ces transformations\, à la fois dans la forme que prend le symptôme mais aussi dans le rapport que le sujet entretient à celui-ci\, semblent relatives à des mutations collectives historiques et sociales. Certes\, le symptôme est\, du point du vue psychanalytique\, le lieu d’une problématique subjective. Or\, il est également articulé avec le tissu social\, le discours de notre époque et les institutions qui l’accueillent et qui le reconnaissent comme tel. Cela ouvre une nécessité de la création d’un espace d’échange interdisciplinaire qui porte un regard croisé – psychanalyse et sciences sociales – et qui interroge cette jonction du symptôme et du social. Il s’agit de voir et d’analyser comment vie psychique et conditions sociales et historiques convergent pour donner forme à notre manière de structurer la souffrance psychique et de se positionner face au symptôme. Il en va de même avec la conception de la “guérison”\, de la maladie\, de ce que le sujet demande\, de la manière dont il formule sa demande et à qui il la destine. Ces éléments changent en fonction de certains idéaux socialement déterminés\, d’une certaine conception anthropologique\, etc. Il s’agit donc de penser la manière dont le sujet se rapporte à sa souffrance\, la dit et comment ce rapport conditionne sa demande de soin. \nProgramme\n\n3 avril 2026\, à la MSH Paris Nord (salle panoramique)\n\nPremier workshop avec Alain Ehrenberg (Directeur de recherche émérite/Research Senior Fellow emeritus\, CNRS\, CERMES3\, université de Paris-Cité\, EHESS\, INSERM) \n\n\n26 juin 2026\, à la MSH Paris Nord (amphithéâtre)\n\nSecond workshop avec Richard Rechtman (directeur d’études de l’EHESS\, anthropologue\, psychiatre) \n\nInformations pratiques\n\nle vendredi 3 avril et le vendredi 26 juin 2026\, de 14h à 17h\nà la MSH Paris Nord\nouvert aux étudiant·es\, doctorant·es et chercheur·es\n\nUn projet de recherche qui bénéficie du soutien de la MSH Paris Nord dans le cadre de son appel à projets annuel.
URL:https://www.mshparisnord.fr/event/workshop-dire-souffrance-psychique/2026-04-03/
LOCATION:MSH Paris Nord\, 20\, avenue George Sand\, La Plaine Saint-Denis\, Métro ligne 12 : « Front populaire »\, accessible aux personnes à mobilité réduite\, 93210\, France
CATEGORIES:Manifestations scientifiques
ATTACH;FMTTYPE=image/jpeg:https://www.mshparisnord.fr/wp-content/uploads/2026/02/A3-souffrance-psychique-generique.jpg
END:VEVENT
END:VCALENDAR